BEGIN:VCALENDAR
VERSION:2.0
PRODID:-//134.96.226.213//NONSGML kigkonsult.se iCalcreator 2.41.71//
CALSCALE:GREGORIAN
METHOD:PUBLISH
UID:32343336-3334-4930-a566-353835353837
X-WR-CALNAME:Software Engineering Lab (Software-Praktikum) Calendar
X-WR-CALDESC:Events of the lecture Software Engineering Lab (Software-Prakt
 ikum)
X-WR-TIMEZONE:Europe/Berlin
BEGIN:VEVENT
UID:33626564-3933-4164-a234-313236396533
DTSTAMP:20260421T112034Z
DESCRIPTION:
DTSTART:20240826T073000Z
DTEND:20240826T090000Z
LOCATION:GHH
SUMMARY:Se: Lecture: Organizational Matters\, Introduction\, Design
END:VEVENT
BEGIN:VEVENT
UID:65653364-3165-4264-b132-663334616361
DTSTAMP:20260421T112034Z
DESCRIPTION:
DTSTART:20240826T093000Z
DTEND:20240826T110000Z
LOCATION:GHH
SUMMARY:Se: Lecture: Design
END:VEVENT
BEGIN:VEVENT
UID:64373539-6535-4161-b161-373933326433
DTSTAMP:20260421T112034Z
DESCRIPTION:
DTSTART:20240827T073000Z
DTEND:20240827T090000Z
LOCATION:GHH
SUMMARY:Se: Lecture: Design
END:VEVENT
BEGIN:VEVENT
UID:36373530-3539-4433-a639-366264396565
DTSTAMP:20260421T112034Z
DESCRIPTION:
DTSTART:20240827T093000Z
DTEND:20240827T110000Z
LOCATION:GHH
SUMMARY:Se: Lecture: Design
END:VEVENT
BEGIN:VEVENT
UID:63373734-3035-4135-b665-643335613266
DTSTAMP:20260421T112034Z
DESCRIPTION:
DTSTART:20240828T073000Z
DTEND:20240828T090000Z
LOCATION:GHH
SUMMARY:Se: Lecture: Kotlin Introduction
END:VEVENT
BEGIN:VEVENT
UID:63623938-6130-4437-b538-643632623531
DTSTAMP:20260421T112034Z
DESCRIPTION:
DTSTART:20240828T093000Z
DTEND:20240828T110000Z
LOCATION:GHH
SUMMARY:Se: Lecture: Design Patterns
END:VEVENT
BEGIN:VEVENT
UID:38393666-6163-4262-a639-326134383430
DTSTAMP:20260421T112034Z
DESCRIPTION:
DTSTART:20240829T073000Z
DTEND:20240829T090000Z
LOCATION:GHH
SUMMARY:Se: Lecture: Design Patterns
END:VEVENT
BEGIN:VEVENT
UID:63383762-6138-4265-a638-316261626338
DTSTAMP:20260421T112034Z
DESCRIPTION:
DTSTART:20240829T093000Z
DTEND:20240829T110000Z
LOCATION:GHH
SUMMARY:Se: Lecture: Design Patterns
END:VEVENT
BEGIN:VEVENT
UID:38323031-3234-4330-b733-666433333265
DTSTAMP:20260421T112034Z
DESCRIPTION:
DTSTART:20240902T073000Z
DTEND:20240902T090000Z
LOCATION:GHH
SUMMARY:Se: Lecture: Testing
END:VEVENT
BEGIN:VEVENT
UID:39656432-6135-4165-a531-343431386135
DTSTAMP:20260421T112034Z
DESCRIPTION:
DTSTART:20240902T093000Z
DTEND:20240902T110000Z
LOCATION:GHH
SUMMARY:Se: Lecture (Best and Bad Practices) / On-Site Office Hour for Tech
 nical Problems
END:VEVENT
BEGIN:VEVENT
UID:36343336-3136-4863-b763-376461613336
DTSTAMP:20260421T112034Z
DESCRIPTION:
DTSTART:20240903T073000Z
DTEND:20240903T090000Z
LOCATION:GHH
SUMMARY:Se: Lecture: Testing\, Presentation of Group-Phase Project
END:VEVENT
BEGIN:VEVENT
UID:36663237-3737-4431-b531-316664396339
DTSTAMP:20260421T112034Z
DESCRIPTION:
DTSTART:20240904T073000Z
DTEND:20240904T090000Z
LOCATION:GHH
SUMMARY:Se: Lecture: git and Teamwork
END:VEVENT
BEGIN:VEVENT
UID:61306131-3236-4136-b630-323734633635
DTSTAMP:20260421T112034Z
DESCRIPTION:
DTSTART:20240905T073000Z
DTEND:20240905T090000Z
LOCATION:GHH
SUMMARY:Se: Lecture: Code Review and Continuous Integration
END:VEVENT
BEGIN:VEVENT
UID:31343032-6534-4134-a331-353238346136
DTSTAMP:20260421T112034Z
DESCRIPTION:
DTSTART:20240930T073000Z
DTEND:20240930T090000Z
LOCATION:GHH
SUMMARY:Se: Lecture: Preparation for Individual Phase
END:VEVENT
END:VCALENDAR
