BEGIN:VCALENDAR
VERSION:2.0
PRODID:-//134.96.226.213//NONSGML kigkonsult.se iCalcreator 2.41.71//
CALSCALE:GREGORIAN
METHOD:PUBLISH
UID:37663762-3536-4762-b739-316165653564
X-WR-CALNAME:Software Engineering Lab (Software-Praktikum) Calendar
X-WR-CALDESC:Events of the lecture Software Engineering Lab (Software-Prakt
 ikum)
X-WR-TIMEZONE:Europe/Berlin
BEGIN:VEVENT
UID:65363236-6435-4137-a161-373935636261
DTSTAMP:20260421T111900Z
DESCRIPTION:
DTSTART:20240826T073000Z
DTEND:20240826T090000Z
LOCATION:GHH
SUMMARY:Lecture: Organizational Matters\, Introduction\, Design
END:VEVENT
BEGIN:VEVENT
UID:61396436-3230-4235-a466-313737643337
DTSTAMP:20260421T111900Z
DESCRIPTION:
DTSTART:20240826T093000Z
DTEND:20240826T110000Z
LOCATION:GHH
SUMMARY:Lecture: Design
END:VEVENT
BEGIN:VEVENT
UID:38303835-3636-4631-b830-366538666237
DTSTAMP:20260421T111900Z
DESCRIPTION:
DTSTART:20240827T073000Z
DTEND:20240827T090000Z
LOCATION:GHH
SUMMARY:Lecture: Design
END:VEVENT
BEGIN:VEVENT
UID:65303262-3862-4462-a566-393765363937
DTSTAMP:20260421T111900Z
DESCRIPTION:
DTSTART:20240827T093000Z
DTEND:20240827T110000Z
LOCATION:GHH
SUMMARY:Lecture: Design
END:VEVENT
BEGIN:VEVENT
UID:65363163-6238-4764-b837-323762363832
DTSTAMP:20260421T111900Z
DESCRIPTION:
DTSTART:20240828T073000Z
DTEND:20240828T090000Z
LOCATION:GHH
SUMMARY:Lecture: Kotlin Introduction
END:VEVENT
BEGIN:VEVENT
UID:36633466-3634-4332-b730-373032643764
DTSTAMP:20260421T111900Z
DESCRIPTION:
DTSTART:20240828T093000Z
DTEND:20240828T110000Z
LOCATION:GHH
SUMMARY:Lecture: Design Patterns
END:VEVENT
BEGIN:VEVENT
UID:30653163-6664-4065-a663-613631643132
DTSTAMP:20260421T111900Z
DESCRIPTION:
DTSTART:20240829T073000Z
DTEND:20240829T090000Z
LOCATION:GHH
SUMMARY:Lecture: Design Patterns
END:VEVENT
BEGIN:VEVENT
UID:35303333-3464-4536-a535-656566353439
DTSTAMP:20260421T111900Z
DESCRIPTION:
DTSTART:20240829T093000Z
DTEND:20240829T110000Z
LOCATION:GHH
SUMMARY:Lecture: Design Patterns
END:VEVENT
BEGIN:VEVENT
UID:32303561-3134-4532-b738-666332333164
DTSTAMP:20260421T111900Z
DESCRIPTION:
DTSTART:20240902T073000Z
DTEND:20240902T090000Z
LOCATION:GHH
SUMMARY:Lecture: Testing
END:VEVENT
BEGIN:VEVENT
UID:62653561-3365-4332-b431-353561623065
DTSTAMP:20260421T111900Z
DESCRIPTION:
DTSTART:20240902T093000Z
DTEND:20240902T110000Z
LOCATION:GHH
SUMMARY:Lecture (Best and Bad Practices) / On-Site Office Hour for Technica
 l Problems
END:VEVENT
BEGIN:VEVENT
UID:64363062-3237-4564-b465-333233343165
DTSTAMP:20260421T111900Z
DESCRIPTION:
DTSTART:20240903T073000Z
DTEND:20240903T090000Z
LOCATION:GHH
SUMMARY:Lecture: Testing\, Presentation of Group-Phase Project
END:VEVENT
BEGIN:VEVENT
UID:61623335-3063-4331-b262-386431326238
DTSTAMP:20260421T111900Z
DESCRIPTION:
DTSTART:20240904T073000Z
DTEND:20240904T090000Z
LOCATION:GHH
SUMMARY:Lecture: git and Teamwork
END:VEVENT
BEGIN:VEVENT
UID:38303363-3239-4466-b035-643766366562
DTSTAMP:20260421T111900Z
DESCRIPTION:
DTSTART:20240905T073000Z
DTEND:20240905T090000Z
LOCATION:GHH
SUMMARY:Lecture: Code Review and Continuous Integration
END:VEVENT
BEGIN:VEVENT
UID:61666533-3766-4330-b830-396133646364
DTSTAMP:20260421T111900Z
DESCRIPTION:
DTSTART:20240930T073000Z
DTEND:20240930T090000Z
LOCATION:GHH
SUMMARY:Lecture: Preparation for Individual Phase
END:VEVENT
END:VCALENDAR
