BEGIN:VCALENDAR
VERSION:2.0
PRODID:-//134.96.226.213//NONSGML kigkonsult.se iCalcreator 2.41.92//
CALSCALE:GREGORIAN
METHOD:PUBLISH
UID:30636462-6232-4562-a536-313231303030
X-WR-CALNAME:Software Engineering Calendar
X-WR-CALDESC:Events of the lecture Software Engineering
X-WR-TIMEZONE:Europe/Berlin
BEGIN:VEVENT
UID:34386238-3663-4735-b230-633231393233
DTSTAMP:20260425T165904Z
DESCRIPTION:
DTSTART:20251021T100000Z
DTEND:20251021T120000Z
LOCATION:HS002 E1 3
SUMMARY:Se: Lecture
END:VEVENT
BEGIN:VEVENT
UID:33313861-6533-4234-b136-363634633732
DTSTAMP:20260425T165904Z
DESCRIPTION:
DTSTART:20251027T073000Z
DTEND:20251027T090000Z
LOCATION:HS002 E1 3
SUMMARY:Se: Lecture
END:VEVENT
BEGIN:VEVENT
UID:31336465-6339-4031-b461-313537393561
DTSTAMP:20260425T165904Z
DESCRIPTION:
DTSTART:20251028T110000Z
DTEND:20251028T130000Z
LOCATION:HS002 E1 3
SUMMARY:Se: Lecture
END:VEVENT
BEGIN:VEVENT
UID:37363965-3331-4461-a534-306466306635
DTSTAMP:20260425T165904Z
DESCRIPTION:
DTSTART:20251030T130000Z
DTEND:20251030T150000Z
LOCATION:E1.1 Room 2.06
SUMMARY:Se: Tutorial
END:VEVENT
BEGIN:VEVENT
UID:31613863-6536-4430-b162-306131373264
DTSTAMP:20260425T165904Z
DESCRIPTION:
DTSTART:20251031T130000Z
DTEND:20251031T150000Z
LOCATION:E1.1 Room 2.06
SUMMARY:Se: Tutorial
END:VEVENT
BEGIN:VEVENT
UID:61656633-3839-4364-a638-346233316332
DTSTAMP:20260425T165904Z
DESCRIPTION:
DTSTART:20251103T073000Z
DTEND:20251103T090000Z
LOCATION:HS002 E1 3
SUMMARY:Se: Lecture
END:VEVENT
BEGIN:VEVENT
UID:65633135-6566-4161-b739-643962616334
DTSTAMP:20260425T165904Z
DESCRIPTION:
DTSTART:20251104T110000Z
DTEND:20251104T130000Z
LOCATION:HS002 E1 3
SUMMARY:Se: Lecture
END:VEVENT
BEGIN:VEVENT
UID:34316532-3131-4133-b635-336230336563
DTSTAMP:20260425T165904Z
DESCRIPTION:
DTSTART:20251106T130000Z
DTEND:20251106T150000Z
LOCATION:E1.1 Room 2.06
SUMMARY:Se: Tutorial
END:VEVENT
BEGIN:VEVENT
UID:63303766-6338-4333-b234-336365383838
DTSTAMP:20260425T165904Z
DESCRIPTION:
DTSTART:20251107T130000Z
DTEND:20251107T150000Z
LOCATION:E1.1 Room 2.06
SUMMARY:Se: Tutorial
END:VEVENT
BEGIN:VEVENT
UID:62663033-3037-4362-b965-366661626662
DTSTAMP:20260425T165904Z
DESCRIPTION:
DTSTART:20251110T073000Z
DTEND:20251110T090000Z
LOCATION:HS002 E1 3
SUMMARY:Se: Lecture
END:VEVENT
BEGIN:VEVENT
UID:61653865-3462-4838-a134-353538363166
DTSTAMP:20260425T165904Z
DESCRIPTION:
DTSTART:20251111T110000Z
DTEND:20251111T130000Z
LOCATION:HS002 E1 3
SUMMARY:Se: Lecture
END:VEVENT
BEGIN:VEVENT
UID:36393033-3036-4330-b737-316134316234
DTSTAMP:20260425T165904Z
DESCRIPTION:
DTSTART:20251113T130000Z
DTEND:20251113T150000Z
LOCATION:E1.1 Room 2.06
SUMMARY:Se: Tutorial
END:VEVENT
BEGIN:VEVENT
UID:34396131-3336-4939-a235-363637653365
DTSTAMP:20260425T165904Z
DESCRIPTION:
DTSTART:20251114T130000Z
DTEND:20251114T150000Z
LOCATION:E1.1 Room 2.06
SUMMARY:Se: Tutorial
END:VEVENT
BEGIN:VEVENT
UID:30383331-6262-4537-b930-666264663434
DTSTAMP:20260425T165904Z
DESCRIPTION:
DTSTART:20251120T130000Z
DTEND:20251120T150000Z
LOCATION:E1.1 Room 2.06
SUMMARY:Se: Tutorial
END:VEVENT
BEGIN:VEVENT
UID:65326131-6465-4733-b331-336633363061
DTSTAMP:20260425T165904Z
DESCRIPTION:
DTSTART:20251121T130000Z
DTEND:20251121T150000Z
LOCATION:E1.1 Room 2.06
SUMMARY:Se: Tutorial
END:VEVENT
BEGIN:VEVENT
UID:63316332-6231-4237-b731-653361386364
DTSTAMP:20260425T165904Z
DESCRIPTION:
DTSTART:20251124T073000Z
DTEND:20251124T090000Z
LOCATION:HS002 E1 3
SUMMARY:Se: Lecture
END:VEVENT
BEGIN:VEVENT
UID:36356363-3537-4533-b663-616231313130
DTSTAMP:20260425T165904Z
DESCRIPTION:
DTSTART:20251125T110000Z
DTEND:20251125T130000Z
LOCATION:HS002 E1 3
SUMMARY:Se: Lecture
END:VEVENT
BEGIN:VEVENT
UID:36626637-6331-4632-b636-643132373734
DTSTAMP:20260425T165904Z
DESCRIPTION:
DTSTART:20251127T130000Z
DTEND:20251127T150000Z
LOCATION:E1.1 Room 2.06
SUMMARY:Se: Tutorial
END:VEVENT
BEGIN:VEVENT
UID:30366331-3661-4137-a563-376430323034
DTSTAMP:20260425T165904Z
DESCRIPTION:
DTSTART:20251128T130000Z
DTEND:20251128T150000Z
LOCATION:E1.1 Room 2.06
SUMMARY:Se: Tutorial
END:VEVENT
BEGIN:VEVENT
UID:36323633-3535-4161-b533-353464666633
DTSTAMP:20260425T165904Z
DESCRIPTION:
DTSTART:20251201T073000Z
DTEND:20251201T090000Z
LOCATION:HS002 E1 3
SUMMARY:Se: Lecture
END:VEVENT
BEGIN:VEVENT
UID:62353837-3163-4536-a230-303639343564
DTSTAMP:20260425T165904Z
DESCRIPTION:
DTSTART:20251202T110000Z
DTEND:20251202T130000Z
LOCATION:HS002 E1 3
SUMMARY:Se: Lecture
END:VEVENT
BEGIN:VEVENT
UID:32393163-3431-4830-b463-666365633038
DTSTAMP:20260425T165904Z
DESCRIPTION:
DTSTART:20251204T130000Z
DTEND:20251204T150000Z
LOCATION:E1.1 Room 2.06
SUMMARY:Se: Tutorial
END:VEVENT
BEGIN:VEVENT
UID:65393732-6535-4861-b036-653336373662
DTSTAMP:20260425T165904Z
DESCRIPTION:
DTSTART:20251205T130000Z
DTEND:20251205T150000Z
LOCATION:E1.1 Room 2.06
SUMMARY:Se: Tutorial
END:VEVENT
BEGIN:VEVENT
UID:39393939-3361-4130-a130-373539306436
DTSTAMP:20260425T165904Z
DESCRIPTION:
DTSTART:20251208T073000Z
DTEND:20251208T090000Z
LOCATION:HS002 E1 3
SUMMARY:Se: Lecture
END:VEVENT
BEGIN:VEVENT
UID:30356663-3235-4162-b464-353634363263
DTSTAMP:20260425T165904Z
DESCRIPTION:
DTSTART:20251209T110000Z
DTEND:20251209T130000Z
LOCATION:HS002 E1 3
SUMMARY:Se: Lecture
END:VEVENT
BEGIN:VEVENT
UID:30316235-6662-4662-b439-356336323934
DTSTAMP:20260425T165904Z
DESCRIPTION:
DTSTART:20251211T130000Z
DTEND:20251211T150000Z
LOCATION:E1.1 Room 2.06
SUMMARY:Se: Tutorial
END:VEVENT
BEGIN:VEVENT
UID:33303037-6535-4966-a236-383763303531
DTSTAMP:20260425T165904Z
DESCRIPTION:
DTSTART:20251212T130000Z
DTEND:20251212T150000Z
LOCATION:E1.1 Room 2.06
SUMMARY:Se: Tutorial
END:VEVENT
BEGIN:VEVENT
UID:65363738-6636-4665-b064-316430316361
DTSTAMP:20260425T165904Z
DESCRIPTION:
DTSTART:20251218T130000Z
DTEND:20251218T150000Z
LOCATION:E1.1 Room 2.06
SUMMARY:Se: Tutorial
END:VEVENT
BEGIN:VEVENT
UID:33303438-6163-4434-a233-656538343434
DTSTAMP:20260425T165904Z
DESCRIPTION:
DTSTART:20251219T130000Z
DTEND:20251219T150000Z
LOCATION:E1.1 Room 2.06
SUMMARY:Se: Tutorial
END:VEVENT
BEGIN:VEVENT
UID:33366439-3062-4137-a462-393532313938
DTSTAMP:20260425T165904Z
DESCRIPTION:
DTSTART:20260105T073000Z
DTEND:20260105T090000Z
LOCATION:HS002 E1 3
SUMMARY:Se: Lecture
END:VEVENT
BEGIN:VEVENT
UID:33666538-6631-4933-b464-356230373763
DTSTAMP:20260425T165904Z
DESCRIPTION:
DTSTART:20260106T110000Z
DTEND:20260106T130000Z
LOCATION:HS002 E1 3
SUMMARY:Se: Lecture
END:VEVENT
BEGIN:VEVENT
UID:35363237-6138-4332-b134-636166366564
DTSTAMP:20260425T165904Z
DESCRIPTION:
DTSTART:20260108T130000Z
DTEND:20260108T150000Z
LOCATION:E1.1 Room 2.06
SUMMARY:Se: Tutorial
END:VEVENT
BEGIN:VEVENT
UID:35303966-6431-4438-b034-353730336236
DTSTAMP:20260425T165904Z
DESCRIPTION:
DTSTART:20260109T130000Z
DTEND:20260109T150000Z
LOCATION:E1.1 Room 2.06
SUMMARY:Se: Tutorial
END:VEVENT
BEGIN:VEVENT
UID:62636436-6362-4534-b034-366639653063
DTSTAMP:20260425T165904Z
DESCRIPTION:
DTSTART:20260112T073000Z
DTEND:20260112T090000Z
LOCATION:HS002 E1 3
SUMMARY:Se: Lecture
END:VEVENT
BEGIN:VEVENT
UID:61356163-3031-4732-a233-393632306632
DTSTAMP:20260425T165904Z
DESCRIPTION:
DTSTART:20260113T110000Z
DTEND:20260113T130000Z
LOCATION:HS002 E1 3
SUMMARY:Se: Lecture
END:VEVENT
BEGIN:VEVENT
UID:64653564-3965-4238-b563-383136653732
DTSTAMP:20260425T165904Z
DESCRIPTION:
DTSTART:20260115T130000Z
DTEND:20260115T150000Z
LOCATION:E1.1 Room 2.06
SUMMARY:Se: Tutorial
END:VEVENT
BEGIN:VEVENT
UID:32396536-3235-4162-a138-366364333630
DTSTAMP:20260425T165904Z
DESCRIPTION:
DTSTART:20260116T130000Z
DTEND:20260116T150000Z
LOCATION:E1.1 Room 2.06
SUMMARY:Se: Tutorial
END:VEVENT
BEGIN:VEVENT
UID:31306366-6534-4861-b036-663131343233
DTSTAMP:20260425T165904Z
DESCRIPTION:
DTSTART:20260119T073000Z
DTEND:20260119T090000Z
LOCATION:HS002 E1 3
SUMMARY:Se: Lecture
END:VEVENT
BEGIN:VEVENT
UID:30316666-3464-4536-a130-653535333066
DTSTAMP:20260425T165904Z
DESCRIPTION:
DTSTART:20260120T110000Z
DTEND:20260120T130000Z
LOCATION:HS002 E1 3
SUMMARY:Se: Lecture
END:VEVENT
BEGIN:VEVENT
UID:65363834-3863-4365-b965-353364333963
DTSTAMP:20260425T165904Z
DESCRIPTION:
DTSTART:20260122T130000Z
DTEND:20260122T150000Z
LOCATION:E1.1 Room 2.06
SUMMARY:Se: Tutorial
END:VEVENT
BEGIN:VEVENT
UID:30343037-3732-4437-b437-633261373965
DTSTAMP:20260425T165904Z
DESCRIPTION:
DTSTART:20260123T130000Z
DTEND:20260123T150000Z
LOCATION:E1.1 Room 2.06
SUMMARY:Se: Tutorial
END:VEVENT
BEGIN:VEVENT
UID:64356663-3462-4432-b761-633164643966
DTSTAMP:20260425T165904Z
DESCRIPTION:
DTSTART:20260126T073000Z
DTEND:20260126T090000Z
LOCATION:HS002 E1 3
SUMMARY:Se: Lecture
END:VEVENT
BEGIN:VEVENT
UID:35303232-6362-4032-a131-656138653435
DTSTAMP:20260425T165904Z
DESCRIPTION:
DTSTART:20260127T110000Z
DTEND:20260127T130000Z
LOCATION:HS002 E1 3
SUMMARY:Se: Lecture
END:VEVENT
BEGIN:VEVENT
UID:34316630-6464-4761-b832-333831363430
DTSTAMP:20260425T165904Z
DESCRIPTION:
DTSTART:20260129T130000Z
DTEND:20260129T150000Z
LOCATION:E1.1 Room 2.06
SUMMARY:Se: Tutorial
END:VEVENT
BEGIN:VEVENT
UID:33313565-3937-4732-b065-353861353730
DTSTAMP:20260425T165904Z
DESCRIPTION:
DTSTART:20260130T130000Z
DTEND:20260130T150000Z
LOCATION:E1.1 Room 2.06
SUMMARY:Se: Tutorial
END:VEVENT
BEGIN:VEVENT
UID:38306339-3834-4438-a630-373164643335
DTSTAMP:20260425T165904Z
DESCRIPTION:
DTSTART:20260216T090000Z
DTEND:20260216T110000Z
SUMMARY:Se: Final Exam
END:VEVENT
BEGIN:VEVENT
UID:32373166-3064-4662-b262-626162633532
DTSTAMP:20260425T165904Z
DESCRIPTION:
DTSTART:20260318T090000Z
DTEND:20260318T110000Z
SUMMARY:Se: Re-Exam
END:VEVENT
END:VCALENDAR
