BEGIN:VCALENDAR
VERSION:2.0
PRODID:-//134.96.226.213//NONSGML kigkonsult.se iCalcreator 2.41.92//
CALSCALE:GREGORIAN
METHOD:PUBLISH
UID:62343136-3030-4536-a335-633261643339
X-WR-CALNAME:Software Engineering Calendar
X-WR-CALDESC:Events of the lecture Software Engineering
X-WR-TIMEZONE:Europe/Berlin
BEGIN:VEVENT
UID:37303736-3233-4231-b933-633861663639
DTSTAMP:20260425T165836Z
DESCRIPTION:
DTSTART:20251021T100000Z
DTEND:20251021T120000Z
LOCATION:HS002 E1 3
SUMMARY:Lecture
END:VEVENT
BEGIN:VEVENT
UID:63383732-3131-4237-a462-383362386331
DTSTAMP:20260425T165836Z
DESCRIPTION:
DTSTART:20251027T073000Z
DTEND:20251027T090000Z
LOCATION:HS002 E1 3
SUMMARY:Lecture
END:VEVENT
BEGIN:VEVENT
UID:64636235-6431-4137-a561-363963366532
DTSTAMP:20260425T165836Z
DESCRIPTION:
DTSTART:20251028T110000Z
DTEND:20251028T130000Z
LOCATION:HS002 E1 3
SUMMARY:Lecture
END:VEVENT
BEGIN:VEVENT
UID:39303564-6438-4234-a532-306631633864
DTSTAMP:20260425T165836Z
DESCRIPTION:
DTSTART:20251030T130000Z
DTEND:20251030T150000Z
LOCATION:E1.1 Room 2.06
SUMMARY:Tutorial
END:VEVENT
BEGIN:VEVENT
UID:39366261-3534-4830-b264-346265313634
DTSTAMP:20260425T165836Z
DESCRIPTION:
DTSTART:20251031T130000Z
DTEND:20251031T150000Z
LOCATION:E1.1 Room 2.06
SUMMARY:Tutorial
END:VEVENT
BEGIN:VEVENT
UID:33373439-3866-4530-b863-353063613331
DTSTAMP:20260425T165836Z
DESCRIPTION:
DTSTART:20251103T073000Z
DTEND:20251103T090000Z
LOCATION:HS002 E1 3
SUMMARY:Lecture
END:VEVENT
BEGIN:VEVENT
UID:32643963-6163-4033-b130-666165303931
DTSTAMP:20260425T165836Z
DESCRIPTION:
DTSTART:20251104T110000Z
DTEND:20251104T130000Z
LOCATION:HS002 E1 3
SUMMARY:Lecture
END:VEVENT
BEGIN:VEVENT
UID:33343230-6263-4064-b264-303866366466
DTSTAMP:20260425T165836Z
DESCRIPTION:
DTSTART:20251106T130000Z
DTEND:20251106T150000Z
LOCATION:E1.1 Room 2.06
SUMMARY:Tutorial
END:VEVENT
BEGIN:VEVENT
UID:63663831-3562-4562-b336-303130373136
DTSTAMP:20260425T165836Z
DESCRIPTION:
DTSTART:20251107T130000Z
DTEND:20251107T150000Z
LOCATION:E1.1 Room 2.06
SUMMARY:Tutorial
END:VEVENT
BEGIN:VEVENT
UID:31363832-3139-4365-b239-623031326435
DTSTAMP:20260425T165836Z
DESCRIPTION:
DTSTART:20251110T073000Z
DTEND:20251110T090000Z
LOCATION:HS002 E1 3
SUMMARY:Lecture
END:VEVENT
BEGIN:VEVENT
UID:30383334-6536-4139-b831-313830316336
DTSTAMP:20260425T165836Z
DESCRIPTION:
DTSTART:20251111T110000Z
DTEND:20251111T130000Z
LOCATION:HS002 E1 3
SUMMARY:Lecture
END:VEVENT
BEGIN:VEVENT
UID:62636266-6138-4535-b864-336236336666
DTSTAMP:20260425T165836Z
DESCRIPTION:
DTSTART:20251113T130000Z
DTEND:20251113T150000Z
LOCATION:E1.1 Room 2.06
SUMMARY:Tutorial
END:VEVENT
BEGIN:VEVENT
UID:32393363-6131-4232-a163-653033396332
DTSTAMP:20260425T165836Z
DESCRIPTION:
DTSTART:20251114T130000Z
DTEND:20251114T150000Z
LOCATION:E1.1 Room 2.06
SUMMARY:Tutorial
END:VEVENT
BEGIN:VEVENT
UID:30346637-3532-4337-b564-643137313364
DTSTAMP:20260425T165836Z
DESCRIPTION:
DTSTART:20251120T130000Z
DTEND:20251120T150000Z
LOCATION:E1.1 Room 2.06
SUMMARY:Tutorial
END:VEVENT
BEGIN:VEVENT
UID:61613337-3864-4161-a630-346539653832
DTSTAMP:20260425T165836Z
DESCRIPTION:
DTSTART:20251121T130000Z
DTEND:20251121T150000Z
LOCATION:E1.1 Room 2.06
SUMMARY:Tutorial
END:VEVENT
BEGIN:VEVENT
UID:35623063-3730-4539-b837-363435653637
DTSTAMP:20260425T165836Z
DESCRIPTION:
DTSTART:20251124T073000Z
DTEND:20251124T090000Z
LOCATION:HS002 E1 3
SUMMARY:Lecture
END:VEVENT
BEGIN:VEVENT
UID:35653938-6134-4835-b664-346135616163
DTSTAMP:20260425T165836Z
DESCRIPTION:
DTSTART:20251125T110000Z
DTEND:20251125T130000Z
LOCATION:HS002 E1 3
SUMMARY:Lecture
END:VEVENT
BEGIN:VEVENT
UID:61633962-3036-4338-a332-363137646630
DTSTAMP:20260425T165836Z
DESCRIPTION:
DTSTART:20251127T130000Z
DTEND:20251127T150000Z
LOCATION:E1.1 Room 2.06
SUMMARY:Tutorial
END:VEVENT
BEGIN:VEVENT
UID:64393963-6232-4164-a433-353638363462
DTSTAMP:20260425T165836Z
DESCRIPTION:
DTSTART:20251128T130000Z
DTEND:20251128T150000Z
LOCATION:E1.1 Room 2.06
SUMMARY:Tutorial
END:VEVENT
BEGIN:VEVENT
UID:64626135-6436-4733-b263-623663313738
DTSTAMP:20260425T165836Z
DESCRIPTION:
DTSTART:20251201T073000Z
DTEND:20251201T090000Z
LOCATION:HS002 E1 3
SUMMARY:Lecture
END:VEVENT
BEGIN:VEVENT
UID:32346565-6662-4764-a536-386130626466
DTSTAMP:20260425T165836Z
DESCRIPTION:
DTSTART:20251202T110000Z
DTEND:20251202T130000Z
LOCATION:HS002 E1 3
SUMMARY:Lecture
END:VEVENT
BEGIN:VEVENT
UID:34613363-3535-4332-b830-386362313864
DTSTAMP:20260425T165836Z
DESCRIPTION:
DTSTART:20251204T130000Z
DTEND:20251204T150000Z
LOCATION:E1.1 Room 2.06
SUMMARY:Tutorial
END:VEVENT
BEGIN:VEVENT
UID:33386335-3436-4237-b538-363164663238
DTSTAMP:20260425T165836Z
DESCRIPTION:
DTSTART:20251205T130000Z
DTEND:20251205T150000Z
LOCATION:E1.1 Room 2.06
SUMMARY:Tutorial
END:VEVENT
BEGIN:VEVENT
UID:63626238-3864-4430-b535-333365616365
DTSTAMP:20260425T165836Z
DESCRIPTION:
DTSTART:20251208T073000Z
DTEND:20251208T090000Z
LOCATION:HS002 E1 3
SUMMARY:Lecture
END:VEVENT
BEGIN:VEVENT
UID:32356364-3462-4438-b430-613138373137
DTSTAMP:20260425T165836Z
DESCRIPTION:
DTSTART:20251209T110000Z
DTEND:20251209T130000Z
LOCATION:HS002 E1 3
SUMMARY:Lecture
END:VEVENT
BEGIN:VEVENT
UID:66383761-6661-4932-a333-346161643361
DTSTAMP:20260425T165836Z
DESCRIPTION:
DTSTART:20251211T130000Z
DTEND:20251211T150000Z
LOCATION:E1.1 Room 2.06
SUMMARY:Tutorial
END:VEVENT
BEGIN:VEVENT
UID:31636630-6365-4662-a533-323566663664
DTSTAMP:20260425T165836Z
DESCRIPTION:
DTSTART:20251212T130000Z
DTEND:20251212T150000Z
LOCATION:E1.1 Room 2.06
SUMMARY:Tutorial
END:VEVENT
BEGIN:VEVENT
UID:63626566-3062-4165-b236-656130323632
DTSTAMP:20260425T165836Z
DESCRIPTION:
DTSTART:20251218T130000Z
DTEND:20251218T150000Z
LOCATION:E1.1 Room 2.06
SUMMARY:Tutorial
END:VEVENT
BEGIN:VEVENT
UID:61623931-3362-4865-b439-373266343132
DTSTAMP:20260425T165836Z
DESCRIPTION:
DTSTART:20251219T130000Z
DTEND:20251219T150000Z
LOCATION:E1.1 Room 2.06
SUMMARY:Tutorial
END:VEVENT
BEGIN:VEVENT
UID:33353330-3461-4662-a265-353463333733
DTSTAMP:20260425T165836Z
DESCRIPTION:
DTSTART:20260105T073000Z
DTEND:20260105T090000Z
LOCATION:HS002 E1 3
SUMMARY:Lecture
END:VEVENT
BEGIN:VEVENT
UID:62353831-3939-4261-b065-356331623237
DTSTAMP:20260425T165836Z
DESCRIPTION:
DTSTART:20260106T110000Z
DTEND:20260106T130000Z
LOCATION:HS002 E1 3
SUMMARY:Lecture
END:VEVENT
BEGIN:VEVENT
UID:62366531-3737-4531-a136-373739393736
DTSTAMP:20260425T165836Z
DESCRIPTION:
DTSTART:20260108T130000Z
DTEND:20260108T150000Z
LOCATION:E1.1 Room 2.06
SUMMARY:Tutorial
END:VEVENT
BEGIN:VEVENT
UID:34626430-3439-4333-b638-323737633236
DTSTAMP:20260425T165836Z
DESCRIPTION:
DTSTART:20260109T130000Z
DTEND:20260109T150000Z
LOCATION:E1.1 Room 2.06
SUMMARY:Tutorial
END:VEVENT
BEGIN:VEVENT
UID:36616232-3139-4664-b637-376532643338
DTSTAMP:20260425T165836Z
DESCRIPTION:
DTSTART:20260112T073000Z
DTEND:20260112T090000Z
LOCATION:HS002 E1 3
SUMMARY:Lecture
END:VEVENT
BEGIN:VEVENT
UID:38356462-6431-4162-a239-626537303030
DTSTAMP:20260425T165836Z
DESCRIPTION:
DTSTART:20260113T110000Z
DTEND:20260113T130000Z
LOCATION:HS002 E1 3
SUMMARY:Lecture
END:VEVENT
BEGIN:VEVENT
UID:36376666-6237-4661-b161-613864646231
DTSTAMP:20260425T165836Z
DESCRIPTION:
DTSTART:20260115T130000Z
DTEND:20260115T150000Z
LOCATION:E1.1 Room 2.06
SUMMARY:Tutorial
END:VEVENT
BEGIN:VEVENT
UID:36363765-3532-4732-b935-663235363233
DTSTAMP:20260425T165836Z
DESCRIPTION:
DTSTART:20260116T130000Z
DTEND:20260116T150000Z
LOCATION:E1.1 Room 2.06
SUMMARY:Tutorial
END:VEVENT
BEGIN:VEVENT
UID:36393334-6464-4461-b161-336535383437
DTSTAMP:20260425T165836Z
DESCRIPTION:
DTSTART:20260119T073000Z
DTEND:20260119T090000Z
LOCATION:HS002 E1 3
SUMMARY:Lecture
END:VEVENT
BEGIN:VEVENT
UID:37336134-6565-4336-a363-643538623436
DTSTAMP:20260425T165836Z
DESCRIPTION:
DTSTART:20260120T110000Z
DTEND:20260120T130000Z
LOCATION:HS002 E1 3
SUMMARY:Lecture
END:VEVENT
BEGIN:VEVENT
UID:63396361-3538-4664-b264-656637393333
DTSTAMP:20260425T165836Z
DESCRIPTION:
DTSTART:20260122T130000Z
DTEND:20260122T150000Z
LOCATION:E1.1 Room 2.06
SUMMARY:Tutorial
END:VEVENT
BEGIN:VEVENT
UID:33363766-3138-4832-b963-366532366136
DTSTAMP:20260425T165836Z
DESCRIPTION:
DTSTART:20260123T130000Z
DTEND:20260123T150000Z
LOCATION:E1.1 Room 2.06
SUMMARY:Tutorial
END:VEVENT
BEGIN:VEVENT
UID:38386564-6466-4336-b066-323963643639
DTSTAMP:20260425T165836Z
DESCRIPTION:
DTSTART:20260126T073000Z
DTEND:20260126T090000Z
LOCATION:HS002 E1 3
SUMMARY:Lecture
END:VEVENT
BEGIN:VEVENT
UID:34393930-3264-4831-a465-656331306432
DTSTAMP:20260425T165836Z
DESCRIPTION:
DTSTART:20260127T110000Z
DTEND:20260127T130000Z
LOCATION:HS002 E1 3
SUMMARY:Lecture
END:VEVENT
BEGIN:VEVENT
UID:64666536-6333-4531-b133-383366393533
DTSTAMP:20260425T165836Z
DESCRIPTION:
DTSTART:20260129T130000Z
DTEND:20260129T150000Z
LOCATION:E1.1 Room 2.06
SUMMARY:Tutorial
END:VEVENT
BEGIN:VEVENT
UID:31343661-3632-4236-b638-393336663763
DTSTAMP:20260425T165836Z
DESCRIPTION:
DTSTART:20260130T130000Z
DTEND:20260130T150000Z
LOCATION:E1.1 Room 2.06
SUMMARY:Tutorial
END:VEVENT
BEGIN:VEVENT
UID:64383037-6236-4631-a333-363062333538
DTSTAMP:20260425T165836Z
DESCRIPTION:
DTSTART:20260216T090000Z
DTEND:20260216T110000Z
SUMMARY:Final Exam
END:VEVENT
BEGIN:VEVENT
UID:65633863-3330-4936-b739-326466353338
DTSTAMP:20260425T165836Z
DESCRIPTION:
DTSTART:20260318T090000Z
DTEND:20260318T110000Z
SUMMARY:Re-Exam
END:VEVENT
END:VCALENDAR
