BEGIN:VCALENDAR
VERSION:2.0
PRODID:-//134.96.226.213//NONSGML kigkonsult.se iCalcreator 2.41.71//
CALSCALE:GREGORIAN
METHOD:PUBLISH
UID:34343264-6138-4139-a161-623565353331
X-WR-CALNAME:Programming Course (MSc Bioinformatics) Calendar
X-WR-CALDESC:Events of the lecture Programming Course (MSc Bioinformatics)
X-WR-TIMEZONE:Europe/Berlin
BEGIN:VEVENT
UID:63393232-6235-4438-b565-373736383965
DTSTAMP:20260419T142415Z
DESCRIPTION:
DTSTART:20231026T101500Z
DTEND:20231026T114500Z
SUMMARY:Prog: First Lecture
END:VEVENT
BEGIN:VEVENT
UID:36646338-6565-4863-b337-343063623330
DTSTAMP:20260419T142415Z
DESCRIPTION:
DTSTART:20231101T225900Z
DTEND:20231101T225900Z
SUMMARY:Prog: Course Registration
END:VEVENT
BEGIN:VEVENT
UID:31653964-6630-4166-a135-373031333236
DTSTAMP:20260419T142415Z
DESCRIPTION:
DTSTART:20231102T111500Z
DTEND:20231102T124500Z
LOCATION:E2.1 R001
SUMMARY:Prog: Lecture
END:VEVENT
BEGIN:VEVENT
UID:62333361-6161-4636-a339-616630316262
DTSTAMP:20260419T142415Z
DESCRIPTION:
DTSTART:20231102T131500Z
DTEND:20231102T144500Z
LOCATION:E2.1 R001
SUMMARY:Prog: Tutorial
END:VEVENT
BEGIN:VEVENT
UID:34353431-6338-4138-b836-353330653230
DTSTAMP:20260419T142415Z
DESCRIPTION:
DTSTART:20231108T225900Z
DTEND:20231108T225900Z
SUMMARY:Prog: Deadline Assignment Sheet 0
END:VEVENT
BEGIN:VEVENT
UID:63396264-6164-4232-a139-336566393661
DTSTAMP:20260419T142415Z
DESCRIPTION:
DTSTART:20231109T111500Z
DTEND:20231109T124500Z
LOCATION:E2.1 R001
SUMMARY:Prog: Lecture
END:VEVENT
BEGIN:VEVENT
UID:39333539-3665-4439-b936-623864346335
DTSTAMP:20260419T142415Z
DESCRIPTION:
DTSTART:20231109T131500Z
DTEND:20231109T144500Z
LOCATION:E2.1 R001
SUMMARY:Prog: Tutorial
END:VEVENT
BEGIN:VEVENT
UID:32356233-6365-4338-b330-346330366538
DTSTAMP:20260419T142415Z
DESCRIPTION:
DTSTART:20231116T111500Z
DTEND:20231116T124500Z
LOCATION:E2.1 R001
SUMMARY:Prog: Lecture
END:VEVENT
BEGIN:VEVENT
UID:32303237-3838-4239-b830-353762653433
DTSTAMP:20260419T142415Z
DESCRIPTION:
DTSTART:20231116T131500Z
DTEND:20231116T144500Z
LOCATION:E2.1 R001
SUMMARY:Prog: Tutorial
END:VEVENT
BEGIN:VEVENT
UID:39316536-6133-4232-a563-396438613565
DTSTAMP:20260419T142415Z
DESCRIPTION:
DTSTART:20231122T225900Z
DTEND:20231122T225900Z
SUMMARY:Prog: Deadline Assignment Sheet 1
END:VEVENT
BEGIN:VEVENT
UID:34326332-6634-4135-a662-636237303935
DTSTAMP:20260419T142415Z
DESCRIPTION:
DTSTART:20231123T111500Z
DTEND:20231123T124500Z
LOCATION:E2.1 R001
SUMMARY:Prog: Lecture
END:VEVENT
BEGIN:VEVENT
UID:32663334-3539-4330-b064-343964636161
DTSTAMP:20260419T142415Z
DESCRIPTION:
DTSTART:20231123T131500Z
DTEND:20231123T144500Z
LOCATION:E2.1 R001
SUMMARY:Prog: Tutorial
END:VEVENT
BEGIN:VEVENT
UID:35353636-6435-4366-a162-636333666262
DTSTAMP:20260419T142415Z
DESCRIPTION:
DTSTART:20231130T111500Z
DTEND:20231130T124500Z
LOCATION:E2.1 R001
SUMMARY:Prog: Lecture
END:VEVENT
BEGIN:VEVENT
UID:39383733-3064-4236-a436-636137613035
DTSTAMP:20260419T142415Z
DESCRIPTION:
DTSTART:20231130T131500Z
DTEND:20231130T144500Z
LOCATION:E2.1 R001
SUMMARY:Prog: Tutorial
END:VEVENT
BEGIN:VEVENT
UID:35306165-3030-4431-a266-323365663036
DTSTAMP:20260419T142415Z
DESCRIPTION:
DTSTART:20231206T225900Z
DTEND:20231206T225900Z
SUMMARY:Prog: Deadline Assignment Sheet 2
END:VEVENT
BEGIN:VEVENT
UID:65303837-3565-4339-b035-336237353931
DTSTAMP:20260419T142415Z
DESCRIPTION:
DTSTART:20231207T111500Z
DTEND:20231207T124500Z
LOCATION:E2.1 R001
SUMMARY:Prog: Lecture
END:VEVENT
BEGIN:VEVENT
UID:31633335-3832-4338-a334-316536383433
DTSTAMP:20260419T142415Z
DESCRIPTION:
DTSTART:20231207T131500Z
DTEND:20231207T144500Z
LOCATION:E2.1 R001
SUMMARY:Prog: Tutorial
END:VEVENT
BEGIN:VEVENT
UID:39396439-3765-4530-a537-646536363139
DTSTAMP:20260419T142415Z
DESCRIPTION:
DTSTART:20231214T111500Z
DTEND:20231214T124500Z
LOCATION:E2.1 R001
SUMMARY:Prog: Lecture
END:VEVENT
BEGIN:VEVENT
UID:36396232-6234-4162-a162-653232643263
DTSTAMP:20260419T142415Z
DESCRIPTION:
DTSTART:20231214T131500Z
DTEND:20231214T144500Z
LOCATION:E2.1 R001
SUMMARY:Prog: Tutorial
END:VEVENT
BEGIN:VEVENT
UID:64386364-3463-4436-b738-386462386262
DTSTAMP:20260419T142415Z
DESCRIPTION:
DTSTART:20231220T225900Z
DTEND:20231220T225900Z
SUMMARY:Prog: Deadline Assignment Sheet 3
END:VEVENT
BEGIN:VEVENT
UID:61643538-3230-4939-b762-623366343262
DTSTAMP:20260419T142415Z
DESCRIPTION:
DTSTART:20231221T111500Z
DTEND:20231221T124500Z
LOCATION:E2.1 R001
SUMMARY:Prog: Lecture
END:VEVENT
BEGIN:VEVENT
UID:63613134-3438-4963-a335-643139363531
DTSTAMP:20260419T142415Z
DESCRIPTION:
DTSTART:20240104T111500Z
DTEND:20240104T124500Z
LOCATION:E2.1 R001
SUMMARY:Prog: Lecture
END:VEVENT
BEGIN:VEVENT
UID:32656434-6233-4937-a531-316134393535
DTSTAMP:20260419T142415Z
DESCRIPTION:
DTSTART:20240104T131500Z
DTEND:20240104T144500Z
LOCATION:E2.1 R001
SUMMARY:Prog: Tutorial
END:VEVENT
BEGIN:VEVENT
UID:33306161-3137-4534-b466-383064363131
DTSTAMP:20260419T142415Z
DESCRIPTION:
DTSTART:20240111T111500Z
DTEND:20240111T124500Z
LOCATION:E2.1 R001
SUMMARY:Prog: Lecture
END:VEVENT
BEGIN:VEVENT
UID:62666439-3861-4433-b961-626564336530
DTSTAMP:20260419T142415Z
DESCRIPTION:
DTSTART:20240111T131500Z
DTEND:20240111T144500Z
LOCATION:E2.1 R001
SUMMARY:Prog: Tutorial
END:VEVENT
BEGIN:VEVENT
UID:32333634-3166-4034-b762-373961386636
DTSTAMP:20260419T142415Z
DESCRIPTION:
DTSTART:20240117T225900Z
DTEND:20240117T225900Z
SUMMARY:Prog: Deadline Assignment Sheet 4
END:VEVENT
BEGIN:VEVENT
UID:38333735-3864-4632-a333-373964316664
DTSTAMP:20260419T142415Z
DESCRIPTION:
DTSTART:20240118T111500Z
DTEND:20240118T124500Z
LOCATION:E2.1 R001
SUMMARY:Prog: Lecture
END:VEVENT
BEGIN:VEVENT
UID:30653332-6530-4431-b861-353131646465
DTSTAMP:20260419T142415Z
DESCRIPTION:
DTSTART:20240118T131500Z
DTEND:20240118T144500Z
LOCATION:E2.1 R001
SUMMARY:Prog: Tutorial
END:VEVENT
BEGIN:VEVENT
UID:63636531-6562-4263-b934-353165393065
DTSTAMP:20260419T142415Z
DESCRIPTION:
DTSTART:20240125T111500Z
DTEND:20240125T124500Z
LOCATION:E2.1 R001
SUMMARY:Prog: Lecture
END:VEVENT
BEGIN:VEVENT
UID:62323463-3237-4964-b662-386531636639
DTSTAMP:20260419T142415Z
DESCRIPTION:
DTSTART:20240125T131500Z
DTEND:20240125T144500Z
LOCATION:E2.1 R001
SUMMARY:Prog: Tutorial
END:VEVENT
BEGIN:VEVENT
UID:35656436-6632-4162-b031-663862663331
DTSTAMP:20260419T142415Z
DESCRIPTION:
DTSTART:20240131T225900Z
DTEND:20240131T225900Z
SUMMARY:Prog: Deadline Assignment Sheet 5
END:VEVENT
BEGIN:VEVENT
UID:32646537-6536-4335-b065-386233663130
DTSTAMP:20260419T142415Z
DESCRIPTION:
DTSTART:20240201T131500Z
DTEND:20240201T144500Z
LOCATION:E2.1 R001
SUMMARY:Prog: Tutorial
END:VEVENT
BEGIN:VEVENT
UID:61623035-3466-4866-b437-656163666162
DTSTAMP:20260419T142415Z
DESCRIPTION:
DTSTART:20240220T130000Z
DTEND:20240220T150000Z
LOCATION:E2.5 HS1
SUMMARY:Prog: Exam
END:VEVENT
BEGIN:VEVENT
UID:62633533-6462-4931-b934-393532633335
DTSTAMP:20260419T142415Z
DESCRIPTION:
DTSTART:20240409T120000Z
DTEND:20240409T140000Z
LOCATION:E2.5 HS1
SUMMARY:Prog: Re-exam
END:VEVENT
END:VCALENDAR
