BEGIN:VCALENDAR
VERSION:2.0
PRODID:-//134.96.226.213//NONSGML kigkonsult.se iCalcreator 2.41.71//
CALSCALE:GREGORIAN
METHOD:PUBLISH
UID:66306634-3935-4135-a334-343634363662
X-WR-CALNAME:Programming Course (MSc Bioinformatics) Calendar
X-WR-CALDESC:Events of the lecture Programming Course (MSc Bioinformatics)
X-WR-TIMEZONE:Europe/Berlin
BEGIN:VEVENT
UID:30646137-6135-4234-b431-643535323964
DTSTAMP:20260419T142415Z
DESCRIPTION:
DTSTART:20240220T130000Z
DTEND:20240220T150000Z
LOCATION:E2.5 HS1
SUMMARY:Exam
END:VEVENT
BEGIN:VEVENT
UID:33613237-3333-4162-b661-316633333338
DTSTAMP:20260419T142415Z
DESCRIPTION:
DTSTART:20240409T120000Z
DTEND:20240409T140000Z
LOCATION:E2.5 HS1
SUMMARY:Re-exam
END:VEVENT
END:VCALENDAR
