BEGIN:VCALENDAR
VERSION:2.0
PRODID:-//134.96.226.213//NONSGML kigkonsult.se iCalcreator 2.41.71//
CALSCALE:GREGORIAN
METHOD:PUBLISH
UID:39626131-3161-4631-a262-636234366535
X-WR-CALNAME:Programming Course (MSc Bioinformatics) Calendar
X-WR-CALDESC:Events of the lecture Programming Course (MSc Bioinformatics)
X-WR-TIMEZONE:Europe/Berlin
BEGIN:VEVENT
UID:30373032-6464-4631-a430-323635636635
DTSTAMP:20260419T130605Z
DESCRIPTION:
DTSTART:20231102T131500Z
DTEND:20231102T144500Z
LOCATION:E2.1 R001
SUMMARY:Tutorial
END:VEVENT
BEGIN:VEVENT
UID:32353039-6662-4363-a236-336437636436
DTSTAMP:20260419T130605Z
DESCRIPTION:
DTSTART:20231109T131500Z
DTEND:20231109T144500Z
LOCATION:E2.1 R001
SUMMARY:Tutorial
END:VEVENT
BEGIN:VEVENT
UID:30636462-6263-4264-b032-383163663530
DTSTAMP:20260419T130605Z
DESCRIPTION:
DTSTART:20231116T131500Z
DTEND:20231116T144500Z
LOCATION:E2.1 R001
SUMMARY:Tutorial
END:VEVENT
BEGIN:VEVENT
UID:39373131-3764-4038-a237-376564643733
DTSTAMP:20260419T130605Z
DESCRIPTION:
DTSTART:20231123T131500Z
DTEND:20231123T144500Z
LOCATION:E2.1 R001
SUMMARY:Tutorial
END:VEVENT
BEGIN:VEVENT
UID:63353631-3261-4838-b162-373234363430
DTSTAMP:20260419T130605Z
DESCRIPTION:
DTSTART:20231130T131500Z
DTEND:20231130T144500Z
LOCATION:E2.1 R001
SUMMARY:Tutorial
END:VEVENT
BEGIN:VEVENT
UID:38363763-6264-4662-b762-303338383237
DTSTAMP:20260419T130605Z
DESCRIPTION:
DTSTART:20231207T131500Z
DTEND:20231207T144500Z
LOCATION:E2.1 R001
SUMMARY:Tutorial
END:VEVENT
BEGIN:VEVENT
UID:63333061-3661-4233-b938-333866636239
DTSTAMP:20260419T130605Z
DESCRIPTION:
DTSTART:20231214T131500Z
DTEND:20231214T144500Z
LOCATION:E2.1 R001
SUMMARY:Tutorial
END:VEVENT
BEGIN:VEVENT
UID:34343535-6364-4165-b065-636666303438
DTSTAMP:20260419T130605Z
DESCRIPTION:
DTSTART:20240104T131500Z
DTEND:20240104T144500Z
LOCATION:E2.1 R001
SUMMARY:Tutorial
END:VEVENT
BEGIN:VEVENT
UID:31623364-3164-4363-a162-313431653532
DTSTAMP:20260419T130605Z
DESCRIPTION:
DTSTART:20240111T131500Z
DTEND:20240111T144500Z
LOCATION:E2.1 R001
SUMMARY:Tutorial
END:VEVENT
BEGIN:VEVENT
UID:33326138-3134-4163-b730-323966366465
DTSTAMP:20260419T130605Z
DESCRIPTION:
DTSTART:20240118T131500Z
DTEND:20240118T144500Z
LOCATION:E2.1 R001
SUMMARY:Tutorial
END:VEVENT
BEGIN:VEVENT
UID:31663031-3638-4637-a434-396332336136
DTSTAMP:20260419T130605Z
DESCRIPTION:
DTSTART:20240125T131500Z
DTEND:20240125T144500Z
LOCATION:E2.1 R001
SUMMARY:Tutorial
END:VEVENT
BEGIN:VEVENT
UID:30323164-3666-4837-a438-373936326663
DTSTAMP:20260419T130605Z
DESCRIPTION:
DTSTART:20240201T131500Z
DTEND:20240201T144500Z
LOCATION:E2.1 R001
SUMMARY:Tutorial
END:VEVENT
END:VCALENDAR
