BEGIN:VCALENDAR
VERSION:2.0
PRODID:-//134.96.226.213//NONSGML kigkonsult.se iCalcreator 2.41.71//
CALSCALE:GREGORIAN
METHOD:PUBLISH
UID:66653039-6634-4630-b934-343731333433
X-WR-CALNAME:Programming Course (MSc Bioinformatics) Calendar
X-WR-CALDESC:Events of the lecture Programming Course (MSc Bioinformatics)
X-WR-TIMEZONE:Europe/Berlin
BEGIN:VEVENT
UID:62383962-3036-4137-a661-646263643935
DTSTAMP:20260419T130502Z
DESCRIPTION:
DTSTART:20231026T101500Z
DTEND:20231026T114500Z
SUMMARY:First Lecture
END:VEVENT
BEGIN:VEVENT
UID:31653134-3334-4131-b064-643163323535
DTSTAMP:20260419T130502Z
DESCRIPTION:
DTSTART:20231102T111500Z
DTEND:20231102T124500Z
LOCATION:E2.1 R001
SUMMARY:Lecture
END:VEVENT
BEGIN:VEVENT
UID:35313733-6563-4163-b836-626531656663
DTSTAMP:20260419T130502Z
DESCRIPTION:
DTSTART:20231109T111500Z
DTEND:20231109T124500Z
LOCATION:E2.1 R001
SUMMARY:Lecture
END:VEVENT
BEGIN:VEVENT
UID:37393363-3932-4534-b964-353131633336
DTSTAMP:20260419T130502Z
DESCRIPTION:
DTSTART:20231116T111500Z
DTEND:20231116T124500Z
LOCATION:E2.1 R001
SUMMARY:Lecture
END:VEVENT
BEGIN:VEVENT
UID:37386666-6637-4835-b139-396239386363
DTSTAMP:20260419T130502Z
DESCRIPTION:
DTSTART:20231123T111500Z
DTEND:20231123T124500Z
LOCATION:E2.1 R001
SUMMARY:Lecture
END:VEVENT
BEGIN:VEVENT
UID:66373632-3034-4837-b330-643964333136
DTSTAMP:20260419T130502Z
DESCRIPTION:
DTSTART:20231130T111500Z
DTEND:20231130T124500Z
LOCATION:E2.1 R001
SUMMARY:Lecture
END:VEVENT
BEGIN:VEVENT
UID:36636465-3261-4766-b239-333235646138
DTSTAMP:20260419T130502Z
DESCRIPTION:
DTSTART:20231207T111500Z
DTEND:20231207T124500Z
LOCATION:E2.1 R001
SUMMARY:Lecture
END:VEVENT
BEGIN:VEVENT
UID:35303463-3664-4266-a464-636365373362
DTSTAMP:20260419T130502Z
DESCRIPTION:
DTSTART:20231214T111500Z
DTEND:20231214T124500Z
LOCATION:E2.1 R001
SUMMARY:Lecture
END:VEVENT
BEGIN:VEVENT
UID:36633530-3965-4139-a261-363232313230
DTSTAMP:20260419T130502Z
DESCRIPTION:
DTSTART:20231221T111500Z
DTEND:20231221T124500Z
LOCATION:E2.1 R001
SUMMARY:Lecture
END:VEVENT
BEGIN:VEVENT
UID:38623936-6530-4564-b231-306265393666
DTSTAMP:20260419T130502Z
DESCRIPTION:
DTSTART:20240104T111500Z
DTEND:20240104T124500Z
LOCATION:E2.1 R001
SUMMARY:Lecture
END:VEVENT
BEGIN:VEVENT
UID:38616463-6335-4631-b866-323436656334
DTSTAMP:20260419T130502Z
DESCRIPTION:
DTSTART:20240111T111500Z
DTEND:20240111T124500Z
LOCATION:E2.1 R001
SUMMARY:Lecture
END:VEVENT
BEGIN:VEVENT
UID:33333731-6535-4063-b731-393536363165
DTSTAMP:20260419T130502Z
DESCRIPTION:
DTSTART:20240118T111500Z
DTEND:20240118T124500Z
LOCATION:E2.1 R001
SUMMARY:Lecture
END:VEVENT
BEGIN:VEVENT
UID:37653762-6465-4061-b737-356531303234
DTSTAMP:20260419T130502Z
DESCRIPTION:
DTSTART:20240125T111500Z
DTEND:20240125T124500Z
LOCATION:E2.1 R001
SUMMARY:Lecture
END:VEVENT
END:VCALENDAR
