BEGIN:VCALENDAR
VERSION:2.0
PRODID:-//134.96.226.213//NONSGML kigkonsult.se iCalcreator 2.41.71//
CALSCALE:GREGORIAN
METHOD:PUBLISH
UID:39333162-3463-4463-b137-343836393263
X-WR-CALNAME:Programming Course (MSc Bioinformatics) Calendar
X-WR-CALDESC:Events of the lecture Programming Course (MSc Bioinformatics)
X-WR-TIMEZONE:Europe/Berlin
BEGIN:VEVENT
UID:39373933-3139-4361-b332-633662623865
DTSTAMP:20260419T130611Z
DESCRIPTION:
DTSTART:20231101T225900Z
DTEND:20231101T225900Z
SUMMARY:Course Registration
END:VEVENT
BEGIN:VEVENT
UID:36613732-6431-4734-b539-373163323661
DTSTAMP:20260419T130611Z
DESCRIPTION:
DTSTART:20231108T225900Z
DTEND:20231108T225900Z
SUMMARY:Deadline Assignment Sheet 0
END:VEVENT
BEGIN:VEVENT
UID:32663161-3631-4661-a334-333638316561
DTSTAMP:20260419T130611Z
DESCRIPTION:
DTSTART:20231122T225900Z
DTEND:20231122T225900Z
SUMMARY:Deadline Assignment Sheet 1
END:VEVENT
BEGIN:VEVENT
UID:31323639-3165-4561-b435-316563383466
DTSTAMP:20260419T130611Z
DESCRIPTION:
DTSTART:20231206T225900Z
DTEND:20231206T225900Z
SUMMARY:Deadline Assignment Sheet 2
END:VEVENT
BEGIN:VEVENT
UID:36383164-3331-4433-b835-633635653038
DTSTAMP:20260419T130611Z
DESCRIPTION:
DTSTART:20231220T225900Z
DTEND:20231220T225900Z
SUMMARY:Deadline Assignment Sheet 3
END:VEVENT
BEGIN:VEVENT
UID:37633662-3839-4262-b839-336363653534
DTSTAMP:20260419T130611Z
DESCRIPTION:
DTSTART:20240117T225900Z
DTEND:20240117T225900Z
SUMMARY:Deadline Assignment Sheet 4
END:VEVENT
BEGIN:VEVENT
UID:66616461-6337-4736-b739-636234363036
DTSTAMP:20260419T130611Z
DESCRIPTION:
DTSTART:20240131T225900Z
DTEND:20240131T225900Z
SUMMARY:Deadline Assignment Sheet 5
END:VEVENT
END:VCALENDAR
