BEGIN:VCALENDAR
VERSION:2.0
PRODID:-//134.96.226.213//NONSGML kigkonsult.se iCalcreator 2.41.71//
CALSCALE:GREGORIAN
METHOD:PUBLISH
UID:31376534-3337-4536-a135-326437333663
X-WR-CALNAME:Programming 2 Calendar
X-WR-CALDESC:Events of the lecture Programming 2
X-WR-TIMEZONE:Europe/Berlin
BEGIN:VEVENT
UID:37366436-3561-4331-b532-633434386164
DTSTAMP:20260419T142710Z
DESCRIPTION:https://cms.sic.saarland/p2vorkurs23/
DTSTART;VALUE=DATE:20230403
DTEND;VALUE=DATE:20230407
SUMMARY:Programming 2 Pre-Course
END:VEVENT
BEGIN:VEVENT
UID:36636638-6263-4936-b231-393339663661
DTSTAMP:20260419T142710Z
DESCRIPTION:
DTSTART:20230420T101500Z
DTEND:20230420T114500Z
LOCATION:016\, E 1 3
SUMMARY:Office Hour
END:VEVENT
BEGIN:VEVENT
UID:62363965-3933-4161-b966-343465326365
DTSTAMP:20260419T142710Z
DESCRIPTION:
DTSTART:20230421T121500Z
DTEND:20230421T134500Z
LOCATION:016\, E 1 3
SUMMARY:Office Hour
END:VEVENT
BEGIN:VEVENT
UID:62633035-3837-4535-a162-373738646130
DTSTAMP:20260419T142710Z
DESCRIPTION:
DTSTART:20230424T101500Z
DTEND:20230424T114500Z
LOCATION:016\, E 1 3
SUMMARY:Office Hour
END:VEVENT
BEGIN:VEVENT
UID:36656362-3962-4236-a166-376533326630
DTSTAMP:20260419T142710Z
DESCRIPTION:
DTSTART:20230425T101500Z
DTEND:20230425T114500Z
LOCATION:016\, E 1 3
SUMMARY:Office Hour
END:VEVENT
BEGIN:VEVENT
UID:30663631-3633-4863-b666-313332633736
DTSTAMP:20260419T142710Z
DESCRIPTION:
DTSTART:20230427T101500Z
DTEND:20230427T114500Z
LOCATION:016\, E 1 3
SUMMARY:Office Hour
END:VEVENT
BEGIN:VEVENT
UID:66306162-3630-4636-b232-653661643535
DTSTAMP:20260419T142710Z
DESCRIPTION:
DTSTART:20230428T121500Z
DTEND:20230428T134500Z
LOCATION:016\, E 1 3
SUMMARY:Office Hour
END:VEVENT
BEGIN:VEVENT
UID:64393763-3861-4465-b337-373866303039
DTSTAMP:20260419T142710Z
DESCRIPTION:
DTSTART:20230502T101500Z
DTEND:20230502T114500Z
LOCATION:016\, E 1 3
SUMMARY:Office Hour
END:VEVENT
BEGIN:VEVENT
UID:33663636-3238-4833-b131-326161636134
DTSTAMP:20260419T142710Z
DESCRIPTION:
DTSTART:20230504T101500Z
DTEND:20230504T114500Z
LOCATION:016\, E 1 3
SUMMARY:Office Hour
END:VEVENT
BEGIN:VEVENT
UID:38343362-3139-4733-b731-643337613366
DTSTAMP:20260419T142710Z
DESCRIPTION:
DTSTART:20230505T121500Z
DTEND:20230505T134500Z
LOCATION:016\, E 1 3
SUMMARY:Office Hour
END:VEVENT
BEGIN:VEVENT
UID:37613934-3066-4436-b432-653963306431
DTSTAMP:20260419T142710Z
DESCRIPTION:
DTSTART:20230508T101500Z
DTEND:20230508T114500Z
LOCATION:016\, E 1 3
SUMMARY:Office Hour
END:VEVENT
BEGIN:VEVENT
UID:38653831-6333-4461-a438-646262633666
DTSTAMP:20260419T142710Z
DESCRIPTION:
DTSTART:20230509T101500Z
DTEND:20230509T114500Z
LOCATION:016\, E 1 3
SUMMARY:Office Hour
END:VEVENT
BEGIN:VEVENT
UID:31356165-6139-4364-b162-633561353634
DTSTAMP:20260419T142710Z
DESCRIPTION:
DTSTART:20230511T101500Z
DTEND:20230511T114500Z
LOCATION:016\, E 1 3
SUMMARY:Office Hour
END:VEVENT
BEGIN:VEVENT
UID:64633237-3364-4565-b333-633533653239
DTSTAMP:20260419T142710Z
DESCRIPTION:
DTSTART:20230512T121500Z
DTEND:20230512T134500Z
LOCATION:016\, E 1 3
SUMMARY:Office Hour
END:VEVENT
BEGIN:VEVENT
UID:32353866-6539-4863-a364-383736326538
DTSTAMP:20260419T142710Z
DESCRIPTION:
DTSTART:20230515T101500Z
DTEND:20230515T114500Z
LOCATION:016\, E 1 3
SUMMARY:Office Hour
END:VEVENT
BEGIN:VEVENT
UID:38623764-6462-4430-a332-613637633731
DTSTAMP:20260419T142710Z
DESCRIPTION:
DTSTART:20230516T101500Z
DTEND:20230516T114500Z
LOCATION:016\, E 1 3
SUMMARY:Office Hour
END:VEVENT
BEGIN:VEVENT
UID:62646339-3731-4336-a662-386165383333
DTSTAMP:20260419T142710Z
DESCRIPTION:
DTSTART:20230522T101500Z
DTEND:20230522T114500Z
LOCATION:016\, E 1 3
SUMMARY:Office Hour
END:VEVENT
BEGIN:VEVENT
UID:62633738-3665-4866-a539-376561353335
DTSTAMP:20260419T142710Z
DESCRIPTION:
DTSTART:20230523T101500Z
DTEND:20230523T114500Z
LOCATION:016\, E 1 3
SUMMARY:Office Hour
END:VEVENT
BEGIN:VEVENT
UID:63346536-6263-4235-a433-356136353039
DTSTAMP:20260419T142710Z
DESCRIPTION:
DTSTART:20230525T101500Z
DTEND:20230525T114500Z
LOCATION:016\, E 1 3
SUMMARY:Office Hour
END:VEVENT
BEGIN:VEVENT
UID:33366638-3464-4230-b233-366163313138
DTSTAMP:20260419T142710Z
DESCRIPTION:
DTSTART:20230526T121500Z
DTEND:20230526T134500Z
LOCATION:016\, E 1 3
SUMMARY:Office Hour
END:VEVENT
BEGIN:VEVENT
UID:62333239-3564-4137-b663-656439333332
DTSTAMP:20260419T142710Z
DESCRIPTION:
DTSTART:20230530T101500Z
DTEND:20230530T114500Z
LOCATION:016\, E 1 3
SUMMARY:Office Hour
END:VEVENT
BEGIN:VEVENT
UID:31376464-6533-4063-b832-313761386630
DTSTAMP:20260419T142710Z
DESCRIPTION:
DTSTART:20230601T101500Z
DTEND:20230601T114500Z
LOCATION:016\, E 1 3
SUMMARY:Office Hour
END:VEVENT
BEGIN:VEVENT
UID:35313332-3933-4838-b834-306437396530
DTSTAMP:20260419T142710Z
DESCRIPTION:
DTSTART:20230602T121500Z
DTEND:20230602T134500Z
LOCATION:016\, E 1 3
SUMMARY:Office Hour
END:VEVENT
BEGIN:VEVENT
UID:66613831-3962-4034-b861-356233303839
DTSTAMP:20260419T142710Z
DESCRIPTION:
DTSTART:20230605T101500Z
DTEND:20230605T114500Z
LOCATION:016\, E 1 3
SUMMARY:Office Hour
END:VEVENT
BEGIN:VEVENT
UID:37626434-3966-4935-a231-646433323935
DTSTAMP:20260419T142710Z
DESCRIPTION:
DTSTART:20230606T101500Z
DTEND:20230606T114500Z
LOCATION:016\, E 1 3
SUMMARY:Office Hour
END:VEVENT
BEGIN:VEVENT
UID:38333136-3662-4233-b464-333035336233
DTSTAMP:20260419T142710Z
DESCRIPTION:
DTSTART:20230609T120000Z
DTEND:20230609T140000Z
LOCATION:016\, E1 3
SUMMARY:Office Hour
END:VEVENT
BEGIN:VEVENT
UID:38363030-3338-4262-b661-336539653535
DTSTAMP:20260419T142710Z
DESCRIPTION:
DTSTART:20230612T101500Z
DTEND:20230612T114500Z
LOCATION:016\, E 1 3
SUMMARY:Office Hour
END:VEVENT
BEGIN:VEVENT
UID:34666333-6332-4934-b136-333163336433
DTSTAMP:20260419T142710Z
DESCRIPTION:
DTSTART:20230613T101500Z
DTEND:20230613T114500Z
LOCATION:016\, E 1 3
SUMMARY:Office Hour
END:VEVENT
BEGIN:VEVENT
UID:32643763-6366-4665-b262-333632643332
DTSTAMP:20260419T142710Z
DESCRIPTION:
DTSTART:20230615T101500Z
DTEND:20230615T114500Z
LOCATION:016\, E 1 3
SUMMARY:Office Hour
END:VEVENT
BEGIN:VEVENT
UID:30333264-6566-4531-a361-303061653061
DTSTAMP:20260419T142710Z
DESCRIPTION:
DTSTART:20230616T121500Z
DTEND:20230616T134500Z
LOCATION:016\, E 1 3
SUMMARY:Office Hour
END:VEVENT
BEGIN:VEVENT
UID:63646634-3133-4862-b533-323138323462
DTSTAMP:20260419T142710Z
DESCRIPTION:
DTSTART:20230619T101500Z
DTEND:20230619T114500Z
LOCATION:016\, E 1 3
SUMMARY:Office Hour
END:VEVENT
BEGIN:VEVENT
UID:63363535-6430-4932-b835-353964323730
DTSTAMP:20260419T142710Z
DESCRIPTION:
DTSTART:20230620T101500Z
DTEND:20230620T114500Z
LOCATION:016\, E 1 3
SUMMARY:Office Hour
END:VEVENT
BEGIN:VEVENT
UID:63313339-3537-4234-b964-306232663363
DTSTAMP:20260419T142710Z
DESCRIPTION:
DTSTART:20230622T101500Z
DTEND:20230622T114500Z
LOCATION:016\, E 1 3
SUMMARY:Office Hour
END:VEVENT
BEGIN:VEVENT
UID:35666431-3131-4566-b235-306534663239
DTSTAMP:20260419T142710Z
DESCRIPTION:
DTSTART:20230623T121500Z
DTEND:20230623T134500Z
LOCATION:016\, E 1 3
SUMMARY:Office Hour
END:VEVENT
BEGIN:VEVENT
UID:37356664-3263-4363-b736-303630316630
DTSTAMP:20260419T142710Z
DESCRIPTION:
DTSTART:20230626T101500Z
DTEND:20230626T114500Z
LOCATION:016\, E 1 3
SUMMARY:Office Hour
END:VEVENT
BEGIN:VEVENT
UID:34626235-3665-4337-b239-323363633333
DTSTAMP:20260419T142710Z
DESCRIPTION:
DTSTART:20230627T101500Z
DTEND:20230627T114500Z
LOCATION:016\, E 1 3
SUMMARY:Office Hour
END:VEVENT
BEGIN:VEVENT
UID:38393564-6662-4661-b839-353339356537
DTSTAMP:20260419T142710Z
DESCRIPTION:
DTSTART:20230629T101500Z
DTEND:20230629T114500Z
LOCATION:016\, E 1 3
SUMMARY:Office Hour
END:VEVENT
BEGIN:VEVENT
UID:37353733-6536-4364-b932-633961353937
DTSTAMP:20260419T142710Z
DESCRIPTION:
DTSTART:20230630T121500Z
DTEND:20230630T134500Z
LOCATION:016\, E 1 3
SUMMARY:Office Hour
END:VEVENT
BEGIN:VEVENT
UID:64363264-3636-4330-a463-353037613062
DTSTAMP:20260419T142710Z
DESCRIPTION:
DTSTART:20230703T101500Z
DTEND:20230703T114500Z
LOCATION:016\, E 1 3
SUMMARY:Office Hour
END:VEVENT
BEGIN:VEVENT
UID:61333438-3361-4436-b631-656337396462
DTSTAMP:20260419T142710Z
DESCRIPTION:
DTSTART:20230704T101500Z
DTEND:20230704T114500Z
LOCATION:016\, E 1 3
SUMMARY:Office Hour
END:VEVENT
BEGIN:VEVENT
UID:64343032-6230-4766-a365-313364396231
DTSTAMP:20260419T142710Z
DESCRIPTION:
DTSTART:20230706T101500Z
DTEND:20230706T114500Z
LOCATION:016\, E 1 3
SUMMARY:Office Hour
END:VEVENT
BEGIN:VEVENT
UID:66393937-3766-4535-b662-313664393337
DTSTAMP:20260419T142710Z
DESCRIPTION:
DTSTART:20230707T121500Z
DTEND:20230707T134500Z
LOCATION:016\, E 1 3
SUMMARY:Office Hour
END:VEVENT
BEGIN:VEVENT
UID:36376462-6162-4732-b136-636332616266
DTSTAMP:20260419T142710Z
DESCRIPTION:
DTSTART:20230710T101500Z
DTEND:20230710T114500Z
LOCATION:016\, E 1 3
SUMMARY:Office Hour
END:VEVENT
BEGIN:VEVENT
UID:36353365-3462-4962-b735-653837643133
DTSTAMP:20260419T142710Z
DESCRIPTION:
DTSTART:20230711T101500Z
DTEND:20230711T114500Z
LOCATION:016\, E 1 3
SUMMARY:Office Hour
END:VEVENT
BEGIN:VEVENT
UID:34663835-3765-4561-b838-646335303733
DTSTAMP:20260419T142710Z
DESCRIPTION:
DTSTART:20230713T101500Z
DTEND:20230713T114500Z
LOCATION:016\, E 1 3
SUMMARY:Office Hour
END:VEVENT
BEGIN:VEVENT
UID:31636234-3965-4135-b761-626234376434
DTSTAMP:20260419T142710Z
DESCRIPTION:
DTSTART:20230714T121500Z
DTEND:20230714T134500Z
LOCATION:016\, E 1 3
SUMMARY:Office Hour
END:VEVENT
BEGIN:VEVENT
UID:30356234-3762-4238-b830-373939303037
DTSTAMP:20260419T142710Z
DESCRIPTION:
DTSTART:20230717T101500Z
DTEND:20230717T114500Z
LOCATION:016\, E 1 3
SUMMARY:Office Hour
END:VEVENT
BEGIN:VEVENT
UID:32333963-3265-4633-b762-623062306436
DTSTAMP:20260419T142710Z
DESCRIPTION:
DTSTART:20230718T101500Z
DTEND:20230718T114500Z
LOCATION:016\, E 1 3
SUMMARY:Office Hour
END:VEVENT
BEGIN:VEVENT
UID:65373263-3236-4161-a135-383633333235
DTSTAMP:20260419T142710Z
DESCRIPTION:
DTSTART:20230720T101500Z
DTEND:20230720T114500Z
LOCATION:016\, E 1 3
SUMMARY:Office Hour
END:VEVENT
BEGIN:VEVENT
UID:64666138-6565-4963-b432-363436646465
DTSTAMP:20260419T142710Z
DESCRIPTION:
DTSTART:20230721T121500Z
DTEND:20230721T134500Z
LOCATION:016\, E 1 3
SUMMARY:Office Hour
END:VEVENT
END:VCALENDAR
