BEGIN:VCALENDAR
VERSION:2.0
PRODID:-//134.96.226.213//NONSGML kigkonsult.se iCalcreator 2.41.71//
CALSCALE:GREGORIAN
METHOD:PUBLISH
UID:65633633-3663-4634-a663-313433656639
X-WR-CALNAME:Programming 2 Calendar
X-WR-CALDESC:Events of the lecture Programming 2
X-WR-TIMEZONE:Europe/Berlin
BEGIN:VEVENT
UID:30383539-6636-4365-a431-613361313664
DTSTAMP:20260419T130436Z
DESCRIPTION:
DTSTART:20230426T160000Z
DTEND:20230426T170000Z
LOCATION:Building E2 2 - Lecture hall 0.01 (Günter-Hotz-Hörsaal)
SUMMARY:Prog2: Project presentation
END:VEVENT
BEGIN:VEVENT
UID:32393235-6266-4539-b932-303933613063
DTSTAMP:20260419T130436Z
DESCRIPTION:
DTSTART:20230510T160000Z
DTEND:20230510T170000Z
LOCATION:Building E2 5 - Lecture hall 0.1
SUMMARY:Prog2: Project presentation
END:VEVENT
BEGIN:VEVENT
UID:31313334-3032-4463-b939-636539383564
DTSTAMP:20260419T130436Z
DESCRIPTION:
DTSTART:20230524T160000Z
DTEND:20230524T170000Z
LOCATION:Building E2 2 - Lecture hall 0.01 (Günter-Hotz-Hörsaal)
SUMMARY:Prog2: Project presentation
END:VEVENT
BEGIN:VEVENT
UID:30316165-3866-4564-b838-613434653535
DTSTAMP:20260419T130436Z
DESCRIPTION:
DTSTART:20230607T160000Z
DTEND:20230607T170000Z
LOCATION:Building E2 2 - Lecture hall 0.01 (Günter-Hotz-Hörsaal)
SUMMARY:Prog2: Project presentation
END:VEVENT
BEGIN:VEVENT
UID:39353465-3664-4166-b063-396664393132
DTSTAMP:20260419T130436Z
DESCRIPTION:
DTSTART:20230621T160000Z
DTEND:20230621T170000Z
LOCATION:Building E2 2 - Lecture hall 0.01 (Günter-Hotz-Hörsaal)
SUMMARY:Prog2: Project presentation
END:VEVENT
BEGIN:VEVENT
UID:35373764-3537-4536-b636-363639363362
DTSTAMP:20260419T130436Z
DESCRIPTION:
DTSTART:20230705T160000Z
DTEND:20230705T170000Z
LOCATION:Building E2 2 - Lecture hall 0.01 (Günter-Hotz-Hörsaal)
SUMMARY:Prog2: Project presentation
END:VEVENT
END:VCALENDAR
