BEGIN:VCALENDAR
VERSION:2.0
PRODID:-//134.96.226.213//NONSGML kigkonsult.se iCalcreator 2.41.71//
CALSCALE:GREGORIAN
METHOD:PUBLISH
UID:33623232-6338-4661-a563-306632636334
X-WR-CALNAME:Programming 2 Calendar
X-WR-CALDESC:Events of the lecture Programming 2
X-WR-TIMEZONE:Europe/Berlin
BEGIN:VEVENT
UID:36366233-6436-4935-a236-613865326531
DTSTAMP:20260419T130437Z
DESCRIPTION:
DTSTART:20230419T101500Z
DTEND:20230419T120000Z
SUMMARY:Prog2: Tutorial
END:VEVENT
BEGIN:VEVENT
UID:33623738-3763-4563-a432-306537653034
DTSTAMP:20260419T130437Z
DESCRIPTION:
DTSTART:20230419T121500Z
DTEND:20230419T140000Z
SUMMARY:Prog2: Tutorial
END:VEVENT
BEGIN:VEVENT
UID:66323031-3933-4763-b864-323161353835
DTSTAMP:20260419T130437Z
DESCRIPTION:
DTSTART:20230419T141500Z
DTEND:20230419T160000Z
SUMMARY:Prog2: Tutorial
END:VEVENT
BEGIN:VEVENT
UID:34626438-6236-4235-b063-653130396630
DTSTAMP:20260419T130437Z
DESCRIPTION:
DTSTART:20230426T101500Z
DTEND:20230426T120000Z
SUMMARY:Prog2: Tutorial
END:VEVENT
BEGIN:VEVENT
UID:31616130-3835-4534-a332-346230383338
DTSTAMP:20260419T130437Z
DESCRIPTION:
DTSTART:20230426T121500Z
DTEND:20230426T140000Z
SUMMARY:Prog2: Tutorial
END:VEVENT
BEGIN:VEVENT
UID:37373563-3062-4333-b061-623035363533
DTSTAMP:20260419T130437Z
DESCRIPTION:
DTSTART:20230426T141500Z
DTEND:20230426T160000Z
SUMMARY:Prog2: Tutorial
END:VEVENT
BEGIN:VEVENT
UID:36643333-3833-4339-b365-626139393964
DTSTAMP:20260419T130437Z
DESCRIPTION:
DTSTART:20230503T101500Z
DTEND:20230503T120000Z
SUMMARY:Prog2: Tutorial
END:VEVENT
BEGIN:VEVENT
UID:34623731-3661-4939-b339-663061656238
DTSTAMP:20260419T130437Z
DESCRIPTION:
DTSTART:20230503T121500Z
DTEND:20230503T140000Z
SUMMARY:Prog2: Tutorial
END:VEVENT
BEGIN:VEVENT
UID:34653236-3465-4162-b336-363932646233
DTSTAMP:20260419T130437Z
DESCRIPTION:
DTSTART:20230503T141500Z
DTEND:20230503T160000Z
SUMMARY:Prog2: Tutorial
END:VEVENT
BEGIN:VEVENT
UID:33376433-3839-4434-b331-653737656266
DTSTAMP:20260419T130437Z
DESCRIPTION:
DTSTART:20230510T101500Z
DTEND:20230510T120000Z
SUMMARY:Prog2: Tutorial
END:VEVENT
BEGIN:VEVENT
UID:36613934-3030-4331-b265-333737396138
DTSTAMP:20260419T130437Z
DESCRIPTION:
DTSTART:20230510T121500Z
DTEND:20230510T140000Z
SUMMARY:Prog2: Tutorial
END:VEVENT
BEGIN:VEVENT
UID:64303365-3165-4436-a635-343361326135
DTSTAMP:20260419T130437Z
DESCRIPTION:
DTSTART:20230510T141500Z
DTEND:20230510T160000Z
SUMMARY:Prog2: Tutorial
END:VEVENT
BEGIN:VEVENT
UID:31626663-3661-4837-b265-373837343461
DTSTAMP:20260419T130437Z
DESCRIPTION:
DTSTART:20230517T101500Z
DTEND:20230517T120000Z
SUMMARY:Prog2: Tutorial
END:VEVENT
BEGIN:VEVENT
UID:36613338-3766-4761-b236-323735623630
DTSTAMP:20260419T130437Z
DESCRIPTION:
DTSTART:20230517T121500Z
DTEND:20230517T140000Z
SUMMARY:Prog2: Tutorial
END:VEVENT
BEGIN:VEVENT
UID:32353533-3630-4036-a466-633130323032
DTSTAMP:20260419T130437Z
DESCRIPTION:
DTSTART:20230517T141500Z
DTEND:20230517T160000Z
SUMMARY:Prog2: Tutorial
END:VEVENT
BEGIN:VEVENT
UID:33646438-6633-4736-a662-646364356333
DTSTAMP:20260419T130437Z
DESCRIPTION:
DTSTART:20230524T101500Z
DTEND:20230524T120000Z
SUMMARY:Prog2: Tutorial
END:VEVENT
BEGIN:VEVENT
UID:31336133-6437-4435-a430-313935366231
DTSTAMP:20260419T130437Z
DESCRIPTION:
DTSTART:20230524T121500Z
DTEND:20230524T140000Z
SUMMARY:Prog2: Tutorial
END:VEVENT
BEGIN:VEVENT
UID:65373735-3863-4864-b162-653262333333
DTSTAMP:20260419T130437Z
DESCRIPTION:
DTSTART:20230524T141500Z
DTEND:20230524T160000Z
SUMMARY:Prog2: Tutorial
END:VEVENT
BEGIN:VEVENT
UID:37633331-3234-4034-a635-386433623966
DTSTAMP:20260419T130437Z
DESCRIPTION:
DTSTART:20230531T101500Z
DTEND:20230531T120000Z
SUMMARY:Prog2: Tutorial
END:VEVENT
BEGIN:VEVENT
UID:35353837-3532-4463-b563-333064643963
DTSTAMP:20260419T130437Z
DESCRIPTION:
DTSTART:20230531T121500Z
DTEND:20230531T140000Z
SUMMARY:Prog2: Tutorial
END:VEVENT
BEGIN:VEVENT
UID:37363839-3761-4261-b063-343230363638
DTSTAMP:20260419T130437Z
DESCRIPTION:
DTSTART:20230531T141500Z
DTEND:20230531T160000Z
SUMMARY:Prog2: Tutorial
END:VEVENT
BEGIN:VEVENT
UID:34613836-3238-4333-b533-623633643436
DTSTAMP:20260419T130437Z
DESCRIPTION:
DTSTART:20230607T101500Z
DTEND:20230607T120000Z
SUMMARY:Prog2: Tutorial
END:VEVENT
BEGIN:VEVENT
UID:66336661-3037-4462-b462-383561373139
DTSTAMP:20260419T130437Z
DESCRIPTION:
DTSTART:20230607T121500Z
DTEND:20230607T140000Z
SUMMARY:Prog2: Tutorial
END:VEVENT
BEGIN:VEVENT
UID:63303935-6463-4637-b736-376235643561
DTSTAMP:20260419T130437Z
DESCRIPTION:
DTSTART:20230607T141500Z
DTEND:20230607T160000Z
SUMMARY:Prog2: Tutorial
END:VEVENT
BEGIN:VEVENT
UID:65313661-3333-4936-b066-343932663537
DTSTAMP:20260419T130437Z
DESCRIPTION:
DTSTART:20230614T101500Z
DTEND:20230614T120000Z
SUMMARY:Prog2: Tutorial
END:VEVENT
BEGIN:VEVENT
UID:39313864-3865-4662-a333-393539303765
DTSTAMP:20260419T130437Z
DESCRIPTION:
DTSTART:20230614T121500Z
DTEND:20230614T140000Z
SUMMARY:Prog2: Tutorial
END:VEVENT
BEGIN:VEVENT
UID:39623937-3863-4666-b137-633063356564
DTSTAMP:20260419T130437Z
DESCRIPTION:
DTSTART:20230614T141500Z
DTEND:20230614T160000Z
SUMMARY:Prog2: Tutorial
END:VEVENT
BEGIN:VEVENT
UID:35343035-6265-4431-a566-333838306362
DTSTAMP:20260419T130437Z
DESCRIPTION:
DTSTART:20230621T101500Z
DTEND:20230621T120000Z
SUMMARY:Prog2: Tutorial
END:VEVENT
BEGIN:VEVENT
UID:63306361-6363-4035-b135-343438343161
DTSTAMP:20260419T130437Z
DESCRIPTION:
DTSTART:20230621T121500Z
DTEND:20230621T140000Z
SUMMARY:Prog2: Tutorial
END:VEVENT
BEGIN:VEVENT
UID:31333364-3264-4562-a363-366561373633
DTSTAMP:20260419T130437Z
DESCRIPTION:
DTSTART:20230621T141500Z
DTEND:20230621T160000Z
SUMMARY:Prog2: Tutorial
END:VEVENT
BEGIN:VEVENT
UID:38636661-3834-4461-b832-613438616431
DTSTAMP:20260419T130437Z
DESCRIPTION:
DTSTART:20230628T101500Z
DTEND:20230628T120000Z
SUMMARY:Prog2: Tutorial
END:VEVENT
BEGIN:VEVENT
UID:62636364-6333-4263-b437-646439373031
DTSTAMP:20260419T130437Z
DESCRIPTION:
DTSTART:20230628T121500Z
DTEND:20230628T140000Z
SUMMARY:Prog2: Tutorial
END:VEVENT
BEGIN:VEVENT
UID:33333731-6164-4561-b639-376265666261
DTSTAMP:20260419T130437Z
DESCRIPTION:
DTSTART:20230628T141500Z
DTEND:20230628T160000Z
SUMMARY:Prog2: Tutorial
END:VEVENT
BEGIN:VEVENT
UID:37383332-6638-4134-a435-326438393732
DTSTAMP:20260419T130437Z
DESCRIPTION:
DTSTART:20230705T101500Z
DTEND:20230705T120000Z
SUMMARY:Prog2: Tutorial
END:VEVENT
BEGIN:VEVENT
UID:32333235-3430-4331-b337-663762396163
DTSTAMP:20260419T130437Z
DESCRIPTION:
DTSTART:20230705T121500Z
DTEND:20230705T140000Z
SUMMARY:Prog2: Tutorial
END:VEVENT
BEGIN:VEVENT
UID:33666235-3366-4935-b236-323238333638
DTSTAMP:20260419T130437Z
DESCRIPTION:
DTSTART:20230705T141500Z
DTEND:20230705T160000Z
SUMMARY:Prog2: Tutorial
END:VEVENT
BEGIN:VEVENT
UID:62376633-6538-4263-b166-346336653637
DTSTAMP:20260419T130437Z
DESCRIPTION:
DTSTART:20230712T101500Z
DTEND:20230712T120000Z
SUMMARY:Prog2: Tutorial
END:VEVENT
BEGIN:VEVENT
UID:61623139-6638-4733-b664-646331626631
DTSTAMP:20260419T130437Z
DESCRIPTION:
DTSTART:20230712T121500Z
DTEND:20230712T140000Z
SUMMARY:Prog2: Tutorial
END:VEVENT
BEGIN:VEVENT
UID:63363133-3439-4435-b962-323439383335
DTSTAMP:20260419T130437Z
DESCRIPTION:
DTSTART:20230712T141500Z
DTEND:20230712T160000Z
SUMMARY:Prog2: Tutorial
END:VEVENT
END:VCALENDAR
