BEGIN:VCALENDAR
VERSION:2.0
PRODID:-//134.96.226.213//NONSGML kigkonsult.se iCalcreator 2.41.71//
CALSCALE:GREGORIAN
METHOD:PUBLISH
UID:63363164-3438-4361-a665-396434396538
X-WR-CALNAME:Programming 2 Calendar
X-WR-CALDESC:Events of the lecture Programming 2
X-WR-TIMEZONE:Europe/Berlin
BEGIN:VEVENT
UID:36333438-3765-4435-a133-343236396333
DTSTAMP:20260419T130437Z
DESCRIPTION:
DTSTART:20230808T070000Z
DTEND:20230808T100000Z
LOCATION:see personal status page
SUMMARY:Prog2: Main Exam
END:VEVENT
BEGIN:VEVENT
UID:65383965-3932-4630-b662-376534646130
DTSTAMP:20260419T130437Z
DESCRIPTION:
DTSTART:20230822T070000Z
DTEND:20230822T100000Z
LOCATION:see personal status page
SUMMARY:Prog2: Re-Exam
END:VEVENT
END:VCALENDAR
