BEGIN:VCALENDAR
VERSION:2.0
PRODID:-//134.96.226.213//NONSGML kigkonsult.se iCalcreator 2.41.71//
CALSCALE:GREGORIAN
METHOD:PUBLISH
UID:64653639-3536-4562-a238-313562346533
X-WR-CALNAME:Programming 2 Calendar
X-WR-CALDESC:Events of the lecture Programming 2
X-WR-TIMEZONE:Europe/Berlin
BEGIN:VEVENT
UID:33653736-3163-4438-a461-653761373630
DTSTAMP:20260419T130605Z
DESCRIPTION:
DTSTART;VALUE=DATE:20230503
DTEND;VALUE=DATE:20230504
SUMMARY:Prog2: Minitest
END:VEVENT
BEGIN:VEVENT
UID:63313066-6336-4137-a133-353631306463
DTSTAMP:20260419T130605Z
DESCRIPTION:
DTSTART;VALUE=DATE:20230517
DTEND;VALUE=DATE:20230518
SUMMARY:Prog2: Minitest
END:VEVENT
BEGIN:VEVENT
UID:61376165-3165-4266-b761-346135326261
DTSTAMP:20260419T130605Z
DESCRIPTION:
DTSTART;VALUE=DATE:20230531
DTEND;VALUE=DATE:20230601
SUMMARY:Prog2: Minitest
END:VEVENT
BEGIN:VEVENT
UID:64303762-3938-4232-a561-646232343532
DTSTAMP:20260419T130605Z
DESCRIPTION:
DTSTART;VALUE=DATE:20230614
DTEND;VALUE=DATE:20230615
SUMMARY:Prog2: Minitest
END:VEVENT
BEGIN:VEVENT
UID:61316632-3562-4235-a333-373466383665
DTSTAMP:20260419T130605Z
DESCRIPTION:
DTSTART;VALUE=DATE:20230628
DTEND;VALUE=DATE:20230629
SUMMARY:Prog2: Minitest
END:VEVENT
BEGIN:VEVENT
UID:65316333-3565-4333-a632-346366396564
DTSTAMP:20260419T130605Z
DESCRIPTION:
DTSTART;VALUE=DATE:20230712
DTEND;VALUE=DATE:20230713
SUMMARY:Prog2: Minitest
END:VEVENT
END:VCALENDAR
