BEGIN:VCALENDAR
VERSION:2.0
PRODID:-//134.96.226.213//NONSGML kigkonsult.se iCalcreator 2.41.71//
CALSCALE:GREGORIAN
METHOD:PUBLISH
UID:61346665-3338-4262-a532-313233313863
X-WR-CALNAME:Programming 2 Calendar
X-WR-CALDESC:Events of the lecture Programming 2
X-WR-TIMEZONE:Europe/Berlin
BEGIN:VEVENT
UID:37326333-3665-4239-b937-336431383032
DTSTAMP:20260419T130309Z
DESCRIPTION:R1: Computer Arithmetic\n\n-\n\nSections Covered: Section 1.1\,
  Section 1.2\n\n-\n\nMore details: https://prog2.de/book/section-70.html
DTSTART:20230414T063000Z
DTEND:20230414T080000Z
LOCATION:Building E2.2\, Günter Hotz Lecture Hall
SUMMARY:Lecture
END:VEVENT
BEGIN:VEVENT
UID:62363062-3534-4065-b738-326464383063
DTSTAMP:20260419T130309Z
DESCRIPTION:R2: Computer Arithmetic - Sections Covered. Section 1.3\, Secti
 on 1.4 - More details: https://prog2.de/book/section-71.html
DTSTART:20230418T121500Z
DTEND:20230418T140000Z
LOCATION:Building E2.2\, Günter Hotz Lecture Hall
SUMMARY:Lecture
END:VEVENT
BEGIN:VEVENT
UID:62653665-6634-4262-b734-613536373065
DTSTAMP:20260419T130309Z
DESCRIPTION:M1: Introduction to Machine Code Programming - Sections Covered
 . Section 2.1\, Section 2.2\, Section 2.3\, Section 2.4\, Section 2.7 - ht
 tps://prog2.de/book/section-72.html
DTSTART:20230421T063000Z
DTEND:20230421T080000Z
LOCATION:Building E2.2\, Günter Hotz Lecture Hall
SUMMARY:Lecture
END:VEVENT
BEGIN:VEVENT
UID:64613764-6262-4262-b765-343765373237
DTSTAMP:20260419T130309Z
DESCRIPTION:M2: Simple Algorithms in Machine Code - Sections Covered. Chapt
 er 3 - More details: https://prog2.de/book/section-73.html
DTSTART:20230425T121500Z
DTEND:20230425T140000Z
LOCATION:Building E2.2\, Günter Hotz Lecture Hall
SUMMARY:Lecture
END:VEVENT
BEGIN:VEVENT
UID:66366363-6365-4331-b033-633765616636
DTSTAMP:20260419T130309Z
DESCRIPTION:M3: Function Calls - Sections Covered. Section 2.8 - More detai
 ls: https://prog2.de/book/section-74.html
DTSTART:20230428T063000Z
DTEND:20230428T080000Z
LOCATION:Building E2.2\, Günter Hotz Lecture Hall
SUMMARY:Lecture
END:VEVENT
BEGIN:VEVENT
UID:62663663-6463-4765-b566-316337376162
DTSTAMP:20260419T130309Z
DESCRIPTION:C1: Introduction to C - Sections Covered. Section 4.1\, Section
  4.2\, Section 4.3\, Section 4.4\, Section 4.5 - More details: https://pro
 g2.de/book/section-75.html
DTSTART:20230502T121500Z
DTEND:20230502T140000Z
LOCATION:Building E2.2\, Günter Hotz Lecture Hall
SUMMARY:Lecture
END:VEVENT
BEGIN:VEVENT
UID:32323763-6165-4064-b937-643261346666
DTSTAMP:20260419T130309Z
DESCRIPTION:C2: Expressions and Pointers - Sections Covered. Section 4.6\, 
 Section 4.8\, Section 4.10 - https://prog2.de/book/section-76.html
DTSTART:20230505T063000Z
DTEND:20230505T080000Z
LOCATION:Building E2.2\, Günter Hotz Lecture Hall
SUMMARY:Lecture
END:VEVENT
BEGIN:VEVENT
UID:64633035-6365-4339-a664-373637306533
DTSTAMP:20260419T130309Z
DESCRIPTION:C3: Arrays\, Structs\, I/O - Sections Covered. Subsection 4.10.
 1\, Section 4.13\, Section 4.14 - https://prog2.de/book/section-77.html
DTSTART:20230509T121500Z
DTEND:20230509T140000Z
LOCATION:HS I\, E2 5
SUMMARY:Lecture
END:VEVENT
BEGIN:VEVENT
UID:64366132-6463-4665-b938-313337383362
DTSTAMP:20260419T130309Z
DESCRIPTION:A1: Lists and Trees - Sections Covered. Section 5.1\, Section 5
 .2 - https://prog2.de/book/section-78.html
DTSTART:20230512T063000Z
DTEND:20230512T080000Z
LOCATION:HS I\, E2 5
SUMMARY:Lecture
END:VEVENT
BEGIN:VEVENT
UID:64303638-6631-4363-a332-653766323531
DTSTAMP:20260419T130309Z
DESCRIPTION:Opportunities and Pitfalls when coding with ChatGPT
DTSTART:20230516T121500Z
DTEND:20230516T140000Z
LOCATION:Building E2.2\, Günter Hotz Lecture Hall
SUMMARY:Lecture
END:VEVENT
BEGIN:VEVENT
UID:30306639-3138-4464-b137-346366393562
DTSTAMP:20260419T130309Z
DESCRIPTION:S1: C0 Syntax and Semantics - Sections Covered. Section 6.1\, S
 ection 6.2\, Section 6.3 - https://prog2.de/book/section-80.html
DTSTART:20230523T121500Z
DTEND:20230523T140000Z
LOCATION:Building E2.2\, Günter Hotz Lecture Hall
SUMMARY:Lecture
END:VEVENT
BEGIN:VEVENT
UID:37636532-6333-4038-a662-316466303633
DTSTAMP:20260419T130309Z
DESCRIPTION:S2: Extending C0 to Pointers and Scopes - Sections Covered. Sec
 tion 6.4\, Section 6.5 - https://prog2.de/book/section-81.html
DTSTART:20230526T063000Z
DTEND:20230526T080000Z
LOCATION:Building E2.2\, Günter Hotz Lecture Hall
SUMMARY:Lecture
END:VEVENT
BEGIN:VEVENT
UID:30373336-3365-4538-b261-303063376637
DTSTAMP:20260419T130309Z
DESCRIPTION:S3: Correctness - Sections Covered. Section 7.1 - https://prog2
 .de/book/section-82.html
DTSTART:20230530T121500Z
DTEND:20230530T140000Z
LOCATION:Building E2.2\, Günter Hotz Lecture Hall
SUMMARY:Lecture
END:VEVENT
BEGIN:VEVENT
UID:32386633-3837-4435-b238-346664346163
DTSTAMP:20260419T130309Z
DESCRIPTION:S4: Testing - Sections Covered. Section 7.2\, Section 7.3
DTSTART:20230602T063000Z
DTEND:20230602T080000Z
LOCATION:Building E2.2\, Günter Hotz Lecture Hall
SUMMARY:Lecture
END:VEVENT
BEGIN:VEVENT
UID:39333538-6164-4263-b431-623038623137
DTSTAMP:20260419T130309Z
DESCRIPTION:J1: Intro to Java - Sections Covered. Section 8.1\, Section 8.2
 \, Section 8.3\, Section 8.4
DTSTART:20230606T121500Z
DTEND:20230606T140000Z
LOCATION:Building E2.2\, Günter Hotz Lecture Hall
SUMMARY:Lecture
END:VEVENT
BEGIN:VEVENT
UID:38343230-3265-4066-a639-636666336631
DTSTAMP:20260419T130309Z
DESCRIPTION:J2: Immutable Objects\, Interfaces\, Subtyping - Sections Cover
 ed. Section 8.6\, Section 8.7 - https://prog2.de/book/section-85.html
DTSTART:20230609T063000Z
DTEND:20230609T080000Z
LOCATION:Building E2.2\, Günter Hotz Lecture Hall
SUMMARY:Lecture
END:VEVENT
BEGIN:VEVENT
UID:30306639-6535-4961-b630-366165663331
DTSTAMP:20260419T130309Z
DESCRIPTION:J3: Abstract Classes\, Object\, Overriding and Overloading Meth
 ods - Sections Covered. Section 8.7\, Section 8.8 - https://prog2.de/book/
 section-86.html
DTSTART:20230613T121500Z
DTEND:20230613T140000Z
LOCATION:Building E2.2\, Günter Hotz Lecture Hall
SUMMARY:Lecture
END:VEVENT
BEGIN:VEVENT
UID:38386363-3166-4839-b631-373063326336
DTSTAMP:20260419T130309Z
DESCRIPTION:J4: Sections Covered. Section 8.10\, Section 8.11\, Section 8.1
 2 - https://prog2.de/book/section-87.html
DTSTART:20230616T063000Z
DTEND:20230616T080000Z
LOCATION:Building E2.2\, Günter Hotz Lecture Hall
SUMMARY:Lecture
END:VEVENT
BEGIN:VEVENT
UID:32323230-3931-4963-b438-343262303736
DTSTAMP:20260419T130309Z
DESCRIPTION:A3: Sections Covered. Section 8.9\, Section 5.3 - https://prog2
 .de/book/section-88.html
DTSTART:20230620T121500Z
DTEND:20230620T140000Z
LOCATION:Building E2.2\, Günter Hotz Lecture Hall
SUMMARY:Lecture
END:VEVENT
BEGIN:VEVENT
UID:39316335-6166-4234-a233-303861303930
DTSTAMP:20260419T130309Z
DESCRIPTION:O1 - Sections Covered. Section 9.1\, Section 6.6 - https://prog
 2.de/book/section-90.html
DTSTART:20230627T121500Z
DTEND:20230627T140000Z
LOCATION:Building E2.2\, Günter Hotz Lecture Hall
SUMMARY:Lecture
END:VEVENT
BEGIN:VEVENT
UID:63346462-3938-4663-b731-643438316462
DTSTAMP:20260419T130309Z
DESCRIPTION:O2 - Sections Covered. Section 6.6\, Section 9.2 - https://prog
 2.de/book/section-91.html
DTSTART:20230630T063000Z
DTEND:20230630T080000Z
LOCATION:Building E2.2\, Günter Hotz Lecture Hall
SUMMARY:Lecture
END:VEVENT
BEGIN:VEVENT
UID:66623238-3839-4931-a332-393339346139
DTSTAMP:20260419T130309Z
DESCRIPTION:O3 - Sections Covered. Section 9.3 - https://prog2.de/book/sect
 ion-92.html
DTSTART:20230704T121500Z
DTEND:20230704T140000Z
LOCATION:Building E2.2\, Günter Hotz Lecture Hall
SUMMARY:Lecture
END:VEVENT
BEGIN:VEVENT
UID:35373062-6264-4463-b130-346531393039
DTSTAMP:20260419T130309Z
DESCRIPTION:V1
DTSTART:20230707T063000Z
DTEND:20230707T080000Z
LOCATION:Building E2.2\, Günter Hotz Lecture Hall
SUMMARY:Lecture
END:VEVENT
BEGIN:VEVENT
UID:36633561-6337-4566-a166-363962616264
DTSTAMP:20260419T130309Z
DESCRIPTION:V2
DTSTART:20230711T121500Z
DTEND:20230711T140000Z
LOCATION:Building E2.2\, Günter Hotz Lecture Hall
SUMMARY:Lecture
END:VEVENT
BEGIN:VEVENT
UID:32353736-6231-4237-a335-303066373262
DTSTAMP:20260419T130309Z
DESCRIPTION:End of course & AI tournament
DTSTART:20230718T121500Z
DTEND:20230718T134500Z
LOCATION:Building E2.2\, Günter Hotz Lecture Hall
SUMMARY:Lecture
END:VEVENT
END:VCALENDAR
