BEGIN:VCALENDAR
VERSION:2.0
PRODID:-//134.96.226.213//NONSGML kigkonsult.se iCalcreator 2.41.92//
CALSCALE:GREGORIAN
METHOD:PUBLISH
UID:64626234-3039-4231-b165-616632396539
X-WR-CALNAME:AI Planning Calendar
X-WR-CALDESC:Events of the lecture AI Planning
X-WR-TIMEZONE:Europe/Berlin
BEGIN:VEVENT
UID:31653334-3965-4531-a138-366435393330
DTSTAMP:20260425T121918Z
DESCRIPTION:
DTSTART:20221109T133000Z
DTEND:20221109T143000Z
LOCATION:E1.1\, Office 3.14
SUMMARY:Planning2223:  Office Hour
END:VEVENT
BEGIN:VEVENT
UID:35633139-3236-4234-b366-363538366664
DTSTAMP:20260425T121918Z
DESCRIPTION:
DTSTART:20221116T130000Z
DTEND:20221116T140000Z
LOCATION:E1.1\, Office 3.14
SUMMARY:Planning2223:  Office Hour
END:VEVENT
BEGIN:VEVENT
UID:35343438-6333-4537-b633-316439363438
DTSTAMP:20260425T121918Z
DESCRIPTION:
DTSTART:20221123T130000Z
DTEND:20221123T140000Z
LOCATION:E1.1\, Office 3.14
SUMMARY:Planning2223:  Office Hour
END:VEVENT
BEGIN:VEVENT
UID:64646236-6635-4638-b036-646639633662
DTSTAMP:20260425T121918Z
DESCRIPTION:
DTSTART:20221130T130000Z
DTEND:20221130T140000Z
LOCATION:E1.1\, Office 3.14
SUMMARY:Planning2223:  Office Hour
END:VEVENT
BEGIN:VEVENT
UID:31653230-6461-4863-a565-363864363531
DTSTAMP:20260425T121918Z
DESCRIPTION:
DTSTART:20221207T130000Z
DTEND:20221207T140000Z
LOCATION:E1.1\, Office 3.14
SUMMARY:Planning2223:  Office Hour
END:VEVENT
BEGIN:VEVENT
UID:35646664-6332-4466-b636-313732643639
DTSTAMP:20260425T121918Z
DESCRIPTION:
DTSTART:20221214T130000Z
DTEND:20221214T140000Z
LOCATION:E1.1\, Office 3.14
SUMMARY:Planning2223:  Office Hour
END:VEVENT
BEGIN:VEVENT
UID:34663763-3938-4562-a162-633261363732
DTSTAMP:20260425T121918Z
DESCRIPTION:
DTSTART:20221221T130000Z
DTEND:20221221T140000Z
LOCATION:https://cs-uni-saarland-de.zoom.us/j/9425369212 
SUMMARY:Planning2223: Office Hour (online)
END:VEVENT
BEGIN:VEVENT
UID:64306630-6663-4738-b866-623666323630
DTSTAMP:20260425T121918Z
DESCRIPTION:
DTSTART:20230104T130000Z
DTEND:20230104T140000Z
LOCATION:https://cs-uni-saarland-de.zoom.us/j/9425369212
SUMMARY:Planning2223:  Office Hour (online)
END:VEVENT
BEGIN:VEVENT
UID:63366361-3131-4164-a663-313666306135
DTSTAMP:20260425T121918Z
DESCRIPTION:
DTSTART:20230111T130000Z
DTEND:20230111T140000Z
LOCATION:E1.1\, Office 3.14
SUMMARY:Planning2223:  Office Hour
END:VEVENT
BEGIN:VEVENT
UID:35343262-6139-4239-b034-333634616139
DTSTAMP:20260425T121918Z
DESCRIPTION:
DTSTART:20230118T130000Z
DTEND:20230118T140000Z
LOCATION:E1.1\, Office 3.14
SUMMARY:Planning2223:  Office Hour
END:VEVENT
BEGIN:VEVENT
UID:36356132-6265-4239-b965-393835653762
DTSTAMP:20260425T121918Z
DESCRIPTION:
DTSTART:20230124T130000Z
DTEND:20230124T140000Z
LOCATION:E1.1\, Office 3.14
SUMMARY:Planning2223: Office Hour
END:VEVENT
BEGIN:VEVENT
UID:30366635-3935-4433-a534-343633643836
DTSTAMP:20260425T121918Z
DESCRIPTION:
DTSTART:20230126T130000Z
DTEND:20230126T140000Z
LOCATION:E1.1\, Office 3.14
SUMMARY:Planning2223: Office Hour
END:VEVENT
BEGIN:VEVENT
UID:37616231-3737-4539-a336-663531633466
DTSTAMP:20260425T121918Z
DESCRIPTION:
DTSTART:20230201T130000Z
DTEND:20230201T140000Z
LOCATION:E1.1\, Office 3.14
SUMMARY:Planning2223:  Office Hour
END:VEVENT
END:VCALENDAR
