BEGIN:VCALENDAR
VERSION:2.0
PRODID:-//134.96.226.213//NONSGML kigkonsult.se iCalcreator 2.41.92//
CALSCALE:GREGORIAN
METHOD:PUBLISH
UID:35333463-6430-4239-a132-636564643634
X-WR-CALNAME:AI Planning Calendar
X-WR-CALDESC:Events of the lecture AI Planning
X-WR-TIMEZONE:Europe/Berlin
BEGIN:VEVENT
UID:37663862-3434-4431-b637-336237333864
DTSTAMP:20260425T121609Z
DESCRIPTION:
DTSTART:20221109T133000Z
DTEND:20221109T143000Z
LOCATION:E1.1\, Office 3.14
SUMMARY:Office Hour
END:VEVENT
BEGIN:VEVENT
UID:38396236-3663-4937-b731-343430396263
DTSTAMP:20260425T121609Z
DESCRIPTION:
DTSTART:20221116T130000Z
DTEND:20221116T140000Z
LOCATION:E1.1\, Office 3.14
SUMMARY:Office Hour
END:VEVENT
BEGIN:VEVENT
UID:31303337-6132-4765-a430-386363353836
DTSTAMP:20260425T121609Z
DESCRIPTION:
DTSTART:20221123T130000Z
DTEND:20221123T140000Z
LOCATION:E1.1\, Office 3.14
SUMMARY:Office Hour
END:VEVENT
BEGIN:VEVENT
UID:38636365-6132-4833-b731-396234636363
DTSTAMP:20260425T121609Z
DESCRIPTION:
DTSTART:20221130T130000Z
DTEND:20221130T140000Z
LOCATION:E1.1\, Office 3.14
SUMMARY:Office Hour
END:VEVENT
BEGIN:VEVENT
UID:35616533-3132-4361-b964-353464386331
DTSTAMP:20260425T121609Z
DESCRIPTION:
DTSTART:20221207T130000Z
DTEND:20221207T140000Z
LOCATION:E1.1\, Office 3.14
SUMMARY:Office Hour
END:VEVENT
BEGIN:VEVENT
UID:65303532-3437-4431-b362-623239333939
DTSTAMP:20260425T121609Z
DESCRIPTION:
DTSTART:20221214T130000Z
DTEND:20221214T140000Z
LOCATION:E1.1\, Office 3.14
SUMMARY:Office Hour
END:VEVENT
BEGIN:VEVENT
UID:30666531-3262-4630-b038-353162356162
DTSTAMP:20260425T121609Z
DESCRIPTION:
DTSTART:20221221T130000Z
DTEND:20221221T140000Z
LOCATION:https://cs-uni-saarland-de.zoom.us/j/9425369212 
SUMMARY:Office Hour (online)
END:VEVENT
BEGIN:VEVENT
UID:39613461-3431-4439-a264-636336653037
DTSTAMP:20260425T121609Z
DESCRIPTION:
DTSTART:20230104T130000Z
DTEND:20230104T140000Z
LOCATION:https://cs-uni-saarland-de.zoom.us/j/9425369212
SUMMARY:Office Hour (online)
END:VEVENT
BEGIN:VEVENT
UID:36643536-3034-4463-b531-323136356362
DTSTAMP:20260425T121609Z
DESCRIPTION:
DTSTART:20230111T130000Z
DTEND:20230111T140000Z
LOCATION:E1.1\, Office 3.14
SUMMARY:Office Hour
END:VEVENT
BEGIN:VEVENT
UID:36616439-3666-4362-a437-636364363333
DTSTAMP:20260425T121609Z
DESCRIPTION:
DTSTART:20230118T130000Z
DTEND:20230118T140000Z
LOCATION:E1.1\, Office 3.14
SUMMARY:Office Hour
END:VEVENT
BEGIN:VEVENT
UID:33636130-3862-4734-b364-626238616465
DTSTAMP:20260425T121609Z
DESCRIPTION:
DTSTART:20230124T130000Z
DTEND:20230124T140000Z
LOCATION:E1.1\, Office 3.14
SUMMARY:Office Hour
END:VEVENT
BEGIN:VEVENT
UID:32303638-6531-4633-b130-313739313234
DTSTAMP:20260425T121609Z
DESCRIPTION:
DTSTART:20230126T130000Z
DTEND:20230126T140000Z
LOCATION:E1.1\, Office 3.14
SUMMARY:Office Hour
END:VEVENT
BEGIN:VEVENT
UID:36333633-3861-4164-a139-333835373131
DTSTAMP:20260425T121609Z
DESCRIPTION:
DTSTART:20230201T130000Z
DTEND:20230201T140000Z
LOCATION:E1.1\, Office 3.14
SUMMARY:Office Hour
END:VEVENT
END:VCALENDAR
