BEGIN:VCALENDAR
VERSION:2.0
PRODID:-//134.96.226.213//NONSGML kigkonsult.se iCalcreator 2.41.92//
CALSCALE:GREGORIAN
METHOD:PUBLISH
UID:30373439-3838-4262-b034-303134316363
X-WR-CALNAME:AI Planning Calendar
X-WR-CALDESC:Events of the lecture AI Planning
X-WR-TIMEZONE:Europe/Berlin
BEGIN:VEVENT
UID:62336465-3961-4033-a136-616530353935
DTSTAMP:20260425T121750Z
DESCRIPTION:
DTSTART:20221108T111500Z
DTEND:20221108T124500Z
LOCATION:E1.1\, SR 3.06
SUMMARY:Planning2223: Programming workshop: Introduction to Fast Downward
END:VEVENT
BEGIN:VEVENT
UID:36326638-3338-4530-b936-613265643538
DTSTAMP:20260425T121750Z
DESCRIPTION:
DTSTART:20221118T225900Z
DTEND:20221118T225900Z
SUMMARY:Planning2223: Deadline: Goal Counting
END:VEVENT
BEGIN:VEVENT
UID:33656638-6533-4866-b133-636465306563
DTSTAMP:20260425T121750Z
DESCRIPTION:
DTSTART:20221209T225900Z
DTEND:20221209T225900Z
SUMMARY:Planning2223: Deadline: hmax\, hadd
END:VEVENT
BEGIN:VEVENT
UID:65393962-3063-4164-a663-333266393363
DTSTAMP:20260425T121750Z
DESCRIPTION:
DTSTART:20221218T225900Z
DTEND:20221218T225900Z
SUMMARY:Planning2223: Deadline: Project Groups
END:VEVENT
BEGIN:VEVENT
UID:38366339-3032-4630-a365-613964396363
DTSTAMP:20260425T121750Z
DESCRIPTION:
DTSTART:20230106T225900Z
DTEND:20230106T225900Z
SUMMARY:Planning2223: Deadline: hff\, h2\, EHC
END:VEVENT
BEGIN:VEVENT
UID:35613539-6262-4661-a139-313065323732
DTSTAMP:20260425T121750Z
DESCRIPTION:
DTSTART:20230120T225900Z
DTEND:20230120T225900Z
SUMMARY:Planning2223: Deadline: PDB
END:VEVENT
BEGIN:VEVENT
UID:36396636-6236-4031-b837-623935356461
DTSTAMP:20260425T121750Z
DESCRIPTION:
DTSTART:20230127T225900Z
DTEND:20230127T225900Z
SUMMARY:Planning2223: Deadline POR\, LM\, HA
END:VEVENT
BEGIN:VEVENT
UID:34643236-3963-4330-b462-336563376464
DTSTAMP:20260425T121750Z
DESCRIPTION:
DTSTART:20230203T225900Z
DTEND:20230203T225900Z
SUMMARY:Planning2223: Deadline: Competition (prelim.)
END:VEVENT
BEGIN:VEVENT
UID:38393930-3266-4463-a434-393333633838
DTSTAMP:20260425T121750Z
DESCRIPTION:
DTSTART:20230205T225900Z
DTEND:20230205T225900Z
SUMMARY:Planning2223: Deadline: Competition (final)
END:VEVENT
BEGIN:VEVENT
UID:39343935-3130-4236-b338-613264643032
DTSTAMP:20260425T121750Z
DESCRIPTION:
DTSTART:20230205T225900Z
DTEND:20230205T225900Z
SUMMARY:Planning2223: Deadline: LM-Cut
END:VEVENT
BEGIN:VEVENT
UID:31666137-6138-4364-b332-336234313061
DTSTAMP:20260425T121750Z
DESCRIPTION:
DTSTART:20230207T111500Z
DTEND:20230207T124500Z
LOCATION:E 1.1 Seminar room 3.06
SUMMARY:Planning2223: Student Competition
END:VEVENT
END:VCALENDAR
