BEGIN:VCALENDAR
VERSION:2.0
PRODID:-//134.96.226.213//NONSGML kigkonsult.se iCalcreator 2.41.92//
CALSCALE:GREGORIAN
METHOD:PUBLISH
UID:31316234-6564-4434-b636-653133633062
X-WR-CALNAME:AI Planning Calendar
X-WR-CALDESC:Events of the lecture AI Planning
X-WR-TIMEZONE:Europe/Berlin
BEGIN:VEVENT
UID:38356333-3534-4864-b231-336231346431
DTSTAMP:20260425T134655Z
DESCRIPTION:
DTSTART:20230215T080000Z
DTEND:20230215T100000Z
LOCATION:HS003
SUMMARY:Planning2223: Exam
END:VEVENT
BEGIN:VEVENT
UID:31396431-3039-4139-b362-333137643066
DTSTAMP:20260425T134655Z
DESCRIPTION:
DTSTART:20230222T080000Z
DTEND:20230222T110000Z
SUMMARY:Planning2223: Exam Inspection
END:VEVENT
BEGIN:VEVENT
UID:38663335-3863-4565-a361-336132313530
DTSTAMP:20260425T134655Z
DESCRIPTION:
DTSTART;VALUE=DATE:20230327
DTEND;VALUE=DATE:20230328
SUMMARY:Planning2223: Second exam
END:VEVENT
END:VCALENDAR
