BEGIN:VCALENDAR
VERSION:2.0
PRODID:-//134.96.226.213//NONSGML kigkonsult.se iCalcreator 2.41.92//
CALSCALE:GREGORIAN
METHOD:PUBLISH
UID:34303435-6363-4161-a534-363432653166
X-WR-CALNAME:AI Planning Calendar
X-WR-CALDESC:Events of the lecture AI Planning
X-WR-TIMEZONE:Europe/Berlin
BEGIN:VEVENT
UID:66376236-6438-4637-b364-383638336330
DTSTAMP:20260425T121621Z
DESCRIPTION:
DTSTART;VALUE=DATE:20221102
DTEND;VALUE=DATE:20221103
SUMMARY:Planning2223: Paper exercise 1 handout
END:VEVENT
BEGIN:VEVENT
UID:34313937-3938-4262-b436-303861393133
DTSTAMP:20260425T121621Z
DESCRIPTION:
DTSTART:20221111T225900Z
DTEND:20221111T225900Z
SUMMARY:Planning2223: Paper exercise 1 deadline
END:VEVENT
BEGIN:VEVENT
UID:62623638-3833-4533-a630-623234613061
DTSTAMP:20260425T121621Z
DESCRIPTION:
DTSTART;VALUE=DATE:20221115
DTEND;VALUE=DATE:20221116
SUMMARY:Planning2223: Paper exercise 2 handout
END:VEVENT
BEGIN:VEVENT
UID:35393230-3663-4037-b038-633638336661
DTSTAMP:20260425T121621Z
DESCRIPTION:
DTSTART:20221115T111500Z
DTEND:20221115T124500Z
LOCATION:E 1.3 HS 003
SUMMARY:Planning2223: Tutorial 1
END:VEVENT
BEGIN:VEVENT
UID:62383633-3266-4264-b239-623735346633
DTSTAMP:20260425T121621Z
DESCRIPTION:
DTSTART:20221125T225900Z
DTEND:20221125T225900Z
SUMMARY:Planning2223: Paper exercise 2 deadline
END:VEVENT
BEGIN:VEVENT
UID:38396438-6339-4165-b663-393237346236
DTSTAMP:20260425T121621Z
DESCRIPTION:
DTSTART;VALUE=DATE:20221129
DTEND;VALUE=DATE:20221130
SUMMARY:Planning2223: Paper exercise 3 handout
END:VEVENT
BEGIN:VEVENT
UID:35323835-3466-4537-a535-383161613233
DTSTAMP:20260425T121621Z
DESCRIPTION:
DTSTART:20221129T111500Z
DTEND:20221129T124500Z
LOCATION:E 1.3 HS 003
SUMMARY:Planning2223: Tutorial 2
END:VEVENT
BEGIN:VEVENT
UID:37383430-3266-4163-b431-393631326430
DTSTAMP:20260425T121621Z
DESCRIPTION:
DTSTART:20221209T225900Z
DTEND:20221209T225900Z
SUMMARY:Planning2223: Paper exercise 3 deadline
END:VEVENT
BEGIN:VEVENT
UID:61666336-3631-4736-b037-373361646630
DTSTAMP:20260425T121621Z
DESCRIPTION:
DTSTART;VALUE=DATE:20221213
DTEND;VALUE=DATE:20221214
SUMMARY:Planning2223: Paper exercise 4 handout
END:VEVENT
BEGIN:VEVENT
UID:62393965-3933-4133-a161-663636343930
DTSTAMP:20260425T121621Z
DESCRIPTION:
DTSTART:20221213T111500Z
DTEND:20221213T124500Z
LOCATION:Zoom link: https://cs-uni-saarland-de.zoom.us/j/83013207214?pwd=TH
 p1UDdXK3pMSzJiaEpXc2U5WFRUZz09
SUMMARY:Planning2223: Tutorial 3 (via Zoom)
END:VEVENT
BEGIN:VEVENT
UID:63326364-6562-4232-a132-353539623263
DTSTAMP:20260425T121621Z
DESCRIPTION:
DTSTART:20230106T225900Z
DTEND:20230106T225900Z
SUMMARY:Planning2223: Paper exercise 4 deadline
END:VEVENT
BEGIN:VEVENT
UID:39383661-6264-4339-a238-346530636638
DTSTAMP:20260425T121621Z
DESCRIPTION:
DTSTART;VALUE=DATE:20230110
DTEND;VALUE=DATE:20230111
SUMMARY:Planning2223: Paper exercise 5 handout
END:VEVENT
BEGIN:VEVENT
UID:37633930-6537-4866-a136-376665326161
DTSTAMP:20260425T121621Z
DESCRIPTION:
DTSTART:20230110T111500Z
DTEND:20230110T111500Z
LOCATION:Zoom link: https://cs-uni-saarland-de.zoom.us/j/83013207214?pwd=TH
 p1UDdXK3pMSzJiaEpXc2U5WFRUZz09
SUMMARY:Planning2223: Tutorial 4 (via Zoom)
END:VEVENT
BEGIN:VEVENT
UID:64323663-3364-4566-a335-333162386531
DTSTAMP:20260425T121621Z
DESCRIPTION:
DTSTART:20230120T225900Z
DTEND:20230120T225900Z
SUMMARY:Planning2223: Paper exercise 5 deadline
END:VEVENT
BEGIN:VEVENT
UID:64383934-3062-4333-a338-373535346665
DTSTAMP:20260425T121621Z
DESCRIPTION:
DTSTART:20230124T111500Z
DTEND:20230124T111500Z
LOCATION:Zoom link: https://cs-uni-saarland-de.zoom.us/j/83013207214?pwd=TH
 p1UDdXK3pMSzJiaEpXc2U5WFRUZz09
SUMMARY:Planning2223: Tutorial 5 (via Zoom)
END:VEVENT
END:VCALENDAR
