BEGIN:VCALENDAR
VERSION:2.0
PRODID:-//134.96.226.213//NONSGML kigkonsult.se iCalcreator 2.41.92//
CALSCALE:GREGORIAN
METHOD:PUBLISH
UID:62343031-6234-4332-a135-613730396435
X-WR-CALNAME:AI Planning Calendar
X-WR-CALDESC:Events of the lecture AI Planning
X-WR-TIMEZONE:Europe/Berlin
BEGIN:VEVENT
UID:35343637-6161-4735-a161-656263383236
DTSTAMP:20260425T121917Z
DESCRIPTION:
DTSTART:20221025T101500Z
DTEND:20221025T114500Z
LOCATION:E 1.3 HS 003
SUMMARY:Planning2223: Lecture: About the course (D. Höller)
END:VEVENT
BEGIN:VEVENT
UID:38333033-3561-4463-b236-326430623736
DTSTAMP:20260425T121917Z
DESCRIPTION:
DTSTART:20221026T081500Z
DTEND:20221026T094500Z
LOCATION:E 1.3 HS 003
SUMMARY:Planning2223: Lecture: Planning formalisms (D. Höller)
END:VEVENT
BEGIN:VEVENT
UID:64666462-3837-4235-b333-666564333261
DTSTAMP:20260425T121917Z
DESCRIPTION:
DTSTART:20221102T091500Z
DTEND:20221102T104500Z
LOCATION:E 1.3 HS 003
SUMMARY:Planning2223: Lecture: Causal graphs (D. Höller)
END:VEVENT
BEGIN:VEVENT
UID:36333234-3734-4434-a138-383162616463
DTSTAMP:20260425T121917Z
DESCRIPTION:
DTSTART:20221109T091500Z
DTEND:20221109T104500Z
LOCATION:E 1.3 HS 003
SUMMARY:Planning2223: Lecture: Progression and regression\, heuristic searc
 h (D. Fišer)
END:VEVENT
BEGIN:VEVENT
UID:63363039-6630-4837-a238-363034306634
DTSTAMP:20260425T121917Z
DESCRIPTION:
DTSTART:20221116T091500Z
DTEND:20221116T104500Z
LOCATION:E 1.3 HS 003
SUMMARY:Planning2223: Lecture: Critical path heuristics (D. Fišer)
END:VEVENT
BEGIN:VEVENT
UID:35303134-6534-4533-a436-353335363363
DTSTAMP:20260425T121917Z
DESCRIPTION:
DTSTART:20221123T091500Z
DTEND:20221123T104500Z
LOCATION:E 1.3 HS 003
SUMMARY:Planning2223: Lecture: Delete relaxation (D. Fišer)
END:VEVENT
BEGIN:VEVENT
UID:63346435-3133-4764-a665-356239663866
DTSTAMP:20260425T121917Z
DESCRIPTION:
DTSTART:20221130T091500Z
DTEND:20221130T104500Z
LOCATION:E 1.1 Seminar room 3.06
SUMMARY:Planning2223: Lecture: Delete relaxation (D. Fišer)
END:VEVENT
BEGIN:VEVENT
UID:33366339-6439-4737-b762-306331633861
DTSTAMP:20260425T121917Z
DESCRIPTION:
DTSTART:20221207T091500Z
DTEND:20221207T104500Z
LOCATION:E 1.1 Seminar room 3.06
SUMMARY:Planning2223: Lecture: Abstractions (D. Fišer)
END:VEVENT
BEGIN:VEVENT
UID:31356536-6332-4639-b662-623931623563
DTSTAMP:20260425T121917Z
DESCRIPTION:
DTSTART:20221214T091500Z
DTEND:20221214T104500Z
LOCATION:Zoom link: https://cs-uni-saarland-de.zoom.us/j/83013207214?pwd=TH
 p1UDdXK3pMSzJiaEpXc2U5WFRUZz09
SUMMARY:Planning2223: Lecture: Abstractions\, Pattern databases (D. Fišer\,
  via Zoom)
END:VEVENT
BEGIN:VEVENT
UID:36636634-3931-4434-b765-636638366534
DTSTAMP:20260425T121917Z
DESCRIPTION:
DTSTART:20230111T091500Z
DTEND:20230111T104500Z
LOCATION:E 1.1 Seminar room 3.06
SUMMARY:Planning2223: Lecture: Pattern databases\, Partial order reduction 
 (D. Fišer)
END:VEVENT
BEGIN:VEVENT
UID:36363866-6331-4265-b533-366663363331
DTSTAMP:20260425T121917Z
DESCRIPTION:
DTSTART:20230117T111500Z
DTEND:20230117T124500Z
LOCATION:E 1.1 Seminar room 3.06
SUMMARY:Planning2223: Lecture: Partial order reduction (D. Fišer)\, Landmar
 k heuristics (D. Höller)
END:VEVENT
BEGIN:VEVENT
UID:39393261-6663-4630-b063-336366616366
DTSTAMP:20260425T121917Z
DESCRIPTION:
DTSTART:20230118T091500Z
DTEND:20230118T104500Z
LOCATION:E 1.1 Seminar room 3.06
SUMMARY:Planning2223: Lecture: Landmark heuristics (D. Höller)
END:VEVENT
BEGIN:VEVENT
UID:66323434-3161-4262-b732-633831623062
DTSTAMP:20260425T121917Z
DESCRIPTION:
DTSTART:20230125T091500Z
DTEND:20230125T104500Z
LOCATION:E 1.1 Seminar room 3.06
SUMMARY:Planning2223: Lecture: Combining heuristics functions (D. Höller)
END:VEVENT
BEGIN:VEVENT
UID:31356365-6339-4338-a662-336265313534
DTSTAMP:20260425T121917Z
DESCRIPTION:https://cs-uni-saarland-de.zoom.us/j/98696736217
DTSTART:20230131T111500Z
DTEND:20230131T124500Z
LOCATION:https://cs-uni-saarland-de.zoom.us/j/98696736217
SUMMARY:Planning2223: Lecture: Combining heuristics\, Comparing heuristics 
 (D. Höller)
END:VEVENT
BEGIN:VEVENT
UID:32393739-3732-4134-b133-303838323933
DTSTAMP:20260425T121917Z
DESCRIPTION:https://cs-uni-saarland-de.zoom.us/j/98696736217
DTSTART:20230201T091500Z
DTEND:20230201T104500Z
LOCATION:https://cs-uni-saarland-de.zoom.us/j/98696736217
SUMMARY:Planning2223: Lecture: Comparing heuristics (D. Höller)
END:VEVENT
BEGIN:VEVENT
UID:34653133-3837-4339-b865-323334363034
DTSTAMP:20260425T121917Z
DESCRIPTION:
DTSTART:20230208T091500Z
DTEND:20230208T104500Z
LOCATION:E 1.1 Seminar room 3.06
SUMMARY:Planning2223: Exam Preparation (D. Fišer)
END:VEVENT
END:VCALENDAR
