BEGIN:VCALENDAR
VERSION:2.0
PRODID:-//134.96.226.213//NONSGML kigkonsult.se iCalcreator 2.41.92//
CALSCALE:GREGORIAN
METHOD:PUBLISH
UID:33323665-3437-4033-a134-636536323735
X-WR-CALNAME:AI Planning Calendar
X-WR-CALDESC:Events of the lecture AI Planning
X-WR-TIMEZONE:Europe/Berlin
BEGIN:VEVENT
UID:61356136-3831-4130-b336-393431326334
DTSTAMP:20260425T121454Z
DESCRIPTION:
DTSTART:20221025T101500Z
DTEND:20221025T114500Z
LOCATION:E 1.3 HS 003
SUMMARY:Lecture: About the course (D. Höller)
END:VEVENT
BEGIN:VEVENT
UID:35613331-6439-4239-a234-613739633432
DTSTAMP:20260425T121454Z
DESCRIPTION:
DTSTART:20221026T081500Z
DTEND:20221026T094500Z
LOCATION:E 1.3 HS 003
SUMMARY:Lecture: Planning formalisms (D. Höller)
END:VEVENT
BEGIN:VEVENT
UID:34623733-6364-4638-a536-376530353337
DTSTAMP:20260425T121454Z
DESCRIPTION:
DTSTART;VALUE=DATE:20221102
DTEND;VALUE=DATE:20221103
SUMMARY:Paper exercise 1 handout
END:VEVENT
BEGIN:VEVENT
UID:33666133-6462-4737-b130-393039313163
DTSTAMP:20260425T121454Z
DESCRIPTION:
DTSTART:20221102T091500Z
DTEND:20221102T104500Z
LOCATION:E 1.3 HS 003
SUMMARY:Lecture: Causal graphs (D. Höller)
END:VEVENT
BEGIN:VEVENT
UID:38616364-6434-4530-b532-653831356461
DTSTAMP:20260425T121454Z
DESCRIPTION:
DTSTART:20221108T111500Z
DTEND:20221108T124500Z
LOCATION:E1.1\, SR 3.06
SUMMARY:Programming workshop: Introduction to Fast Downward
END:VEVENT
BEGIN:VEVENT
UID:33663464-3963-4136-b663-646665643462
DTSTAMP:20260425T121454Z
DESCRIPTION:
DTSTART:20221109T091500Z
DTEND:20221109T104500Z
LOCATION:E 1.3 HS 003
SUMMARY:Lecture: Progression and regression\, heuristic search (D. Fišer)
END:VEVENT
BEGIN:VEVENT
UID:66326436-3932-4336-b931-363536643166
DTSTAMP:20260425T121454Z
DESCRIPTION:
DTSTART:20221109T133000Z
DTEND:20221109T143000Z
LOCATION:E1.1\, Office 3.14
SUMMARY:Office Hour
END:VEVENT
BEGIN:VEVENT
UID:36396132-3135-4733-a361-643035633932
DTSTAMP:20260425T121454Z
DESCRIPTION:
DTSTART:20221111T225900Z
DTEND:20221111T225900Z
SUMMARY:Paper exercise 1 deadline
END:VEVENT
BEGIN:VEVENT
UID:65306436-6666-4037-b161-663334363264
DTSTAMP:20260425T121454Z
DESCRIPTION:
DTSTART;VALUE=DATE:20221115
DTEND;VALUE=DATE:20221116
SUMMARY:Paper exercise 2 handout
END:VEVENT
BEGIN:VEVENT
UID:39623039-6132-4533-b035-306665323164
DTSTAMP:20260425T121454Z
DESCRIPTION:
DTSTART:20221115T111500Z
DTEND:20221115T124500Z
LOCATION:E 1.3 HS 003
SUMMARY:Tutorial 1
END:VEVENT
BEGIN:VEVENT
UID:61353566-3535-4133-b262-343433353138
DTSTAMP:20260425T121454Z
DESCRIPTION:
DTSTART:20221116T091500Z
DTEND:20221116T104500Z
LOCATION:E 1.3 HS 003
SUMMARY:Lecture: Critical path heuristics (D. Fišer)
END:VEVENT
BEGIN:VEVENT
UID:30356333-3236-4633-b162-393064346162
DTSTAMP:20260425T121454Z
DESCRIPTION:
DTSTART:20221116T130000Z
DTEND:20221116T140000Z
LOCATION:E1.1\, Office 3.14
SUMMARY:Office Hour
END:VEVENT
BEGIN:VEVENT
UID:35336462-3335-4564-b537-323739616665
DTSTAMP:20260425T121454Z
DESCRIPTION:
DTSTART:20221118T225900Z
DTEND:20221118T225900Z
SUMMARY:Deadline: Goal Counting
END:VEVENT
BEGIN:VEVENT
UID:36636236-3739-4438-b039-366132626661
DTSTAMP:20260425T121454Z
DESCRIPTION:
DTSTART:20221123T091500Z
DTEND:20221123T104500Z
LOCATION:E 1.3 HS 003
SUMMARY:Lecture: Delete relaxation (D. Fišer)
END:VEVENT
BEGIN:VEVENT
UID:63366365-6432-4439-b865-366361393733
DTSTAMP:20260425T121454Z
DESCRIPTION:
DTSTART:20221123T130000Z
DTEND:20221123T140000Z
LOCATION:E1.1\, Office 3.14
SUMMARY:Office Hour
END:VEVENT
BEGIN:VEVENT
UID:33346363-3863-4366-b562-653139373632
DTSTAMP:20260425T121454Z
DESCRIPTION:
DTSTART:20221125T225900Z
DTEND:20221125T225900Z
SUMMARY:Paper exercise 2 deadline
END:VEVENT
BEGIN:VEVENT
UID:61376537-6538-4632-b039-353266323966
DTSTAMP:20260425T121454Z
DESCRIPTION:
DTSTART;VALUE=DATE:20221129
DTEND;VALUE=DATE:20221130
SUMMARY:Paper exercise 3 handout
END:VEVENT
BEGIN:VEVENT
UID:36623931-6266-4438-a336-356532653564
DTSTAMP:20260425T121454Z
DESCRIPTION:
DTSTART:20221129T111500Z
DTEND:20221129T124500Z
LOCATION:E 1.3 HS 003
SUMMARY:Tutorial 2
END:VEVENT
BEGIN:VEVENT
UID:36396239-3432-4137-a262-316539353635
DTSTAMP:20260425T121454Z
DESCRIPTION:
DTSTART:20221130T091500Z
DTEND:20221130T104500Z
LOCATION:E 1.1 Seminar room 3.06
SUMMARY:Lecture: Delete relaxation (D. Fišer)
END:VEVENT
BEGIN:VEVENT
UID:31353665-3638-4461-a638-333035353764
DTSTAMP:20260425T121454Z
DESCRIPTION:
DTSTART:20221130T130000Z
DTEND:20221130T140000Z
LOCATION:E1.1\, Office 3.14
SUMMARY:Office Hour
END:VEVENT
BEGIN:VEVENT
UID:34333436-6163-4330-b964-633261343962
DTSTAMP:20260425T121454Z
DESCRIPTION:
DTSTART:20221207T091500Z
DTEND:20221207T104500Z
LOCATION:E 1.1 Seminar room 3.06
SUMMARY:Lecture: Abstractions (D. Fišer)
END:VEVENT
BEGIN:VEVENT
UID:63623532-6538-4336-b036-363566363030
DTSTAMP:20260425T121454Z
DESCRIPTION:
DTSTART:20221207T130000Z
DTEND:20221207T140000Z
LOCATION:E1.1\, Office 3.14
SUMMARY:Office Hour
END:VEVENT
BEGIN:VEVENT
UID:65613830-6564-4132-a362-353931646437
DTSTAMP:20260425T121454Z
DESCRIPTION:
DTSTART:20221209T225900Z
DTEND:20221209T225900Z
SUMMARY:Deadline: hmax\, hadd
END:VEVENT
BEGIN:VEVENT
UID:37313734-3234-4435-b036-643665303637
DTSTAMP:20260425T121454Z
DESCRIPTION:
DTSTART:20221209T225900Z
DTEND:20221209T225900Z
SUMMARY:Paper exercise 3 deadline
END:VEVENT
BEGIN:VEVENT
UID:62633166-6162-4033-b734-343062323665
DTSTAMP:20260425T121454Z
DESCRIPTION:
DTSTART;VALUE=DATE:20221213
DTEND;VALUE=DATE:20221214
SUMMARY:Paper exercise 4 handout
END:VEVENT
BEGIN:VEVENT
UID:66643737-3565-4333-b264-326565353032
DTSTAMP:20260425T121454Z
DESCRIPTION:
DTSTART:20221213T111500Z
DTEND:20221213T124500Z
LOCATION:Zoom link: https://cs-uni-saarland-de.zoom.us/j/83013207214?pwd=TH
 p1UDdXK3pMSzJiaEpXc2U5WFRUZz09
SUMMARY:Tutorial 3 (via Zoom)
END:VEVENT
BEGIN:VEVENT
UID:32376663-6435-4762-a462-626666663032
DTSTAMP:20260425T121454Z
DESCRIPTION:
DTSTART:20221214T091500Z
DTEND:20221214T104500Z
LOCATION:Zoom link: https://cs-uni-saarland-de.zoom.us/j/83013207214?pwd=TH
 p1UDdXK3pMSzJiaEpXc2U5WFRUZz09
SUMMARY:Lecture: Abstractions\, Pattern databases (D. Fišer\, via Zoom)
END:VEVENT
BEGIN:VEVENT
UID:37346663-6539-4365-b833-663463306234
DTSTAMP:20260425T121454Z
DESCRIPTION:
DTSTART:20221214T130000Z
DTEND:20221214T140000Z
LOCATION:E1.1\, Office 3.14
SUMMARY:Office Hour
END:VEVENT
BEGIN:VEVENT
UID:66353163-3238-4138-b962-643136386161
DTSTAMP:20260425T121454Z
DESCRIPTION:
DTSTART:20221218T225900Z
DTEND:20221218T225900Z
SUMMARY:Deadline: Project Groups
END:VEVENT
BEGIN:VEVENT
UID:37326631-3763-4766-a138-376336353132
DTSTAMP:20260425T121454Z
DESCRIPTION:
DTSTART:20221221T130000Z
DTEND:20221221T140000Z
LOCATION:https://cs-uni-saarland-de.zoom.us/j/9425369212 
SUMMARY:Office Hour (online)
END:VEVENT
BEGIN:VEVENT
UID:66393162-6430-4463-a339-323561303636
DTSTAMP:20260425T121454Z
DESCRIPTION:
DTSTART:20230104T130000Z
DTEND:20230104T140000Z
LOCATION:https://cs-uni-saarland-de.zoom.us/j/9425369212
SUMMARY:Office Hour (online)
END:VEVENT
BEGIN:VEVENT
UID:38623734-6631-4961-b637-323434313064
DTSTAMP:20260425T121454Z
DESCRIPTION:
DTSTART:20230106T225900Z
DTEND:20230106T225900Z
SUMMARY:Paper exercise 4 deadline
END:VEVENT
BEGIN:VEVENT
UID:34363961-3537-4463-b833-626439623939
DTSTAMP:20260425T121454Z
DESCRIPTION:
DTSTART:20230106T225900Z
DTEND:20230106T225900Z
SUMMARY:Deadline: hff\, h2\, EHC
END:VEVENT
BEGIN:VEVENT
UID:32333264-3839-4462-a263-376562623464
DTSTAMP:20260425T121454Z
DESCRIPTION:
DTSTART;VALUE=DATE:20230110
DTEND;VALUE=DATE:20230111
SUMMARY:Paper exercise 5 handout
END:VEVENT
BEGIN:VEVENT
UID:65663837-3036-4565-b964-333830376538
DTSTAMP:20260425T121454Z
DESCRIPTION:
DTSTART:20230110T111500Z
DTEND:20230110T111500Z
LOCATION:Zoom link: https://cs-uni-saarland-de.zoom.us/j/83013207214?pwd=TH
 p1UDdXK3pMSzJiaEpXc2U5WFRUZz09
SUMMARY:Tutorial 4 (via Zoom)
END:VEVENT
BEGIN:VEVENT
UID:35623736-3337-4535-b833-316636383263
DTSTAMP:20260425T121454Z
DESCRIPTION:
DTSTART:20230111T091500Z
DTEND:20230111T104500Z
LOCATION:E 1.1 Seminar room 3.06
SUMMARY:Lecture: Pattern databases\, Partial order reduction (D. Fišer)
END:VEVENT
BEGIN:VEVENT
UID:66313065-3765-4761-a130-306366396161
DTSTAMP:20260425T121454Z
DESCRIPTION:
DTSTART:20230111T130000Z
DTEND:20230111T140000Z
LOCATION:E1.1\, Office 3.14
SUMMARY:Office Hour
END:VEVENT
BEGIN:VEVENT
UID:63376162-3436-4332-b065-373834303562
DTSTAMP:20260425T121454Z
DESCRIPTION:
DTSTART:20230117T111500Z
DTEND:20230117T124500Z
LOCATION:E 1.1 Seminar room 3.06
SUMMARY:Lecture: Partial order reduction (D. Fišer)\, Landmark heuristics (
 D. Höller)
END:VEVENT
BEGIN:VEVENT
UID:38383231-3035-4431-b265-373061333536
DTSTAMP:20260425T121454Z
DESCRIPTION:
DTSTART:20230118T091500Z
DTEND:20230118T104500Z
LOCATION:E 1.1 Seminar room 3.06
SUMMARY:Lecture: Landmark heuristics (D. Höller)
END:VEVENT
BEGIN:VEVENT
UID:64643330-3232-4464-a638-316537376633
DTSTAMP:20260425T121454Z
DESCRIPTION:
DTSTART:20230118T130000Z
DTEND:20230118T140000Z
LOCATION:E1.1\, Office 3.14
SUMMARY:Office Hour
END:VEVENT
BEGIN:VEVENT
UID:65393532-3438-4332-a162-336263653238
DTSTAMP:20260425T121454Z
DESCRIPTION:
DTSTART:20230120T225900Z
DTEND:20230120T225900Z
SUMMARY:Paper exercise 5 deadline
END:VEVENT
BEGIN:VEVENT
UID:32663433-3833-4365-b062-396638666564
DTSTAMP:20260425T121454Z
DESCRIPTION:
DTSTART:20230120T225900Z
DTEND:20230120T225900Z
SUMMARY:Deadline: PDB
END:VEVENT
BEGIN:VEVENT
UID:31623361-6566-4839-a263-303566373430
DTSTAMP:20260425T121454Z
DESCRIPTION:
DTSTART:20230124T111500Z
DTEND:20230124T111500Z
LOCATION:Zoom link: https://cs-uni-saarland-de.zoom.us/j/83013207214?pwd=TH
 p1UDdXK3pMSzJiaEpXc2U5WFRUZz09
SUMMARY:Tutorial 5 (via Zoom)
END:VEVENT
BEGIN:VEVENT
UID:64613564-6335-4239-a630-346331623262
DTSTAMP:20260425T121454Z
DESCRIPTION:
DTSTART:20230124T130000Z
DTEND:20230124T140000Z
LOCATION:E1.1\, Office 3.14
SUMMARY:Office Hour
END:VEVENT
BEGIN:VEVENT
UID:37653535-3161-4539-a366-626563353632
DTSTAMP:20260425T121454Z
DESCRIPTION:
DTSTART:20230125T091500Z
DTEND:20230125T104500Z
LOCATION:E 1.1 Seminar room 3.06
SUMMARY:Lecture: Combining heuristics functions (D. Höller)
END:VEVENT
BEGIN:VEVENT
UID:34646265-6536-4630-a632-613031323161
DTSTAMP:20260425T121454Z
DESCRIPTION:
DTSTART:20230126T130000Z
DTEND:20230126T140000Z
LOCATION:E1.1\, Office 3.14
SUMMARY:Office Hour
END:VEVENT
BEGIN:VEVENT
UID:36396461-6161-4537-a162-323362396364
DTSTAMP:20260425T121454Z
DESCRIPTION:
DTSTART:20230127T225900Z
DTEND:20230127T225900Z
SUMMARY:Deadline POR\, LM\, HA
END:VEVENT
BEGIN:VEVENT
UID:36386466-3464-4962-a133-313436636634
DTSTAMP:20260425T121454Z
DESCRIPTION:https://cs-uni-saarland-de.zoom.us/j/98696736217
DTSTART:20230131T111500Z
DTEND:20230131T124500Z
LOCATION:https://cs-uni-saarland-de.zoom.us/j/98696736217
SUMMARY:Lecture: Combining heuristics\, Comparing heuristics (D. Höller)
END:VEVENT
BEGIN:VEVENT
UID:61646138-3837-4164-b233-663965376461
DTSTAMP:20260425T121454Z
DESCRIPTION:https://cs-uni-saarland-de.zoom.us/j/98696736217
DTSTART:20230201T091500Z
DTEND:20230201T104500Z
LOCATION:https://cs-uni-saarland-de.zoom.us/j/98696736217
SUMMARY:Lecture: Comparing heuristics (D. Höller)
END:VEVENT
BEGIN:VEVENT
UID:35313133-3530-4431-b233-303466343032
DTSTAMP:20260425T121454Z
DESCRIPTION:
DTSTART:20230201T130000Z
DTEND:20230201T140000Z
LOCATION:E1.1\, Office 3.14
SUMMARY:Office Hour
END:VEVENT
BEGIN:VEVENT
UID:63376432-3530-4533-b238-336639373238
DTSTAMP:20260425T121454Z
DESCRIPTION:
DTSTART:20230203T225900Z
DTEND:20230203T225900Z
SUMMARY:Deadline: Competition (prelim.)
END:VEVENT
BEGIN:VEVENT
UID:39373333-6162-4337-b339-356665343838
DTSTAMP:20260425T121454Z
DESCRIPTION:
DTSTART:20230205T225900Z
DTEND:20230205T225900Z
SUMMARY:Deadline: Competition (final)
END:VEVENT
BEGIN:VEVENT
UID:66643232-3834-4665-b136-633438613731
DTSTAMP:20260425T121454Z
DESCRIPTION:
DTSTART:20230205T225900Z
DTEND:20230205T225900Z
SUMMARY:Deadline: LM-Cut
END:VEVENT
BEGIN:VEVENT
UID:64343232-6466-4366-a462-356634623336
DTSTAMP:20260425T121454Z
DESCRIPTION:
DTSTART:20230207T111500Z
DTEND:20230207T124500Z
LOCATION:E 1.1 Seminar room 3.06
SUMMARY:Student Competition
END:VEVENT
BEGIN:VEVENT
UID:65376161-3935-4366-b566-323266383135
DTSTAMP:20260425T121454Z
DESCRIPTION:
DTSTART:20230208T091500Z
DTEND:20230208T104500Z
LOCATION:E 1.1 Seminar room 3.06
SUMMARY:Exam Preparation (D. Fišer)
END:VEVENT
BEGIN:VEVENT
UID:63306334-3766-4635-b164-303831393863
DTSTAMP:20260425T121454Z
DESCRIPTION:
DTSTART:20230215T080000Z
DTEND:20230215T100000Z
LOCATION:HS003
SUMMARY:Exam
END:VEVENT
BEGIN:VEVENT
UID:30633939-3737-4531-a538-393234383166
DTSTAMP:20260425T121454Z
DESCRIPTION:
DTSTART:20230222T080000Z
DTEND:20230222T110000Z
SUMMARY:Exam Inspection
END:VEVENT
BEGIN:VEVENT
UID:62353762-3261-4166-b666-386161623532
DTSTAMP:20260425T121454Z
DESCRIPTION:
DTSTART;VALUE=DATE:20230327
DTEND;VALUE=DATE:20230328
SUMMARY:Second exam
END:VEVENT
END:VCALENDAR
