BEGIN:VCALENDAR
VERSION:2.0
PRODID:-//134.96.226.213//NONSGML kigkonsult.se iCalcreator 2.41.92//
CALSCALE:GREGORIAN
METHOD:PUBLISH
UID:33646434-3762-4136-a336-663964326636
X-WR-CALNAME:Programmierung 2 - Vorkurs Calendar
X-WR-CALDESC:Termine der Vorlesung Programmierung 2 - Vorkurs
X-WR-TIMEZONE:Europe/Berlin
BEGIN:VEVENT
UID:30363061-3662-4963-a661-663836636635
DTSTAMP:20260425T112646Z
DESCRIPTION:
DTSTART:20210406T070000Z
DTEND:20210406T074500Z
LOCATION:TBA
SUMMARY:P2vorkurs2021: Vorlesung
END:VEVENT
BEGIN:VEVENT
UID:39346566-6262-4931-b962-306636633033
DTSTAMP:20260425T112646Z
DESCRIPTION:
DTSTART:20210406T074500Z
DTEND:20210406T100000Z
LOCATION:TBA
SUMMARY:P2vorkurs2021: Einzelarbeit
END:VEVENT
BEGIN:VEVENT
UID:36303237-3535-4465-b139-383738336134
DTSTAMP:20260425T112646Z
DESCRIPTION:
DTSTART:20210406T090000Z
DTEND:20210406T100000Z
LOCATION:TBA
SUMMARY:P2vorkurs2021: Coaching
END:VEVENT
BEGIN:VEVENT
UID:36363130-3361-4266-a563-333030663231
DTSTAMP:20260425T112646Z
DESCRIPTION:
DTSTART:20210406T113000Z
DTEND:20210406T130000Z
LOCATION:TBA
SUMMARY:P2vorkurs2021: Einzelarbeit
END:VEVENT
BEGIN:VEVENT
UID:64623035-6465-4362-b732-333362353336
DTSTAMP:20260425T112646Z
DESCRIPTION:
DTSTART:20210406T130000Z
DTEND:20210406T140000Z
LOCATION:TBA
SUMMARY:P2vorkurs2021: Tutorium
END:VEVENT
BEGIN:VEVENT
UID:31333062-3661-4763-a663-616666376635
DTSTAMP:20260425T112646Z
DESCRIPTION:TBA
DTSTART;VALUE=DATE:20210406
DTEND;VALUE=DATE:20210409
SUMMARY:P2vorkurs2021: Vorkurs-Projekt
END:VEVENT
BEGIN:VEVENT
UID:38643861-6539-4134-b164-353230633834
DTSTAMP:20260425T112646Z
DESCRIPTION:
DTSTART:20210407T070000Z
DTEND:20210407T073000Z
LOCATION:TBA
SUMMARY:P2vorkurs2021: Vorlesung
END:VEVENT
BEGIN:VEVENT
UID:35626537-6565-4065-a630-303265383436
DTSTAMP:20260425T112646Z
DESCRIPTION:
DTSTART:20210407T073000Z
DTEND:20210407T100000Z
LOCATION:TBA
SUMMARY:P2vorkurs2021: Einzelarbeit
END:VEVENT
BEGIN:VEVENT
UID:34313633-3166-4561-b536-623437366662
DTSTAMP:20260425T112646Z
DESCRIPTION:
DTSTART:20210407T090000Z
DTEND:20210407T100000Z
LOCATION:TBA
SUMMARY:P2vorkurs2021: Coaching
END:VEVENT
BEGIN:VEVENT
UID:61303131-3262-4239-a538-656263313334
DTSTAMP:20260425T112646Z
DESCRIPTION:
DTSTART:20210407T113000Z
DTEND:20210407T130000Z
LOCATION:TBA
SUMMARY:P2vorkurs2021: Einzelarbeit
END:VEVENT
BEGIN:VEVENT
UID:32373464-6439-4965-b839-346165643733
DTSTAMP:20260425T112646Z
DESCRIPTION:
DTSTART:20210407T130000Z
DTEND:20210407T140000Z
LOCATION:TBA
SUMMARY:P2vorkurs2021: Tutorium
END:VEVENT
BEGIN:VEVENT
UID:65313565-3330-4866-b565-313233666539
DTSTAMP:20260425T112646Z
DESCRIPTION:
DTSTART:20210408T070000Z
DTEND:20210408T073000Z
LOCATION:TBA
SUMMARY:P2vorkurs2021: Vorlesung
END:VEVENT
BEGIN:VEVENT
UID:63316665-3136-4961-b863-313465303130
DTSTAMP:20260425T112646Z
DESCRIPTION:
DTSTART:20210408T073000Z
DTEND:20210408T100000Z
LOCATION:TBA
SUMMARY:P2vorkurs2021: Einzelarbeit
END:VEVENT
BEGIN:VEVENT
UID:36303039-6662-4232-b632-646231366639
DTSTAMP:20260425T112646Z
DESCRIPTION:
DTSTART:20210408T090000Z
DTEND:20210408T100000Z
LOCATION:TBA
SUMMARY:P2vorkurs2021: Coaching
END:VEVENT
BEGIN:VEVENT
UID:33383236-6139-4334-a161-376663363932
DTSTAMP:20260425T112646Z
DESCRIPTION:
DTSTART:20210408T113000Z
DTEND:20210408T130000Z
LOCATION:TBA
SUMMARY:P2vorkurs2021: Einzelarbeit
END:VEVENT
BEGIN:VEVENT
UID:37323465-3232-4439-a537-353236373335
DTSTAMP:20260425T112646Z
DESCRIPTION:
DTSTART:20210408T130000Z
DTEND:20210408T140000Z
LOCATION:TBA
SUMMARY:P2vorkurs2021: Tutorium
END:VEVENT
BEGIN:VEVENT
UID:35363839-3039-4139-a261-646362323235
DTSTAMP:20260425T112646Z
DESCRIPTION:Git
DTSTART:20210409T070000Z
DTEND:20210409T080000Z
LOCATION:TBA
SUMMARY:P2vorkurs2021: Vorlesung
END:VEVENT
BEGIN:VEVENT
UID:32646333-3132-4061-b532-323531393639
DTSTAMP:20260425T112646Z
DESCRIPTION:
DTSTART:20210409T080000Z
DTEND:20210409T091500Z
LOCATION:TBA
SUMMARY:P2vorkurs2021: VM Installation
END:VEVENT
BEGIN:VEVENT
UID:64613631-6666-4736-b866-323164396462
DTSTAMP:20260425T112646Z
DESCRIPTION:Git
DTSTART:20210409T091500Z
DTEND:20210409T100000Z
LOCATION:TBA
SUMMARY:P2vorkurs2021: Vorlesung
END:VEVENT
BEGIN:VEVENT
UID:30353062-3465-4962-b730-623434613831
DTSTAMP:20260425T112646Z
DESCRIPTION:
DTSTART:20210409T110000Z
DTEND:20210409T130000Z
LOCATION:TBA
SUMMARY:P2vorkurs2021: Einzelarbeit
END:VEVENT
BEGIN:VEVENT
UID:64373162-3736-4166-b062-366664386236
DTSTAMP:20260425T112646Z
DESCRIPTION:Grundbefehle für Unix Systeme\nVersionsverwaltung mit Git\nVM-I
 nstallation
DTSTART;VALUE=DATE:20210409
DTEND;VALUE=DATE:20210410
SUMMARY:P2vorkurs2021: Git & Unix
END:VEVENT
BEGIN:VEVENT
UID:65616163-6131-4064-b638-323763376239
DTSTAMP:20260425T112646Z
DESCRIPTION:
DTSTART:20210409T130000Z
DTEND:20210409T140000Z
LOCATION:TBA
SUMMARY:P2vorkurs2021: Tutorium
END:VEVENT
END:VCALENDAR
