BEGIN:VCALENDAR
VERSION:2.0
PRODID:-//134.96.226.213//NONSGML kigkonsult.se iCalcreator 2.41.92//
CALSCALE:GREGORIAN
METHOD:PUBLISH
UID:35353962-3038-4232-a261-386461623761
X-WR-CALNAME:Programmierung 2 - Vorkurs Calendar
X-WR-CALDESC:Termine der Vorlesung Programmierung 2 - Vorkurs
X-WR-TIMEZONE:Europe/Berlin
BEGIN:VEVENT
UID:30623433-3062-4638-b337-613435663536
DTSTAMP:20260425T112733Z
DESCRIPTION:
DTSTART:20210406T074500Z
DTEND:20210406T100000Z
LOCATION:TBA
SUMMARY:P2vorkurs2021: Einzelarbeit
END:VEVENT
BEGIN:VEVENT
UID:38626163-6235-4964-a661-343137653135
DTSTAMP:20260425T112733Z
DESCRIPTION:
DTSTART:20210406T113000Z
DTEND:20210406T130000Z
LOCATION:TBA
SUMMARY:P2vorkurs2021: Einzelarbeit
END:VEVENT
BEGIN:VEVENT
UID:30656437-6533-4066-b833-306531356136
DTSTAMP:20260425T112733Z
DESCRIPTION:
DTSTART:20210407T073000Z
DTEND:20210407T100000Z
LOCATION:TBA
SUMMARY:P2vorkurs2021: Einzelarbeit
END:VEVENT
BEGIN:VEVENT
UID:63343433-3863-4564-a533-363864323632
DTSTAMP:20260425T112733Z
DESCRIPTION:
DTSTART:20210407T113000Z
DTEND:20210407T130000Z
LOCATION:TBA
SUMMARY:P2vorkurs2021: Einzelarbeit
END:VEVENT
BEGIN:VEVENT
UID:64336335-3162-4266-b463-386365333034
DTSTAMP:20260425T112733Z
DESCRIPTION:
DTSTART:20210408T073000Z
DTEND:20210408T100000Z
LOCATION:TBA
SUMMARY:P2vorkurs2021: Einzelarbeit
END:VEVENT
BEGIN:VEVENT
UID:33633730-6364-4133-a364-353738613866
DTSTAMP:20260425T112733Z
DESCRIPTION:
DTSTART:20210408T113000Z
DTEND:20210408T130000Z
LOCATION:TBA
SUMMARY:P2vorkurs2021: Einzelarbeit
END:VEVENT
BEGIN:VEVENT
UID:65643565-3139-4632-a466-386337383632
DTSTAMP:20260425T112733Z
DESCRIPTION:
DTSTART:20210409T110000Z
DTEND:20210409T130000Z
LOCATION:TBA
SUMMARY:P2vorkurs2021: Einzelarbeit
END:VEVENT
END:VCALENDAR
