BEGIN:VCALENDAR
VERSION:2.0
PRODID:-//134.96.226.213//NONSGML kigkonsult.se iCalcreator 2.41.92//
CALSCALE:GREGORIAN
METHOD:PUBLISH
UID:30666261-6432-4238-a165-366366663134
X-WR-CALNAME:Programmierung 2 - Vorkurs Calendar
X-WR-CALDESC:Termine der Vorlesung Programmierung 2 - Vorkurs
X-WR-TIMEZONE:Europe/Berlin
BEGIN:VEVENT
UID:63336233-6236-4365-a136-363863343231
DTSTAMP:20260425T112646Z
DESCRIPTION:TBA
DTSTART;VALUE=DATE:20210406
DTEND;VALUE=DATE:20210409
SUMMARY:Vorkurs-Projekt
END:VEVENT
BEGIN:VEVENT
UID:36363139-3731-4565-a635-636633333062
DTSTAMP:20260425T112646Z
DESCRIPTION:
DTSTART:20210409T080000Z
DTEND:20210409T091500Z
LOCATION:TBA
SUMMARY:VM Installation
END:VEVENT
BEGIN:VEVENT
UID:34656536-3139-4435-b439-363832353464
DTSTAMP:20260425T112646Z
DESCRIPTION:Grundbefehle für Unix Systeme\nVersionsverwaltung mit Git\nVM-I
 nstallation
DTSTART;VALUE=DATE:20210409
DTEND;VALUE=DATE:20210410
SUMMARY:Git & Unix
END:VEVENT
END:VCALENDAR
