BEGIN:VCALENDAR
VERSION:2.0
PRODID:-//134.96.226.213//NONSGML kigkonsult.se iCalcreator 2.41.92//
CALSCALE:GREGORIAN
METHOD:PUBLISH
UID:35363535-3265-4537-a365-373264353639
X-WR-CALNAME:Programmierung 2 - Vorkurs Calendar
X-WR-CALDESC:Termine der Vorlesung Programmierung 2 - Vorkurs
X-WR-TIMEZONE:Europe/Berlin
BEGIN:VEVENT
UID:34633262-3531-4232-a431-636430656338
DTSTAMP:20260425T112646Z
DESCRIPTION:
DTSTART:20210406T130000Z
DTEND:20210406T140000Z
LOCATION:TBA
SUMMARY:Tutorium
END:VEVENT
BEGIN:VEVENT
UID:34613465-6232-4365-b565-636139313362
DTSTAMP:20260425T112646Z
DESCRIPTION:
DTSTART:20210407T130000Z
DTEND:20210407T140000Z
LOCATION:TBA
SUMMARY:Tutorium
END:VEVENT
BEGIN:VEVENT
UID:32383632-3132-4735-b665-313961396466
DTSTAMP:20260425T112646Z
DESCRIPTION:
DTSTART:20210408T130000Z
DTEND:20210408T140000Z
LOCATION:TBA
SUMMARY:Tutorium
END:VEVENT
BEGIN:VEVENT
UID:65616433-3337-4239-b266-366537633532
DTSTAMP:20260425T112646Z
DESCRIPTION:
DTSTART:20210409T130000Z
DTEND:20210409T140000Z
LOCATION:TBA
SUMMARY:Tutorium
END:VEVENT
END:VCALENDAR
