BEGIN:VCALENDAR
VERSION:2.0
PRODID:-//134.96.226.213//NONSGML kigkonsult.se iCalcreator 2.41.92//
CALSCALE:GREGORIAN
METHOD:PUBLISH
UID:62656634-3063-4466-a537-383062376130
X-WR-CALNAME:Programmierung 2 - Vorkurs Calendar
X-WR-CALDESC:Termine der Vorlesung Programmierung 2 - Vorkurs
X-WR-TIMEZONE:Europe/Berlin
BEGIN:VEVENT
UID:64393337-3433-4537-a230-636136313065
DTSTAMP:20260425T112706Z
DESCRIPTION:
DTSTART:20210406T090000Z
DTEND:20210406T100000Z
LOCATION:TBA
SUMMARY:P2vorkurs2021: Coaching
END:VEVENT
BEGIN:VEVENT
UID:63306636-6263-4232-b131-643466303336
DTSTAMP:20260425T112706Z
DESCRIPTION:
DTSTART:20210407T090000Z
DTEND:20210407T100000Z
LOCATION:TBA
SUMMARY:P2vorkurs2021: Coaching
END:VEVENT
BEGIN:VEVENT
UID:33623539-3038-4363-b330-666433333339
DTSTAMP:20260425T112706Z
DESCRIPTION:
DTSTART:20210408T090000Z
DTEND:20210408T100000Z
LOCATION:TBA
SUMMARY:P2vorkurs2021: Coaching
END:VEVENT
END:VCALENDAR
