BEGIN:VCALENDAR
VERSION:2.0
PRODID:-//134.96.226.213//NONSGML kigkonsult.se iCalcreator 2.41.92//
CALSCALE:GREGORIAN
METHOD:PUBLISH
UID:65366364-6662-4234-b238-316630623766
X-WR-CALNAME:Programmierung 2 - Vorkurs Calendar
X-WR-CALDESC:Termine der Vorlesung Programmierung 2 - Vorkurs
X-WR-TIMEZONE:Europe/Berlin
BEGIN:VEVENT
UID:61333136-3361-4233-b866-633438663936
DTSTAMP:20260425T112508Z
DESCRIPTION:
DTSTART:20210406T090000Z
DTEND:20210406T100000Z
LOCATION:TBA
SUMMARY:Coaching
END:VEVENT
BEGIN:VEVENT
UID:32646465-6639-4739-a534-663738353039
DTSTAMP:20260425T112508Z
DESCRIPTION:
DTSTART:20210407T090000Z
DTEND:20210407T100000Z
LOCATION:TBA
SUMMARY:Coaching
END:VEVENT
BEGIN:VEVENT
UID:63326437-3663-4135-a630-373634636663
DTSTAMP:20260425T112508Z
DESCRIPTION:
DTSTART:20210408T090000Z
DTEND:20210408T100000Z
LOCATION:TBA
SUMMARY:Coaching
END:VEVENT
END:VCALENDAR
