BEGIN:VCALENDAR
VERSION:2.0
PRODID:-//134.96.226.213//NONSGML kigkonsult.se iCalcreator 2.41.92//
CALSCALE:GREGORIAN
METHOD:PUBLISH
UID:34353131-3138-4835-a339-626634353566
X-WR-CALNAME:Neural Networks: Theory and Implementation Calendar
X-WR-CALDESC:Events of the lecture Neural Networks: Theory and Implementati
 on
X-WR-TIMEZONE:Europe/Berlin
BEGIN:VEVENT
UID:39643631-6239-4936-b938-646466643138
DTSTAMP:20260425T154054Z
DESCRIPTION:
DTSTART:20251021T121500Z
DTEND:20251021T134500Z
LOCATION:HS1 E2.5
SUMMARY:Nnti: NNTI lecture HS1 E2.5
END:VEVENT
BEGIN:VEVENT
UID:62666661-6266-4134-b764-613633626539
DTSTAMP:20260425T154054Z
DESCRIPTION:
DTSTART:20251028T131500Z
DTEND:20251028T144500Z
LOCATION:HS1 E2.5
SUMMARY:Nnti: NNTI lecture HS1 E2.5
END:VEVENT
BEGIN:VEVENT
UID:61633333-6563-4038-b361-336663333466
DTSTAMP:20260425T154054Z
DESCRIPTION:
DTSTART:20251104T131500Z
DTEND:20251104T144500Z
LOCATION:HS1 E2.5
SUMMARY:Nnti: NNTI lecture HS1 E2.5
END:VEVENT
BEGIN:VEVENT
UID:31303964-3366-4739-b465-303031346462
DTSTAMP:20260425T154054Z
DESCRIPTION:
DTSTART:20251111T131500Z
DTEND:20251111T144500Z
LOCATION:HS1 E2.5
SUMMARY:Nnti: NNTI lecture HS1 E2.5
END:VEVENT
BEGIN:VEVENT
UID:34356537-3338-4438-a561-316636356337
DTSTAMP:20260425T154054Z
DESCRIPTION:
DTSTART:20251118T131500Z
DTEND:20251118T144500Z
LOCATION:HS1 E2.5
SUMMARY:Nnti: NNTI lecture HS1 E2.5
END:VEVENT
BEGIN:VEVENT
UID:30343230-6636-4262-b339-333761316463
DTSTAMP:20260425T154054Z
DESCRIPTION:
DTSTART:20251125T131500Z
DTEND:20251125T144500Z
LOCATION:HS1 E2.5
SUMMARY:Nnti: NNTI lecture HS1 E2.5
END:VEVENT
BEGIN:VEVENT
UID:36336130-6663-4062-a465-643666343430
DTSTAMP:20260425T154054Z
DESCRIPTION:
DTSTART:20251202T131500Z
DTEND:20251202T144500Z
LOCATION:HS1 E2.5
SUMMARY:Nnti: NNTI lecture HS1 E2.5
END:VEVENT
BEGIN:VEVENT
UID:35386263-3830-4634-a139-323539343662
DTSTAMP:20260425T154054Z
DESCRIPTION:
DTSTART:20251209T131500Z
DTEND:20251209T144500Z
LOCATION:HS1 E2.5
SUMMARY:Nnti: NNTI lecture HS1 E2.5
END:VEVENT
BEGIN:VEVENT
UID:39616434-3432-4833-b533-653937623966
DTSTAMP:20260425T154054Z
DESCRIPTION:
DTSTART:20251216T131500Z
DTEND:20251216T144500Z
LOCATION:HS1 E2.5
SUMMARY:Nnti: NNTI lecture HS1 E2.5
END:VEVENT
BEGIN:VEVENT
UID:30663561-3336-4565-b137-633961356364
DTSTAMP:20260425T154054Z
DESCRIPTION:
DTSTART:20260106T131500Z
DTEND:20260106T144500Z
LOCATION:HS1 E2.5
SUMMARY:Nnti: NNTI lecture HS1 E2.5
END:VEVENT
BEGIN:VEVENT
UID:65376139-3935-4732-a563-646330643137
DTSTAMP:20260425T154054Z
DESCRIPTION:
DTSTART:20260113T131500Z
DTEND:20260113T144500Z
LOCATION:HS1 E2.5
SUMMARY:Nnti: NNTI lecture HS1 E2.5
END:VEVENT
BEGIN:VEVENT
UID:35636363-3735-4065-a466-353633323362
DTSTAMP:20260425T154054Z
DESCRIPTION:
DTSTART:20260120T131500Z
DTEND:20260120T144500Z
LOCATION:HS1 E2.5
SUMMARY:Nnti: NNTI lecture HS1 E2.5
END:VEVENT
BEGIN:VEVENT
UID:30613434-3736-4932-b561-613530303434
DTSTAMP:20260425T154054Z
DESCRIPTION:
DTSTART:20260127T131500Z
DTEND:20260127T144500Z
LOCATION:HS1 E2.5
SUMMARY:Nnti: NNTI lecture HS1 E2.5
END:VEVENT
BEGIN:VEVENT
UID:65343166-6430-4661-b635-393565633261
DTSTAMP:20260425T154054Z
DESCRIPTION:
DTSTART:20260203T131500Z
DTEND:20260203T144500Z
LOCATION:HS1 E2.5
SUMMARY:Nnti: NNTI lecture HS1 E2.5
END:VEVENT
END:VCALENDAR
