BEGIN:VCALENDAR
VERSION:2.0
PRODID:-//134.96.226.213//NONSGML kigkonsult.se iCalcreator 2.41.92//
CALSCALE:GREGORIAN
METHOD:PUBLISH
UID:34626436-3765-4338-b133-383635313939
X-WR-CALNAME:Neural Networks: Theory and Implementation Calendar
X-WR-CALDESC:Events of the lecture Neural Networks: Theory and Implementati
 on
X-WR-TIMEZONE:Europe/Berlin
BEGIN:VEVENT
UID:37373961-3261-4065-b636-336463356131
DTSTAMP:20260425T170057Z
DESCRIPTION:
DTSTART:20251021T121500Z
DTEND:20251021T134500Z
LOCATION:HS1 E2.5
SUMMARY:NNTI lecture HS1 E2.5
END:VEVENT
BEGIN:VEVENT
UID:35663665-6438-4236-a433-383438633864
DTSTAMP:20260425T170057Z
DESCRIPTION:
DTSTART:20251028T131500Z
DTEND:20251028T144500Z
LOCATION:HS1 E2.5
SUMMARY:NNTI lecture HS1 E2.5
END:VEVENT
BEGIN:VEVENT
UID:31373735-6261-4266-b065-303133653861
DTSTAMP:20260425T170057Z
DESCRIPTION:
DTSTART:20251104T131500Z
DTEND:20251104T144500Z
LOCATION:HS1 E2.5
SUMMARY:NNTI lecture HS1 E2.5
END:VEVENT
BEGIN:VEVENT
UID:63323332-3131-4264-b861-383963353163
DTSTAMP:20260425T170057Z
DESCRIPTION:
DTSTART:20251111T131500Z
DTEND:20251111T144500Z
LOCATION:HS1 E2.5
SUMMARY:NNTI lecture HS1 E2.5
END:VEVENT
BEGIN:VEVENT
UID:34363930-6235-4162-b137-336535633036
DTSTAMP:20260425T170057Z
DESCRIPTION:
DTSTART:20251118T131500Z
DTEND:20251118T144500Z
LOCATION:HS1 E2.5
SUMMARY:NNTI lecture HS1 E2.5
END:VEVENT
BEGIN:VEVENT
UID:34316264-6333-4563-a561-343231346265
DTSTAMP:20260425T170057Z
DESCRIPTION:
DTSTART:20251125T131500Z
DTEND:20251125T144500Z
LOCATION:HS1 E2.5
SUMMARY:NNTI lecture HS1 E2.5
END:VEVENT
BEGIN:VEVENT
UID:31663139-3135-4933-b333-393935383630
DTSTAMP:20260425T170057Z
DESCRIPTION:
DTSTART:20251202T131500Z
DTEND:20251202T144500Z
LOCATION:HS1 E2.5
SUMMARY:NNTI lecture HS1 E2.5
END:VEVENT
BEGIN:VEVENT
UID:37386530-3661-4834-b434-363964623236
DTSTAMP:20260425T170057Z
DESCRIPTION:
DTSTART:20251209T131500Z
DTEND:20251209T144500Z
LOCATION:HS1 E2.5
SUMMARY:NNTI lecture HS1 E2.5
END:VEVENT
BEGIN:VEVENT
UID:64616463-3637-4838-b138-383033316661
DTSTAMP:20260425T170057Z
DESCRIPTION:
DTSTART:20251216T131500Z
DTEND:20251216T144500Z
LOCATION:HS1 E2.5
SUMMARY:NNTI lecture HS1 E2.5
END:VEVENT
BEGIN:VEVENT
UID:66343737-3361-4830-a464-323234346333
DTSTAMP:20260425T170057Z
DESCRIPTION:
DTSTART:20260106T131500Z
DTEND:20260106T144500Z
LOCATION:HS1 E2.5
SUMMARY:NNTI lecture HS1 E2.5
END:VEVENT
BEGIN:VEVENT
UID:33313066-3234-4232-b633-393338623637
DTSTAMP:20260425T170057Z
DESCRIPTION:
DTSTART:20260113T131500Z
DTEND:20260113T144500Z
LOCATION:HS1 E2.5
SUMMARY:NNTI lecture HS1 E2.5
END:VEVENT
BEGIN:VEVENT
UID:39383034-3539-4839-b764-306463333730
DTSTAMP:20260425T170057Z
DESCRIPTION:
DTSTART:20260120T131500Z
DTEND:20260120T144500Z
LOCATION:HS1 E2.5
SUMMARY:NNTI lecture HS1 E2.5
END:VEVENT
BEGIN:VEVENT
UID:61333463-3931-4730-b633-376234363963
DTSTAMP:20260425T170057Z
DESCRIPTION:
DTSTART:20260127T131500Z
DTEND:20260127T144500Z
LOCATION:HS1 E2.5
SUMMARY:NNTI lecture HS1 E2.5
END:VEVENT
BEGIN:VEVENT
UID:39363062-3032-4161-b863-623163323338
DTSTAMP:20260425T170057Z
DESCRIPTION:
DTSTART:20260203T131500Z
DTEND:20260203T144500Z
LOCATION:HS1 E2.5
SUMMARY:NNTI lecture HS1 E2.5
END:VEVENT
END:VCALENDAR
