BEGIN:VCALENDAR
VERSION:2.0
PRODID:-//134.96.226.213//NONSGML kigkonsult.se iCalcreator 2.41.92//
CALSCALE:GREGORIAN
METHOD:PUBLISH
UID:39656539-3862-4965-a537-313163643764
X-WR-CALNAME:Mathematik für Informatiker 3 Calendar
X-WR-CALDESC:Termine der Vorlesung Mathematik für Informatiker 3
X-WR-TIMEZONE:Europe/Berlin
BEGIN:VEVENT
UID:65363566-6434-4334-a630-646633363736
DTSTAMP:20260423T152352Z
DESCRIPTION:
DTSTART:20210222T080000Z
DTEND:20210222T110000Z
SUMMARY:Mfi3: Hauptklausur
END:VEVENT
BEGIN:VEVENT
UID:61616533-3139-4430-b862-386163666566
DTSTAMP:20260423T152352Z
DESCRIPTION:
DTSTART:20210324T080000Z
DTEND:20210324T110000Z
SUMMARY:Mfi3: Nachklausur
END:VEVENT
END:VCALENDAR
