BEGIN:VCALENDAR
VERSION:2.0
PRODID:-//134.96.226.213//NONSGML kigkonsult.se iCalcreator 2.41.92//
CALSCALE:GREGORIAN
METHOD:PUBLISH
UID:30666330-3934-4661-a232-343166323637
X-WR-CALNAME:Mathematik für Informatiker 3 Calendar
X-WR-CALDESC:Termine der Vorlesung Mathematik für Informatiker 3
X-WR-TIMEZONE:Europe/Berlin
BEGIN:VEVENT
UID:64396631-3939-4661-a561-643061633931
DTSTAMP:20260423T152018Z
DESCRIPTION:
DTSTART:20210222T080000Z
DTEND:20210222T110000Z
SUMMARY:Hauptklausur
END:VEVENT
BEGIN:VEVENT
UID:66313735-6363-4238-b266-323631326366
DTSTAMP:20260423T152018Z
DESCRIPTION:
DTSTART:20210324T080000Z
DTEND:20210324T110000Z
SUMMARY:Nachklausur
END:VEVENT
END:VCALENDAR
