BEGIN:VCALENDAR
VERSION:2.0
PRODID:-//134.96.226.213//NONSGML kigkonsult.se iCalcreator 2.41.92//
CALSCALE:GREGORIAN
METHOD:PUBLISH
UID:37336132-3732-4037-a434-646165346636
X-WR-CALNAME:Mathematik für Informatiker 3 Calendar
X-WR-CALDESC:Termine der Vorlesung Mathematik für Informatiker 3
X-WR-TIMEZONE:Europe/Berlin
BEGIN:VEVENT
UID:34393534-3363-4234-b162-313031653861
DTSTAMP:20260423T152310Z
DESCRIPTION:(Nicolas Faroß)
DTSTART:20201123T073000Z
DTEND:20201123T090000Z
LOCATION:MS Teams
SUMMARY:Mfi3: Tutorium 1
END:VEVENT
BEGIN:VEVENT
UID:63643637-3738-4436-b131-666262633164
DTSTAMP:20260423T152310Z
DESCRIPTION:(Lisa Heidmann)
DTSTART:20201123T091500Z
DTEND:20201123T104500Z
LOCATION:MS Teams
SUMMARY:Mfi3: Tutorium 2
END:VEVENT
BEGIN:VEVENT
UID:63373166-3163-4731-b737-653761363035
DTSTAMP:20260423T152310Z
DESCRIPTION:Marcel Scherer
DTSTART:20201123T111500Z
DTEND:20201123T124500Z
LOCATION:MS Teams
SUMMARY:Mfi3: Tutorium 3
END:VEVENT
BEGIN:VEVENT
UID:62386235-3737-4565-b763-633864383661
DTSTAMP:20260423T152310Z
DESCRIPTION:(Lisa Karst)
DTSTART:20201124T111500Z
DTEND:20201124T124500Z
LOCATION:MS Teams
SUMMARY:Mfi3: Tutorium 4
END:VEVENT
BEGIN:VEVENT
UID:34306535-6362-4533-b632-666534313436
DTSTAMP:20260423T152310Z
DESCRIPTION:(Igor Schlegel)
DTSTART:20201125T091500Z
DTEND:20201125T104500Z
LOCATION:MS Teams
SUMMARY:Mfi3: Tutorium 5
END:VEVENT
BEGIN:VEVENT
UID:37646261-6334-4865-b864-336636626464
DTSTAMP:20260423T152310Z
DESCRIPTION:(Dennis Quint)
DTSTART:20201126T091500Z
DTEND:20201126T104500Z
LOCATION:MS Teams
SUMMARY:Mfi3: Tutorium 6
END:VEVENT
BEGIN:VEVENT
UID:33623964-6237-4262-a334-646237663438
DTSTAMP:20260423T152310Z
DESCRIPTION:(Abbas Rezaey)
DTSTART:20201126T151500Z
DTEND:20201126T164500Z
LOCATION:MS Teams
SUMMARY:Mfi3: Tutorium 7
END:VEVENT
BEGIN:VEVENT
UID:39646139-6531-4235-a436-353530386465
DTSTAMP:20260423T152310Z
DESCRIPTION:(Nicolas Faroß)
DTSTART:20201130T073000Z
DTEND:20201130T090000Z
LOCATION:MS Teams
SUMMARY:Mfi3: Tutorium 1
END:VEVENT
BEGIN:VEVENT
UID:35613764-6634-4564-b139-363761383763
DTSTAMP:20260423T152310Z
DESCRIPTION:(Lisa Heidmann)
DTSTART:20201130T091500Z
DTEND:20201130T104500Z
LOCATION:MS Teams
SUMMARY:Mfi3: Tutorium 2
END:VEVENT
BEGIN:VEVENT
UID:38613430-6266-4365-a232-373633306161
DTSTAMP:20260423T152310Z
DESCRIPTION:Marcel Scherer
DTSTART:20201130T111500Z
DTEND:20201130T124500Z
LOCATION:MS Teams
SUMMARY:Mfi3: Tutorium 3
END:VEVENT
BEGIN:VEVENT
UID:31303465-3632-4639-b037-393033623136
DTSTAMP:20260423T152310Z
DESCRIPTION:(Lisa Karst)
DTSTART:20201201T111500Z
DTEND:20201201T124500Z
LOCATION:MS Teams
SUMMARY:Mfi3: Tutorium 4
END:VEVENT
BEGIN:VEVENT
UID:62353964-3639-4362-b936-643462623461
DTSTAMP:20260423T152310Z
DESCRIPTION:(Igor Schlegel)
DTSTART:20201202T091500Z
DTEND:20201202T104500Z
LOCATION:MS Teams
SUMMARY:Mfi3: Tutorium 5
END:VEVENT
BEGIN:VEVENT
UID:35666633-6432-4335-a564-663733393231
DTSTAMP:20260423T152310Z
DESCRIPTION:(Dennis Quint)
DTSTART:20201203T091500Z
DTEND:20201203T104500Z
LOCATION:MS Teams
SUMMARY:Mfi3: Tutorium 6
END:VEVENT
BEGIN:VEVENT
UID:39333535-3564-4339-a466-376137626435
DTSTAMP:20260423T152310Z
DESCRIPTION:(Abbas Rezaey)
DTSTART:20201203T151500Z
DTEND:20201203T164500Z
LOCATION:MS Teams
SUMMARY:Mfi3: Tutorium 7
END:VEVENT
BEGIN:VEVENT
UID:64623062-6664-4137-b932-333961636132
DTSTAMP:20260423T152310Z
DESCRIPTION:(Nicolas Faroß)
DTSTART:20201207T073000Z
DTEND:20201207T090000Z
LOCATION:MS Teams
SUMMARY:Mfi3: Tutorium 1
END:VEVENT
BEGIN:VEVENT
UID:35663131-6636-4230-b462-356333646133
DTSTAMP:20260423T152310Z
DESCRIPTION:(Lisa Heidmann)
DTSTART:20201207T091500Z
DTEND:20201207T104500Z
LOCATION:MS Teams
SUMMARY:Mfi3: Tutorium 2
END:VEVENT
BEGIN:VEVENT
UID:62666334-6266-4764-b666-323366366337
DTSTAMP:20260423T152310Z
DESCRIPTION:Marcel Scherer
DTSTART:20201207T111500Z
DTEND:20201207T124500Z
LOCATION:MS Teams
SUMMARY:Mfi3: Tutorium 3
END:VEVENT
BEGIN:VEVENT
UID:38356162-3361-4235-b938-346133643062
DTSTAMP:20260423T152310Z
DESCRIPTION:(Lisa Karst)
DTSTART:20201208T111500Z
DTEND:20201208T124500Z
LOCATION:MS Teams
SUMMARY:Mfi3: Tutorium 4
END:VEVENT
BEGIN:VEVENT
UID:30373163-6664-4862-b333-646665323635
DTSTAMP:20260423T152310Z
DESCRIPTION:(Igor Schlegel)
DTSTART:20201209T091500Z
DTEND:20201209T104500Z
LOCATION:MS Teams
SUMMARY:Mfi3: Tutorium 5
END:VEVENT
BEGIN:VEVENT
UID:61366466-3266-4836-b863-393166313937
DTSTAMP:20260423T152310Z
DESCRIPTION:(Dennis Quint)
DTSTART:20201210T091500Z
DTEND:20201210T104500Z
LOCATION:MS Teams
SUMMARY:Mfi3: Tutorium 6
END:VEVENT
BEGIN:VEVENT
UID:31313466-3935-4166-a564-393937353739
DTSTAMP:20260423T152310Z
DESCRIPTION:(Abbas Rezaey)
DTSTART:20201210T151500Z
DTEND:20201210T164500Z
LOCATION:MS Teams
SUMMARY:Mfi3: Tutorium 7
END:VEVENT
BEGIN:VEVENT
UID:63393962-6364-4934-b932-653239626234
DTSTAMP:20260423T152310Z
DESCRIPTION:(Nicolas Faroß)
DTSTART:20201214T073000Z
DTEND:20201214T090000Z
LOCATION:MS Teams
SUMMARY:Mfi3: Tutorium 1
END:VEVENT
BEGIN:VEVENT
UID:38666133-3362-4865-b834-653934316161
DTSTAMP:20260423T152310Z
DESCRIPTION:(Lisa Heidmann)
DTSTART:20201214T091500Z
DTEND:20201214T104500Z
LOCATION:MS Teams
SUMMARY:Mfi3: Tutorium 2
END:VEVENT
BEGIN:VEVENT
UID:32363032-3661-4630-b332-613138353039
DTSTAMP:20260423T152310Z
DESCRIPTION:Marcel Scherer
DTSTART:20201214T111500Z
DTEND:20201214T124500Z
LOCATION:MS Teams
SUMMARY:Mfi3: Tutorium 3
END:VEVENT
BEGIN:VEVENT
UID:38363632-6135-4036-a137-623435323730
DTSTAMP:20260423T152310Z
DESCRIPTION:(Lisa Karst)
DTSTART:20201215T111500Z
DTEND:20201215T124500Z
LOCATION:MS Teams
SUMMARY:Mfi3: Tutorium 4
END:VEVENT
BEGIN:VEVENT
UID:39353364-6564-4531-b838-626331643439
DTSTAMP:20260423T152310Z
DESCRIPTION:(Igor Schlegel)
DTSTART:20201216T091500Z
DTEND:20201216T104500Z
LOCATION:MS Teams
SUMMARY:Mfi3: Tutorium 5
END:VEVENT
BEGIN:VEVENT
UID:65333961-3465-4838-a535-336463613933
DTSTAMP:20260423T152310Z
DESCRIPTION:(Dennis Quint)
DTSTART:20201217T091500Z
DTEND:20201217T104500Z
LOCATION:MS Teams
SUMMARY:Mfi3: Tutorium 6
END:VEVENT
BEGIN:VEVENT
UID:34613735-3131-4363-a431-333062383764
DTSTAMP:20260423T152310Z
DESCRIPTION:(Abbas Rezaey)
DTSTART:20201217T151500Z
DTEND:20201217T164500Z
LOCATION:MS Teams
SUMMARY:Mfi3: Tutorium 7
END:VEVENT
BEGIN:VEVENT
UID:65366665-3933-4531-a338-316165633034
DTSTAMP:20260423T152310Z
DESCRIPTION:(Nicolas Faroß)
DTSTART:20210104T073000Z
DTEND:20210104T090000Z
LOCATION:MS Teams
SUMMARY:Mfi3: Tutorium 1
END:VEVENT
BEGIN:VEVENT
UID:33653131-3434-4433-a338-343365313463
DTSTAMP:20260423T152310Z
DESCRIPTION:(Lisa Heidmann)
DTSTART:20210104T091500Z
DTEND:20210104T104500Z
LOCATION:MS Teams
SUMMARY:Mfi3: Tutorium 2
END:VEVENT
BEGIN:VEVENT
UID:32663733-6638-4261-a665-666464613033
DTSTAMP:20260423T152310Z
DESCRIPTION:Marcel Scherer
DTSTART:20210104T111500Z
DTEND:20210104T124500Z
LOCATION:MS Teams
SUMMARY:Mfi3: Tutorium 3
END:VEVENT
BEGIN:VEVENT
UID:37373565-3863-4635-b461-373932323433
DTSTAMP:20260423T152310Z
DESCRIPTION:(Lisa Karst)
DTSTART:20210105T111500Z
DTEND:20210105T124500Z
LOCATION:MS Teams
SUMMARY:Mfi3: Tutorium 4
END:VEVENT
BEGIN:VEVENT
UID:64633361-6134-4336-b530-313736333639
DTSTAMP:20260423T152310Z
DESCRIPTION:(Igor Schlegel)
DTSTART:20210106T091500Z
DTEND:20210106T104500Z
LOCATION:MS Teams
SUMMARY:Mfi3: Tutorium 5
END:VEVENT
BEGIN:VEVENT
UID:37363432-6163-4133-b130-646434356362
DTSTAMP:20260423T152310Z
DESCRIPTION:(Dennis Quint)
DTSTART:20210107T091500Z
DTEND:20210107T104500Z
LOCATION:MS Teams
SUMMARY:Mfi3: Tutorium 6
END:VEVENT
BEGIN:VEVENT
UID:64323631-6162-4363-b631-376434353962
DTSTAMP:20260423T152310Z
DESCRIPTION:(Abbas Rezaey)
DTSTART:20210107T151500Z
DTEND:20210107T164500Z
LOCATION:MS Teams
SUMMARY:Mfi3: Tutorium 7
END:VEVENT
BEGIN:VEVENT
UID:36326361-6336-4832-b961-626135346463
DTSTAMP:20260423T152310Z
DESCRIPTION:(Nicolas Faroß)
DTSTART:20210111T073000Z
DTEND:20210111T090000Z
LOCATION:MS Teams
SUMMARY:Mfi3: Tutorium 1
END:VEVENT
BEGIN:VEVENT
UID:30366365-3562-4466-b765-386264366633
DTSTAMP:20260423T152310Z
DESCRIPTION:(Lisa Heidmann)
DTSTART:20210111T091500Z
DTEND:20210111T104500Z
LOCATION:MS Teams
SUMMARY:Mfi3: Tutorium 2
END:VEVENT
BEGIN:VEVENT
UID:35646637-3032-4835-b433-386330333039
DTSTAMP:20260423T152310Z
DESCRIPTION:Marcel Scherer
DTSTART:20210111T111500Z
DTEND:20210111T124500Z
LOCATION:MS Teams
SUMMARY:Mfi3: Tutorium 3
END:VEVENT
BEGIN:VEVENT
UID:30616432-6132-4230-b535-363432333662
DTSTAMP:20260423T152310Z
DESCRIPTION:(Lisa Karst)
DTSTART:20210112T111500Z
DTEND:20210112T124500Z
LOCATION:MS Teams
SUMMARY:Mfi3: Tutorium 4
END:VEVENT
BEGIN:VEVENT
UID:66643835-6437-4332-b730-303632393066
DTSTAMP:20260423T152310Z
DESCRIPTION:(Igor Schlegel)
DTSTART:20210113T091500Z
DTEND:20210113T104500Z
LOCATION:MS Teams
SUMMARY:Mfi3: Tutorium 5
END:VEVENT
BEGIN:VEVENT
UID:62376366-3261-4937-b939-363738343338
DTSTAMP:20260423T152310Z
DESCRIPTION:(Dennis Quint)
DTSTART:20210114T091500Z
DTEND:20210114T104500Z
LOCATION:MS Teams
SUMMARY:Mfi3: Tutorium 6
END:VEVENT
BEGIN:VEVENT
UID:31323131-3562-4161-b161-663766346134
DTSTAMP:20260423T152310Z
DESCRIPTION:(Abbas Rezaey)
DTSTART:20210114T151500Z
DTEND:20210114T164500Z
LOCATION:MS Teams
SUMMARY:Mfi3: Tutorium 7
END:VEVENT
BEGIN:VEVENT
UID:62383465-3665-4165-b232-356331663165
DTSTAMP:20260423T152310Z
DESCRIPTION:(Nicolas Faroß)
DTSTART:20210118T073000Z
DTEND:20210118T090000Z
LOCATION:MS Teams
SUMMARY:Mfi3: Tutorium 1
END:VEVENT
BEGIN:VEVENT
UID:62353837-3336-4065-a163-643932646538
DTSTAMP:20260423T152310Z
DESCRIPTION:(Lisa Heidmann)
DTSTART:20210118T091500Z
DTEND:20210118T104500Z
LOCATION:MS Teams
SUMMARY:Mfi3: Tutorium 2
END:VEVENT
BEGIN:VEVENT
UID:63663337-6438-4636-b939-383431346662
DTSTAMP:20260423T152310Z
DESCRIPTION:Marcel Scherer
DTSTART:20210118T111500Z
DTEND:20210118T124500Z
LOCATION:MS Teams
SUMMARY:Mfi3: Tutorium 3
END:VEVENT
BEGIN:VEVENT
UID:33333266-6637-4536-b937-633439383734
DTSTAMP:20260423T152310Z
DESCRIPTION:(Lisa Karst)
DTSTART:20210119T111500Z
DTEND:20210119T124500Z
LOCATION:MS Teams
SUMMARY:Mfi3: Tutorium 4
END:VEVENT
BEGIN:VEVENT
UID:38343264-6561-4964-a139-653135663331
DTSTAMP:20260423T152310Z
DESCRIPTION:(Igor Schlegel)
DTSTART:20210120T091500Z
DTEND:20210120T104500Z
LOCATION:MS Teams
SUMMARY:Mfi3: Tutorium 5
END:VEVENT
BEGIN:VEVENT
UID:35616363-3731-4465-b364-623637386639
DTSTAMP:20260423T152310Z
DESCRIPTION:(Dennis Quint)
DTSTART:20210121T091500Z
DTEND:20210121T104500Z
LOCATION:MS Teams
SUMMARY:Mfi3: Tutorium 6
END:VEVENT
BEGIN:VEVENT
UID:33666666-3062-4464-a337-643136316334
DTSTAMP:20260423T152310Z
DESCRIPTION:(Abbas Rezaey)
DTSTART:20210121T151500Z
DTEND:20210121T164500Z
LOCATION:MS Teams
SUMMARY:Mfi3: Tutorium 7
END:VEVENT
BEGIN:VEVENT
UID:34366462-3766-4263-b563-613232633438
DTSTAMP:20260423T152310Z
DESCRIPTION:(Nicolas Faroß)
DTSTART:20210125T073000Z
DTEND:20210125T090000Z
LOCATION:MS Teams
SUMMARY:Mfi3: Tutorium 1
END:VEVENT
BEGIN:VEVENT
UID:31323161-6261-4335-b235-646132623863
DTSTAMP:20260423T152310Z
DESCRIPTION:(Lisa Heidmann)
DTSTART:20210125T091500Z
DTEND:20210125T104500Z
LOCATION:MS Teams
SUMMARY:Mfi3: Tutorium 2
END:VEVENT
BEGIN:VEVENT
UID:63613431-3764-4366-b663-666365613065
DTSTAMP:20260423T152310Z
DESCRIPTION:Marcel Scherer
DTSTART:20210125T111500Z
DTEND:20210125T124500Z
LOCATION:MS Teams
SUMMARY:Mfi3: Tutorium 3
END:VEVENT
BEGIN:VEVENT
UID:32323564-3865-4762-b666-626337316134
DTSTAMP:20260423T152310Z
DESCRIPTION:(Lisa Karst)
DTSTART:20210126T111500Z
DTEND:20210126T124500Z
LOCATION:MS Teams
SUMMARY:Mfi3: Tutorium 4
END:VEVENT
BEGIN:VEVENT
UID:30623638-3630-4666-a664-363938393135
DTSTAMP:20260423T152310Z
DESCRIPTION:(Igor Schlegel)
DTSTART:20210127T091500Z
DTEND:20210127T104500Z
LOCATION:MS Teams
SUMMARY:Mfi3: Tutorium 5
END:VEVENT
BEGIN:VEVENT
UID:37656231-3632-4436-b835-373436633038
DTSTAMP:20260423T152310Z
DESCRIPTION:(Dennis Quint)
DTSTART:20210128T091500Z
DTEND:20210128T104500Z
LOCATION:MS Teams
SUMMARY:Mfi3: Tutorium 6
END:VEVENT
BEGIN:VEVENT
UID:32393962-6265-4734-a630-613363303739
DTSTAMP:20260423T152310Z
DESCRIPTION:(Abbas Rezaey)
DTSTART:20210128T151500Z
DTEND:20210128T164500Z
LOCATION:MS Teams
SUMMARY:Mfi3: Tutorium 7
END:VEVENT
BEGIN:VEVENT
UID:38343035-3631-4933-a664-396566613263
DTSTAMP:20260423T152310Z
DESCRIPTION:(Nicolas Faroß)
DTSTART:20210201T073000Z
DTEND:20210201T090000Z
LOCATION:MS Teams
SUMMARY:Mfi3: Tutorium 1
END:VEVENT
BEGIN:VEVENT
UID:61373834-3739-4662-b831-303239313735
DTSTAMP:20260423T152310Z
DESCRIPTION:(Lisa Heidmann)
DTSTART:20210201T091500Z
DTEND:20210201T104500Z
LOCATION:MS Teams
SUMMARY:Mfi3: Tutorium 2
END:VEVENT
BEGIN:VEVENT
UID:36343532-6266-4130-b330-396663646532
DTSTAMP:20260423T152310Z
DESCRIPTION:Marcel Scherer
DTSTART:20210201T111500Z
DTEND:20210201T124500Z
LOCATION:MS Teams
SUMMARY:Mfi3: Tutorium 3
END:VEVENT
BEGIN:VEVENT
UID:63653764-6262-4234-a161-353934623463
DTSTAMP:20260423T152310Z
DESCRIPTION:(Lisa Karst)
DTSTART:20210202T111500Z
DTEND:20210202T124500Z
LOCATION:MS Teams
SUMMARY:Mfi3: Tutorium 4
END:VEVENT
BEGIN:VEVENT
UID:32623038-6666-4333-a632-303362323236
DTSTAMP:20260423T152310Z
DESCRIPTION:(Igor Schlegel)
DTSTART:20210203T091500Z
DTEND:20210203T104500Z
LOCATION:MS Teams
SUMMARY:Mfi3: Tutorium 5
END:VEVENT
BEGIN:VEVENT
UID:34343438-6633-4337-b339-363561336461
DTSTAMP:20260423T152310Z
DESCRIPTION:(Dennis Quint)
DTSTART:20210204T091500Z
DTEND:20210204T104500Z
LOCATION:MS Teams
SUMMARY:Mfi3: Tutorium 6
END:VEVENT
BEGIN:VEVENT
UID:30303535-3564-4633-a632-303662383837
DTSTAMP:20260423T152310Z
DESCRIPTION:(Abbas Rezaey)
DTSTART:20210204T151500Z
DTEND:20210204T164500Z
LOCATION:MS Teams
SUMMARY:Mfi3: Tutorium 7
END:VEVENT
BEGIN:VEVENT
UID:63333831-3634-4536-b864-336162333763
DTSTAMP:20260423T152310Z
DESCRIPTION:
DTSTART:20210215T110000Z
DTEND:20210215T130000Z
SUMMARY:Mfi3: Zusatztutorium Marcel Scherer
END:VEVENT
BEGIN:VEVENT
UID:64303939-3362-4733-b864-316539303335
DTSTAMP:20260423T152310Z
DESCRIPTION:
DTSTART:20210216T110000Z
DTEND:20210216T130000Z
SUMMARY:Mfi3: Zusatztutorium Lisa Karst
END:VEVENT
BEGIN:VEVENT
UID:31623436-6132-4439-b165-643431353261
DTSTAMP:20260423T152310Z
DESCRIPTION:
DTSTART:20210217T090000Z
DTEND:20210217T110000Z
SUMMARY:Mfi3: Zusatztutorium Igor Schlegel
END:VEVENT
BEGIN:VEVENT
UID:31323139-3163-4734-b739-303535663436
DTSTAMP:20260423T152310Z
DESCRIPTION:
DTSTART:20210219T130000Z
DTEND:20210219T150000Z
SUMMARY:Mfi3: Zusatztutorium Dennis Quint
END:VEVENT
END:VCALENDAR
