BEGIN:VCALENDAR
VERSION:2.0
PRODID:-//134.96.226.213//NONSGML kigkonsult.se iCalcreator 2.41.92//
CALSCALE:GREGORIAN
METHOD:PUBLISH
UID:61666235-6531-4938-b163-383039323661
X-WR-CALNAME:Mathematik für Informatiker 3 Calendar
X-WR-CALDESC:Termine der Vorlesung Mathematik für Informatiker 3
X-WR-TIMEZONE:Europe/Berlin
BEGIN:VEVENT
UID:38386662-3565-4038-b936-653162313563
DTSTAMP:20260423T152146Z
DESCRIPTION:(Nicolas Faroß)
DTSTART:20201123T073000Z
DTEND:20201123T090000Z
LOCATION:MS Teams
SUMMARY:Tutorium 1
END:VEVENT
BEGIN:VEVENT
UID:32643935-3361-4263-b339-346165356633
DTSTAMP:20260423T152146Z
DESCRIPTION:(Lisa Heidmann)
DTSTART:20201123T091500Z
DTEND:20201123T104500Z
LOCATION:MS Teams
SUMMARY:Tutorium 2
END:VEVENT
BEGIN:VEVENT
UID:62393031-6131-4263-b231-633064636334
DTSTAMP:20260423T152146Z
DESCRIPTION:Marcel Scherer
DTSTART:20201123T111500Z
DTEND:20201123T124500Z
LOCATION:MS Teams
SUMMARY:Tutorium 3
END:VEVENT
BEGIN:VEVENT
UID:32646535-3735-4331-b562-646563383236
DTSTAMP:20260423T152146Z
DESCRIPTION:(Lisa Karst)
DTSTART:20201124T111500Z
DTEND:20201124T124500Z
LOCATION:MS Teams
SUMMARY:Tutorium 4
END:VEVENT
BEGIN:VEVENT
UID:64383736-3063-4939-a433-346165653736
DTSTAMP:20260423T152146Z
DESCRIPTION:(Igor Schlegel)
DTSTART:20201125T091500Z
DTEND:20201125T104500Z
LOCATION:MS Teams
SUMMARY:Tutorium 5
END:VEVENT
BEGIN:VEVENT
UID:62626536-3331-4961-b565-336238303432
DTSTAMP:20260423T152146Z
DESCRIPTION:(Dennis Quint)
DTSTART:20201126T091500Z
DTEND:20201126T104500Z
LOCATION:MS Teams
SUMMARY:Tutorium 6
END:VEVENT
BEGIN:VEVENT
UID:64663736-6537-4634-a262-616438623939
DTSTAMP:20260423T152146Z
DESCRIPTION:(Abbas Rezaey)
DTSTART:20201126T151500Z
DTEND:20201126T164500Z
LOCATION:MS Teams
SUMMARY:Tutorium 7
END:VEVENT
BEGIN:VEVENT
UID:38383366-3165-4138-b435-306463623365
DTSTAMP:20260423T152146Z
DESCRIPTION:(Nicolas Faroß)
DTSTART:20201130T073000Z
DTEND:20201130T090000Z
LOCATION:MS Teams
SUMMARY:Tutorium 1
END:VEVENT
BEGIN:VEVENT
UID:66316435-3064-4666-b633-323435346533
DTSTAMP:20260423T152146Z
DESCRIPTION:(Lisa Heidmann)
DTSTART:20201130T091500Z
DTEND:20201130T104500Z
LOCATION:MS Teams
SUMMARY:Tutorium 2
END:VEVENT
BEGIN:VEVENT
UID:62366133-3964-4731-b135-393265656133
DTSTAMP:20260423T152146Z
DESCRIPTION:Marcel Scherer
DTSTART:20201130T111500Z
DTEND:20201130T124500Z
LOCATION:MS Teams
SUMMARY:Tutorium 3
END:VEVENT
BEGIN:VEVENT
UID:36616231-6531-4563-b366-353639303035
DTSTAMP:20260423T152146Z
DESCRIPTION:(Lisa Karst)
DTSTART:20201201T111500Z
DTEND:20201201T124500Z
LOCATION:MS Teams
SUMMARY:Tutorium 4
END:VEVENT
BEGIN:VEVENT
UID:34636165-3638-4836-b731-626333326664
DTSTAMP:20260423T152146Z
DESCRIPTION:(Igor Schlegel)
DTSTART:20201202T091500Z
DTEND:20201202T104500Z
LOCATION:MS Teams
SUMMARY:Tutorium 5
END:VEVENT
BEGIN:VEVENT
UID:38316634-6130-4363-a432-656666316530
DTSTAMP:20260423T152146Z
DESCRIPTION:(Dennis Quint)
DTSTART:20201203T091500Z
DTEND:20201203T104500Z
LOCATION:MS Teams
SUMMARY:Tutorium 6
END:VEVENT
BEGIN:VEVENT
UID:66393362-6466-4265-b239-643764623762
DTSTAMP:20260423T152146Z
DESCRIPTION:(Abbas Rezaey)
DTSTART:20201203T151500Z
DTEND:20201203T164500Z
LOCATION:MS Teams
SUMMARY:Tutorium 7
END:VEVENT
BEGIN:VEVENT
UID:63373835-3330-4433-b565-383830663731
DTSTAMP:20260423T152146Z
DESCRIPTION:(Nicolas Faroß)
DTSTART:20201207T073000Z
DTEND:20201207T090000Z
LOCATION:MS Teams
SUMMARY:Tutorium 1
END:VEVENT
BEGIN:VEVENT
UID:61353232-3065-4662-b839-343461663330
DTSTAMP:20260423T152146Z
DESCRIPTION:(Lisa Heidmann)
DTSTART:20201207T091500Z
DTEND:20201207T104500Z
LOCATION:MS Teams
SUMMARY:Tutorium 2
END:VEVENT
BEGIN:VEVENT
UID:36623439-3263-4161-b965-346463666563
DTSTAMP:20260423T152146Z
DESCRIPTION:Marcel Scherer
DTSTART:20201207T111500Z
DTEND:20201207T124500Z
LOCATION:MS Teams
SUMMARY:Tutorium 3
END:VEVENT
BEGIN:VEVENT
UID:39386335-6161-4761-a333-643937336637
DTSTAMP:20260423T152146Z
DESCRIPTION:(Lisa Karst)
DTSTART:20201208T111500Z
DTEND:20201208T124500Z
LOCATION:MS Teams
SUMMARY:Tutorium 4
END:VEVENT
BEGIN:VEVENT
UID:30343835-3334-4837-b163-333363396434
DTSTAMP:20260423T152146Z
DESCRIPTION:(Igor Schlegel)
DTSTART:20201209T091500Z
DTEND:20201209T104500Z
LOCATION:MS Teams
SUMMARY:Tutorium 5
END:VEVENT
BEGIN:VEVENT
UID:39383936-3239-4665-b231-633036656532
DTSTAMP:20260423T152146Z
DESCRIPTION:(Dennis Quint)
DTSTART:20201210T091500Z
DTEND:20201210T104500Z
LOCATION:MS Teams
SUMMARY:Tutorium 6
END:VEVENT
BEGIN:VEVENT
UID:38626432-3039-4964-a230-663066653862
DTSTAMP:20260423T152146Z
DESCRIPTION:(Abbas Rezaey)
DTSTART:20201210T151500Z
DTEND:20201210T164500Z
LOCATION:MS Teams
SUMMARY:Tutorium 7
END:VEVENT
BEGIN:VEVENT
UID:65643732-6434-4465-a164-613262656136
DTSTAMP:20260423T152146Z
DESCRIPTION:(Nicolas Faroß)
DTSTART:20201214T073000Z
DTEND:20201214T090000Z
LOCATION:MS Teams
SUMMARY:Tutorium 1
END:VEVENT
BEGIN:VEVENT
UID:65393437-3134-4135-a463-373435383932
DTSTAMP:20260423T152146Z
DESCRIPTION:(Lisa Heidmann)
DTSTART:20201214T091500Z
DTEND:20201214T104500Z
LOCATION:MS Teams
SUMMARY:Tutorium 2
END:VEVENT
BEGIN:VEVENT
UID:66616633-6635-4636-b265-636232316133
DTSTAMP:20260423T152146Z
DESCRIPTION:Marcel Scherer
DTSTART:20201214T111500Z
DTEND:20201214T124500Z
LOCATION:MS Teams
SUMMARY:Tutorium 3
END:VEVENT
BEGIN:VEVENT
UID:34336138-3362-4239-b764-366566383936
DTSTAMP:20260423T152146Z
DESCRIPTION:(Lisa Karst)
DTSTART:20201215T111500Z
DTEND:20201215T124500Z
LOCATION:MS Teams
SUMMARY:Tutorium 4
END:VEVENT
BEGIN:VEVENT
UID:63396538-3736-4835-a639-653539633833
DTSTAMP:20260423T152146Z
DESCRIPTION:(Igor Schlegel)
DTSTART:20201216T091500Z
DTEND:20201216T104500Z
LOCATION:MS Teams
SUMMARY:Tutorium 5
END:VEVENT
BEGIN:VEVENT
UID:34336532-6335-4436-b334-356530393466
DTSTAMP:20260423T152146Z
DESCRIPTION:(Dennis Quint)
DTSTART:20201217T091500Z
DTEND:20201217T104500Z
LOCATION:MS Teams
SUMMARY:Tutorium 6
END:VEVENT
BEGIN:VEVENT
UID:65363666-6430-4862-b432-373564643832
DTSTAMP:20260423T152146Z
DESCRIPTION:(Abbas Rezaey)
DTSTART:20201217T151500Z
DTEND:20201217T164500Z
LOCATION:MS Teams
SUMMARY:Tutorium 7
END:VEVENT
BEGIN:VEVENT
UID:38633537-3836-4366-a230-643634326633
DTSTAMP:20260423T152146Z
DESCRIPTION:(Nicolas Faroß)
DTSTART:20210104T073000Z
DTEND:20210104T090000Z
LOCATION:MS Teams
SUMMARY:Tutorium 1
END:VEVENT
BEGIN:VEVENT
UID:30376232-6533-4237-b865-316232373765
DTSTAMP:20260423T152146Z
DESCRIPTION:(Lisa Heidmann)
DTSTART:20210104T091500Z
DTEND:20210104T104500Z
LOCATION:MS Teams
SUMMARY:Tutorium 2
END:VEVENT
BEGIN:VEVENT
UID:37326164-3037-4532-b239-303830356565
DTSTAMP:20260423T152146Z
DESCRIPTION:Marcel Scherer
DTSTART:20210104T111500Z
DTEND:20210104T124500Z
LOCATION:MS Teams
SUMMARY:Tutorium 3
END:VEVENT
BEGIN:VEVENT
UID:64343964-3538-4666-b639-363134396634
DTSTAMP:20260423T152146Z
DESCRIPTION:(Lisa Karst)
DTSTART:20210105T111500Z
DTEND:20210105T124500Z
LOCATION:MS Teams
SUMMARY:Tutorium 4
END:VEVENT
BEGIN:VEVENT
UID:37303438-6465-4133-b565-646564386166
DTSTAMP:20260423T152146Z
DESCRIPTION:(Igor Schlegel)
DTSTART:20210106T091500Z
DTEND:20210106T104500Z
LOCATION:MS Teams
SUMMARY:Tutorium 5
END:VEVENT
BEGIN:VEVENT
UID:36643233-6364-4161-a564-396234653136
DTSTAMP:20260423T152146Z
DESCRIPTION:(Dennis Quint)
DTSTART:20210107T091500Z
DTEND:20210107T104500Z
LOCATION:MS Teams
SUMMARY:Tutorium 6
END:VEVENT
BEGIN:VEVENT
UID:34346631-6430-4436-a435-373130333833
DTSTAMP:20260423T152146Z
DESCRIPTION:(Abbas Rezaey)
DTSTART:20210107T151500Z
DTEND:20210107T164500Z
LOCATION:MS Teams
SUMMARY:Tutorium 7
END:VEVENT
BEGIN:VEVENT
UID:31633435-6163-4537-a631-373362643134
DTSTAMP:20260423T152146Z
DESCRIPTION:(Nicolas Faroß)
DTSTART:20210111T073000Z
DTEND:20210111T090000Z
LOCATION:MS Teams
SUMMARY:Tutorium 1
END:VEVENT
BEGIN:VEVENT
UID:34633964-6235-4139-b235-306635313931
DTSTAMP:20260423T152146Z
DESCRIPTION:(Lisa Heidmann)
DTSTART:20210111T091500Z
DTEND:20210111T104500Z
LOCATION:MS Teams
SUMMARY:Tutorium 2
END:VEVENT
BEGIN:VEVENT
UID:65366131-6634-4537-b963-303065633130
DTSTAMP:20260423T152146Z
DESCRIPTION:Marcel Scherer
DTSTART:20210111T111500Z
DTEND:20210111T124500Z
LOCATION:MS Teams
SUMMARY:Tutorium 3
END:VEVENT
BEGIN:VEVENT
UID:36353639-3039-4835-a332-303039636434
DTSTAMP:20260423T152146Z
DESCRIPTION:(Lisa Karst)
DTSTART:20210112T111500Z
DTEND:20210112T124500Z
LOCATION:MS Teams
SUMMARY:Tutorium 4
END:VEVENT
BEGIN:VEVENT
UID:38623762-3836-4363-a364-393038613065
DTSTAMP:20260423T152146Z
DESCRIPTION:(Igor Schlegel)
DTSTART:20210113T091500Z
DTEND:20210113T104500Z
LOCATION:MS Teams
SUMMARY:Tutorium 5
END:VEVENT
BEGIN:VEVENT
UID:61363339-3131-4663-a335-386234613539
DTSTAMP:20260423T152146Z
DESCRIPTION:(Dennis Quint)
DTSTART:20210114T091500Z
DTEND:20210114T104500Z
LOCATION:MS Teams
SUMMARY:Tutorium 6
END:VEVENT
BEGIN:VEVENT
UID:34613861-3264-4131-a336-346131393864
DTSTAMP:20260423T152146Z
DESCRIPTION:(Abbas Rezaey)
DTSTART:20210114T151500Z
DTEND:20210114T164500Z
LOCATION:MS Teams
SUMMARY:Tutorium 7
END:VEVENT
BEGIN:VEVENT
UID:63656238-3836-4630-b566-353035336335
DTSTAMP:20260423T152146Z
DESCRIPTION:(Nicolas Faroß)
DTSTART:20210118T073000Z
DTEND:20210118T090000Z
LOCATION:MS Teams
SUMMARY:Tutorium 1
END:VEVENT
BEGIN:VEVENT
UID:37663634-3636-4939-a536-643737316465
DTSTAMP:20260423T152146Z
DESCRIPTION:(Lisa Heidmann)
DTSTART:20210118T091500Z
DTEND:20210118T104500Z
LOCATION:MS Teams
SUMMARY:Tutorium 2
END:VEVENT
BEGIN:VEVENT
UID:39363133-6165-4339-a166-316262383130
DTSTAMP:20260423T152146Z
DESCRIPTION:Marcel Scherer
DTSTART:20210118T111500Z
DTEND:20210118T124500Z
LOCATION:MS Teams
SUMMARY:Tutorium 3
END:VEVENT
BEGIN:VEVENT
UID:30343734-3530-4139-b466-646261373663
DTSTAMP:20260423T152146Z
DESCRIPTION:(Lisa Karst)
DTSTART:20210119T111500Z
DTEND:20210119T124500Z
LOCATION:MS Teams
SUMMARY:Tutorium 4
END:VEVENT
BEGIN:VEVENT
UID:32643631-6337-4339-b733-346363663130
DTSTAMP:20260423T152146Z
DESCRIPTION:(Igor Schlegel)
DTSTART:20210120T091500Z
DTEND:20210120T104500Z
LOCATION:MS Teams
SUMMARY:Tutorium 5
END:VEVENT
BEGIN:VEVENT
UID:64343265-3839-4037-a138-313338306165
DTSTAMP:20260423T152146Z
DESCRIPTION:(Dennis Quint)
DTSTART:20210121T091500Z
DTEND:20210121T104500Z
LOCATION:MS Teams
SUMMARY:Tutorium 6
END:VEVENT
BEGIN:VEVENT
UID:64616166-6664-4662-a439-396530373933
DTSTAMP:20260423T152146Z
DESCRIPTION:(Abbas Rezaey)
DTSTART:20210121T151500Z
DTEND:20210121T164500Z
LOCATION:MS Teams
SUMMARY:Tutorium 7
END:VEVENT
BEGIN:VEVENT
UID:37663432-3133-4365-a139-653036646132
DTSTAMP:20260423T152146Z
DESCRIPTION:(Nicolas Faroß)
DTSTART:20210125T073000Z
DTEND:20210125T090000Z
LOCATION:MS Teams
SUMMARY:Tutorium 1
END:VEVENT
BEGIN:VEVENT
UID:35663766-3830-4033-b364-346132623761
DTSTAMP:20260423T152146Z
DESCRIPTION:(Lisa Heidmann)
DTSTART:20210125T091500Z
DTEND:20210125T104500Z
LOCATION:MS Teams
SUMMARY:Tutorium 2
END:VEVENT
BEGIN:VEVENT
UID:64366464-6564-4266-b362-633261396163
DTSTAMP:20260423T152146Z
DESCRIPTION:Marcel Scherer
DTSTART:20210125T111500Z
DTEND:20210125T124500Z
LOCATION:MS Teams
SUMMARY:Tutorium 3
END:VEVENT
BEGIN:VEVENT
UID:38643862-3665-4434-b965-383465663066
DTSTAMP:20260423T152146Z
DESCRIPTION:(Lisa Karst)
DTSTART:20210126T111500Z
DTEND:20210126T124500Z
LOCATION:MS Teams
SUMMARY:Tutorium 4
END:VEVENT
BEGIN:VEVENT
UID:63653161-3161-4139-b763-636162363136
DTSTAMP:20260423T152146Z
DESCRIPTION:(Igor Schlegel)
DTSTART:20210127T091500Z
DTEND:20210127T104500Z
LOCATION:MS Teams
SUMMARY:Tutorium 5
END:VEVENT
BEGIN:VEVENT
UID:64363437-3330-4535-b966-633734323436
DTSTAMP:20260423T152146Z
DESCRIPTION:(Dennis Quint)
DTSTART:20210128T091500Z
DTEND:20210128T104500Z
LOCATION:MS Teams
SUMMARY:Tutorium 6
END:VEVENT
BEGIN:VEVENT
UID:66633839-3731-4163-b266-656531343434
DTSTAMP:20260423T152146Z
DESCRIPTION:(Abbas Rezaey)
DTSTART:20210128T151500Z
DTEND:20210128T164500Z
LOCATION:MS Teams
SUMMARY:Tutorium 7
END:VEVENT
BEGIN:VEVENT
UID:37363564-3630-4333-b734-616435393666
DTSTAMP:20260423T152146Z
DESCRIPTION:(Nicolas Faroß)
DTSTART:20210201T073000Z
DTEND:20210201T090000Z
LOCATION:MS Teams
SUMMARY:Tutorium 1
END:VEVENT
BEGIN:VEVENT
UID:61656461-6531-4633-a164-363236633431
DTSTAMP:20260423T152146Z
DESCRIPTION:(Lisa Heidmann)
DTSTART:20210201T091500Z
DTEND:20210201T104500Z
LOCATION:MS Teams
SUMMARY:Tutorium 2
END:VEVENT
BEGIN:VEVENT
UID:32383066-3035-4230-b033-386663323963
DTSTAMP:20260423T152146Z
DESCRIPTION:Marcel Scherer
DTSTART:20210201T111500Z
DTEND:20210201T124500Z
LOCATION:MS Teams
SUMMARY:Tutorium 3
END:VEVENT
BEGIN:VEVENT
UID:66373663-3236-4935-b565-383534636432
DTSTAMP:20260423T152146Z
DESCRIPTION:(Lisa Karst)
DTSTART:20210202T111500Z
DTEND:20210202T124500Z
LOCATION:MS Teams
SUMMARY:Tutorium 4
END:VEVENT
BEGIN:VEVENT
UID:37363337-3733-4939-b633-396366643839
DTSTAMP:20260423T152146Z
DESCRIPTION:(Igor Schlegel)
DTSTART:20210203T091500Z
DTEND:20210203T104500Z
LOCATION:MS Teams
SUMMARY:Tutorium 5
END:VEVENT
BEGIN:VEVENT
UID:30313033-6632-4032-b163-653738326664
DTSTAMP:20260423T152146Z
DESCRIPTION:(Dennis Quint)
DTSTART:20210204T091500Z
DTEND:20210204T104500Z
LOCATION:MS Teams
SUMMARY:Tutorium 6
END:VEVENT
BEGIN:VEVENT
UID:66353330-3438-4836-b537-633138333766
DTSTAMP:20260423T152146Z
DESCRIPTION:(Abbas Rezaey)
DTSTART:20210204T151500Z
DTEND:20210204T164500Z
LOCATION:MS Teams
SUMMARY:Tutorium 7
END:VEVENT
BEGIN:VEVENT
UID:62313034-3361-4234-a361-663235303137
DTSTAMP:20260423T152146Z
DESCRIPTION:
DTSTART:20210215T110000Z
DTEND:20210215T130000Z
SUMMARY:Zusatztutorium Marcel Scherer
END:VEVENT
BEGIN:VEVENT
UID:30393434-6336-4537-a234-343433306562
DTSTAMP:20260423T152146Z
DESCRIPTION:
DTSTART:20210216T110000Z
DTEND:20210216T130000Z
SUMMARY:Zusatztutorium Lisa Karst
END:VEVENT
BEGIN:VEVENT
UID:33313037-6336-4630-a138-386234306162
DTSTAMP:20260423T152146Z
DESCRIPTION:
DTSTART:20210217T090000Z
DTEND:20210217T110000Z
SUMMARY:Zusatztutorium Igor Schlegel
END:VEVENT
BEGIN:VEVENT
UID:63383434-6238-4437-b865-343661353263
DTSTAMP:20260423T152146Z
DESCRIPTION:
DTSTART:20210219T130000Z
DTEND:20210219T150000Z
SUMMARY:Zusatztutorium Dennis Quint
END:VEVENT
END:VCALENDAR
