BEGIN:VCALENDAR
VERSION:2.0
PRODID:-//134.96.226.213//NONSGML kigkonsult.se iCalcreator 2.41.92//
CALSCALE:GREGORIAN
METHOD:PUBLISH
UID:66653533-6637-4836-b961-383664383264
X-WR-CALNAME:Mathematik für Informatiker 3 Calendar
X-WR-CALDESC:Termine der Vorlesung Mathematik für Informatiker 3
X-WR-TIMEZONE:Europe/Berlin
BEGIN:VEVENT
UID:31663965-3234-4634-a564-333032363332
DTSTAMP:20260423T152058Z
DESCRIPTION:(Dennis Quint)
DTSTART:20201117T090000Z
DTEND:20201117T100000Z
LOCATION:MS Teams
SUMMARY:Mfi3: Sprechstunde
END:VEVENT
BEGIN:VEVENT
UID:36323266-3633-4865-a431-663435316431
DTSTAMP:20260423T152058Z
DESCRIPTION:(Abbas Rezaey)
DTSTART:20201117T130000Z
DTEND:20201117T140000Z
LOCATION:MS Teams
SUMMARY:Mfi3: Sprechstunde [englisch]
END:VEVENT
BEGIN:VEVENT
UID:63633861-6363-4938-b331-336434653338
DTSTAMP:20260423T152058Z
DESCRIPTION:(Nicolas Faroß)
DTSTART:20201118T120000Z
DTEND:20201118T130000Z
LOCATION:MS Teams
SUMMARY:Mfi3: Sprechstunde
END:VEVENT
BEGIN:VEVENT
UID:35373731-3132-4233-a263-633930643864
DTSTAMP:20260423T152058Z
DESCRIPTION:(Jun.-Prof. Dr. Michael Hartz)
DTSTART:20201118T130000Z
DTEND:20201118T140000Z
LOCATION:MS Teams
SUMMARY:Mfi3: Sprechstunde des Dozenten
END:VEVENT
BEGIN:VEVENT
UID:32343230-3339-4537-a263-343339383131
DTSTAMP:20260423T152058Z
DESCRIPTION:(Marcel Scherer)
DTSTART:20201119T130000Z
DTEND:20201119T140000Z
LOCATION:MS Teams
SUMMARY:Mfi3: Sprechstunde
END:VEVENT
BEGIN:VEVENT
UID:37323266-6331-4936-b139-353832383037
DTSTAMP:20260423T152058Z
DESCRIPTION:(Dennis Quint)
DTSTART:20201124T090000Z
DTEND:20201124T100000Z
LOCATION:MS Teams
SUMMARY:Mfi3: Sprechstunde
END:VEVENT
BEGIN:VEVENT
UID:65333737-6461-4563-b636-323762646662
DTSTAMP:20260423T152058Z
DESCRIPTION:(Abbas Rezaey)
DTSTART:20201124T130000Z
DTEND:20201124T140000Z
LOCATION:MS Teams
SUMMARY:Mfi3: Sprechstunde [englisch]
END:VEVENT
BEGIN:VEVENT
UID:36346266-3761-4233-b833-336166336136
DTSTAMP:20260423T152058Z
DESCRIPTION:(Nicolas Faroß)
DTSTART:20201125T120000Z
DTEND:20201125T130000Z
LOCATION:MS Teams
SUMMARY:Mfi3: Sprechstunde
END:VEVENT
BEGIN:VEVENT
UID:39646437-6334-4436-b738-643234363133
DTSTAMP:20260423T152058Z
DESCRIPTION:(Jun.-Prof. Dr. Michael Hartz)
DTSTART:20201125T130000Z
DTEND:20201125T140000Z
LOCATION:MS Teams
SUMMARY:Mfi3: Sprechstunde des Dozenten
END:VEVENT
BEGIN:VEVENT
UID:66633330-3762-4362-a635-663030653736
DTSTAMP:20260423T152058Z
DESCRIPTION:(Lisa Heidmann)
DTSTART:20201126T090000Z
DTEND:20201126T100000Z
LOCATION:MS Teams
SUMMARY:Mfi3: Sprechstunde
END:VEVENT
BEGIN:VEVENT
UID:65383430-3437-4163-a335-386631323336
DTSTAMP:20260423T152058Z
DESCRIPTION:(Marcel Scherer)
DTSTART:20201126T130000Z
DTEND:20201126T140000Z
LOCATION:MS Teams
SUMMARY:Mfi3: Sprechstunde
END:VEVENT
BEGIN:VEVENT
UID:31326532-3464-4539-a535-646161633335
DTSTAMP:20260423T152058Z
DESCRIPTION:(Dennis Quint)
DTSTART:20201201T090000Z
DTEND:20201201T100000Z
LOCATION:MS Teams
SUMMARY:Mfi3: Sprechstunde
END:VEVENT
BEGIN:VEVENT
UID:37373961-3132-4635-a639-343962383831
DTSTAMP:20260423T152058Z
DESCRIPTION:(Lisa Karst)
DTSTART:20201201T100000Z
DTEND:20201201T110000Z
LOCATION:MS Teams
SUMMARY:Mfi3: Sprechstunde
END:VEVENT
BEGIN:VEVENT
UID:38663636-3666-4161-a461-613233373465
DTSTAMP:20260423T152058Z
DESCRIPTION:(Abbas Rezaey)
DTSTART:20201201T130000Z
DTEND:20201201T140000Z
LOCATION:MS Teams
SUMMARY:Mfi3: Sprechstunde [englisch]
END:VEVENT
BEGIN:VEVENT
UID:63353339-3838-4432-b565-323839613666
DTSTAMP:20260423T152058Z
DESCRIPTION:(Nicolas Faroß)
DTSTART:20201202T120000Z
DTEND:20201202T130000Z
LOCATION:MS Teams
SUMMARY:Mfi3: Sprechstunde
END:VEVENT
BEGIN:VEVENT
UID:32393666-6335-4932-b433-353166333062
DTSTAMP:20260423T152058Z
DESCRIPTION:(Jun.-Prof. Dr. Michael Hartz)
DTSTART:20201202T130000Z
DTEND:20201202T140000Z
LOCATION:MS Teams
SUMMARY:Mfi3: Sprechstunde des Dozenten
END:VEVENT
BEGIN:VEVENT
UID:63303465-6161-4632-b831-353136363236
DTSTAMP:20260423T152058Z
DESCRIPTION:(Lisa Heidmann)
DTSTART:20201203T090000Z
DTEND:20201203T100000Z
LOCATION:MS Teams
SUMMARY:Mfi3: Sprechstunde
END:VEVENT
BEGIN:VEVENT
UID:64663831-3663-4439-a263-313137346336
DTSTAMP:20260423T152058Z
DESCRIPTION:(Marcel Scherer)
DTSTART:20201203T130000Z
DTEND:20201203T140000Z
LOCATION:MS Teams
SUMMARY:Mfi3: Sprechstunde
END:VEVENT
BEGIN:VEVENT
UID:65363538-3935-4433-b739-373130356430
DTSTAMP:20260423T152058Z
DESCRIPTION:(Dennis Quint)
DTSTART:20201208T090000Z
DTEND:20201208T100000Z
LOCATION:MS Teams
SUMMARY:Mfi3: Sprechstunde
END:VEVENT
BEGIN:VEVENT
UID:30376530-3261-4932-a435-636162323262
DTSTAMP:20260423T152058Z
DESCRIPTION:(Lisa Karst)
DTSTART:20201208T100000Z
DTEND:20201208T110000Z
LOCATION:MS Teams
SUMMARY:Mfi3: Sprechstunde
END:VEVENT
BEGIN:VEVENT
UID:32666537-6534-4631-b239-376133393930
DTSTAMP:20260423T152058Z
DESCRIPTION:(Abbas Rezaey)
DTSTART:20201208T130000Z
DTEND:20201208T140000Z
LOCATION:MS Teams
SUMMARY:Mfi3: Sprechstunde [englisch]
END:VEVENT
BEGIN:VEVENT
UID:63653864-3638-4664-b239-333234346630
DTSTAMP:20260423T152058Z
DESCRIPTION:(Nicolas Faroß)
DTSTART:20201209T120000Z
DTEND:20201209T130000Z
LOCATION:MS Teams
SUMMARY:Mfi3: Sprechstunde
END:VEVENT
BEGIN:VEVENT
UID:33616563-3935-4433-b738-663938616561
DTSTAMP:20260423T152058Z
DESCRIPTION:(Jun.-Prof. Dr. Michael Hartz)
DTSTART:20201209T130000Z
DTEND:20201209T140000Z
LOCATION:MS Teams
SUMMARY:Mfi3: Sprechstunde des Dozenten
END:VEVENT
BEGIN:VEVENT
UID:64393532-6266-4334-b931-323566383465
DTSTAMP:20260423T152058Z
DESCRIPTION:(Lisa Heidmann)
DTSTART:20201210T090000Z
DTEND:20201210T100000Z
LOCATION:MS Teams
SUMMARY:Mfi3: Sprechstunde
END:VEVENT
BEGIN:VEVENT
UID:39623433-3438-4635-b932-303765613536
DTSTAMP:20260423T152058Z
DESCRIPTION:(Marcel Scherer)
DTSTART:20201210T130000Z
DTEND:20201210T140000Z
LOCATION:MS Teams
SUMMARY:Mfi3: Sprechstunde
END:VEVENT
BEGIN:VEVENT
UID:33313237-6364-4565-a434-373365366565
DTSTAMP:20260423T152058Z
DESCRIPTION:(Dennis Quint)
DTSTART:20201215T090000Z
DTEND:20201215T100000Z
LOCATION:MS Teams
SUMMARY:Mfi3: Sprechstunde
END:VEVENT
BEGIN:VEVENT
UID:63303162-6132-4562-b236-646261316232
DTSTAMP:20260423T152058Z
DESCRIPTION:(Lisa Karst)
DTSTART:20201215T100000Z
DTEND:20201215T110000Z
LOCATION:MS Teams
SUMMARY:Mfi3: Sprechstunde
END:VEVENT
BEGIN:VEVENT
UID:30333065-6631-4163-b261-633631326461
DTSTAMP:20260423T152058Z
DESCRIPTION:(Abbas Rezaey)
DTSTART:20201215T130000Z
DTEND:20201215T140000Z
LOCATION:MS Teams
SUMMARY:Mfi3: Sprechstunde [englisch]
END:VEVENT
BEGIN:VEVENT
UID:38636536-3065-4934-a362-396431333466
DTSTAMP:20260423T152058Z
DESCRIPTION:(Nicolas Faroß)
DTSTART:20201216T120000Z
DTEND:20201216T130000Z
LOCATION:MS Teams
SUMMARY:Mfi3: Sprechstunde
END:VEVENT
BEGIN:VEVENT
UID:62396531-6530-4263-b133-316236383333
DTSTAMP:20260423T152058Z
DESCRIPTION:(Jun.-Prof. Dr. Michael Hartz)
DTSTART:20201216T130000Z
DTEND:20201216T140000Z
LOCATION:MS Teams
SUMMARY:Mfi3: Sprechstunde des Dozenten
END:VEVENT
BEGIN:VEVENT
UID:30616537-3137-4336-a561-653962626338
DTSTAMP:20260423T152058Z
DESCRIPTION:(Lisa Heidmann)
DTSTART:20201217T090000Z
DTEND:20201217T100000Z
LOCATION:MS Teams
SUMMARY:Mfi3: Sprechstunde
END:VEVENT
BEGIN:VEVENT
UID:33303836-6665-4737-b636-616235313238
DTSTAMP:20260423T152058Z
DESCRIPTION:(Marcel Scherer)
DTSTART:20201217T130000Z
DTEND:20201217T140000Z
LOCATION:MS Teams
SUMMARY:Mfi3: Sprechstunde
END:VEVENT
BEGIN:VEVENT
UID:37663932-3639-4730-b138-626461646461
DTSTAMP:20260423T152058Z
DESCRIPTION:(Dennis Quint)
DTSTART:20210105T090000Z
DTEND:20210105T100000Z
LOCATION:MS Teams
SUMMARY:Mfi3: Sprechstunde
END:VEVENT
BEGIN:VEVENT
UID:64363132-6238-4761-b466-653461643935
DTSTAMP:20260423T152058Z
DESCRIPTION:(Lisa Karst)
DTSTART:20210105T100000Z
DTEND:20210105T110000Z
LOCATION:MS Teams
SUMMARY:Mfi3: Sprechstunde
END:VEVENT
BEGIN:VEVENT
UID:31633838-3135-4433-a265-323433653236
DTSTAMP:20260423T152058Z
DESCRIPTION:(Abbas Rezaey)
DTSTART:20210105T130000Z
DTEND:20210105T140000Z
LOCATION:MS Teams
SUMMARY:Mfi3: Sprechstunde [englisch]
END:VEVENT
BEGIN:VEVENT
UID:30396266-6331-4661-b433-393831363633
DTSTAMP:20260423T152058Z
DESCRIPTION:(Nicolas Faroß)
DTSTART:20210106T120000Z
DTEND:20210106T130000Z
LOCATION:MS Teams
SUMMARY:Mfi3: Sprechstunde
END:VEVENT
BEGIN:VEVENT
UID:34343762-3434-4333-a264-613366656531
DTSTAMP:20260423T152058Z
DESCRIPTION:(Jun.-Prof. Dr. Michael Hartz)
DTSTART:20210106T130000Z
DTEND:20210106T140000Z
LOCATION:MS Teams
SUMMARY:Mfi3: Sprechstunde des Dozenten
END:VEVENT
BEGIN:VEVENT
UID:64343463-6130-4664-a366-656562666666
DTSTAMP:20260423T152058Z
DESCRIPTION:(Lisa Heidmann)
DTSTART:20210107T090000Z
DTEND:20210107T100000Z
LOCATION:MS Teams
SUMMARY:Mfi3: Sprechstunde
END:VEVENT
BEGIN:VEVENT
UID:39373833-6630-4831-b964-646337363833
DTSTAMP:20260423T152058Z
DESCRIPTION:(Marcel Scherer)
DTSTART:20210107T130000Z
DTEND:20210107T140000Z
LOCATION:MS Teams
SUMMARY:Mfi3: Sprechstunde
END:VEVENT
BEGIN:VEVENT
UID:62373665-3362-4362-a561-666536646633
DTSTAMP:20260423T152058Z
DESCRIPTION:(Dennis Quint)
DTSTART:20210112T090000Z
DTEND:20210112T100000Z
LOCATION:MS Teams
SUMMARY:Mfi3: Sprechstunde
END:VEVENT
BEGIN:VEVENT
UID:62356438-3761-4235-a164-653863353462
DTSTAMP:20260423T152058Z
DESCRIPTION:(Lisa Karst)
DTSTART:20210112T100000Z
DTEND:20210112T110000Z
LOCATION:MS Teams
SUMMARY:Mfi3: Sprechstunde
END:VEVENT
BEGIN:VEVENT
UID:34653934-3030-4433-b734-333135636132
DTSTAMP:20260423T152058Z
DESCRIPTION:(Abbas Rezaey)
DTSTART:20210112T130000Z
DTEND:20210112T140000Z
LOCATION:MS Teams
SUMMARY:Mfi3: Sprechstunde [englisch]
END:VEVENT
BEGIN:VEVENT
UID:36336361-3835-4530-b733-613738643232
DTSTAMP:20260423T152058Z
DESCRIPTION:(Nicolas Faroß)
DTSTART:20210113T120000Z
DTEND:20210113T130000Z
LOCATION:MS Teams
SUMMARY:Mfi3: Sprechstunde
END:VEVENT
BEGIN:VEVENT
UID:36326338-3137-4738-b664-663434636231
DTSTAMP:20260423T152058Z
DESCRIPTION:(Jun.-Prof. Dr. Michael Hartz)
DTSTART:20210113T130000Z
DTEND:20210113T140000Z
LOCATION:MS Teams
SUMMARY:Mfi3: Sprechstunde des Dozenten
END:VEVENT
BEGIN:VEVENT
UID:36646631-6266-4235-b063-373235656538
DTSTAMP:20260423T152058Z
DESCRIPTION:(Lisa Heidmann)
DTSTART:20210114T090000Z
DTEND:20210114T100000Z
LOCATION:MS Teams
SUMMARY:Mfi3: Sprechstunde
END:VEVENT
BEGIN:VEVENT
UID:64643630-3036-4636-a536-616432356263
DTSTAMP:20260423T152058Z
DESCRIPTION:(Marcel Scherer)
DTSTART:20210114T130000Z
DTEND:20210114T140000Z
LOCATION:MS Teams
SUMMARY:Mfi3: Sprechstunde
END:VEVENT
BEGIN:VEVENT
UID:65643530-3363-4437-b237-623563336536
DTSTAMP:20260423T152058Z
DESCRIPTION:(Dennis Quint)
DTSTART:20210119T090000Z
DTEND:20210119T100000Z
LOCATION:MS Teams
SUMMARY:Mfi3: Sprechstunde
END:VEVENT
BEGIN:VEVENT
UID:36333733-3662-4632-b761-656139663233
DTSTAMP:20260423T152058Z
DESCRIPTION:(Lisa Karst)
DTSTART:20210119T100000Z
DTEND:20210119T110000Z
LOCATION:MS Teams
SUMMARY:Mfi3: Sprechstunde
END:VEVENT
BEGIN:VEVENT
UID:62626138-3333-4066-a236-616438396666
DTSTAMP:20260423T152058Z
DESCRIPTION:(Abbas Rezaey)
DTSTART:20210119T130000Z
DTEND:20210119T140000Z
LOCATION:MS Teams
SUMMARY:Mfi3: Sprechstunde [englisch]
END:VEVENT
BEGIN:VEVENT
UID:36346236-6435-4331-a137-656537343630
DTSTAMP:20260423T152058Z
DESCRIPTION:(Nicolas Faroß)
DTSTART:20210120T120000Z
DTEND:20210120T130000Z
LOCATION:MS Teams
SUMMARY:Mfi3: Sprechstunde
END:VEVENT
BEGIN:VEVENT
UID:35663666-6531-4164-b365-616239323262
DTSTAMP:20260423T152058Z
DESCRIPTION:(Jun.-Prof. Dr. Michael Hartz)
DTSTART:20210120T130000Z
DTEND:20210120T140000Z
LOCATION:MS Teams
SUMMARY:Mfi3: Sprechstunde des Dozenten
END:VEVENT
BEGIN:VEVENT
UID:63643762-3263-4338-a539-373533323636
DTSTAMP:20260423T152058Z
DESCRIPTION:(Lisa Heidmann)
DTSTART:20210121T090000Z
DTEND:20210121T100000Z
LOCATION:MS Teams
SUMMARY:Mfi3: Sprechstunde
END:VEVENT
BEGIN:VEVENT
UID:34386630-3766-4163-b262-313863333563
DTSTAMP:20260423T152058Z
DESCRIPTION:(Marcel Scherer)
DTSTART:20210121T130000Z
DTEND:20210121T140000Z
LOCATION:MS Teams
SUMMARY:Mfi3: Sprechstunde
END:VEVENT
BEGIN:VEVENT
UID:35646232-3631-4235-b833-623461356634
DTSTAMP:20260423T152058Z
DESCRIPTION:(Dennis Quint)
DTSTART:20210126T090000Z
DTEND:20210126T100000Z
LOCATION:MS Teams
SUMMARY:Mfi3: Sprechstunde
END:VEVENT
BEGIN:VEVENT
UID:64636538-3130-4634-b231-386463666139
DTSTAMP:20260423T152058Z
DESCRIPTION:(Lisa Karst)
DTSTART:20210126T100000Z
DTEND:20210126T110000Z
LOCATION:MS Teams
SUMMARY:Mfi3: Sprechstunde
END:VEVENT
BEGIN:VEVENT
UID:33663435-6334-4066-a265-356633303265
DTSTAMP:20260423T152058Z
DESCRIPTION:(Abbas Rezaey)
DTSTART:20210126T130000Z
DTEND:20210126T140000Z
LOCATION:MS Teams
SUMMARY:Mfi3: Sprechstunde [englisch]
END:VEVENT
BEGIN:VEVENT
UID:64373066-3463-4465-a137-396266643061
DTSTAMP:20260423T152058Z
DESCRIPTION:(Nicolas Faroß)
DTSTART:20210127T120000Z
DTEND:20210127T130000Z
LOCATION:MS Teams
SUMMARY:Mfi3: Sprechstunde
END:VEVENT
BEGIN:VEVENT
UID:37363130-3133-4438-a563-323162373937
DTSTAMP:20260423T152058Z
DESCRIPTION:(Jun.-Prof. Dr. Michael Hartz)
DTSTART:20210127T130000Z
DTEND:20210127T140000Z
LOCATION:MS Teams
SUMMARY:Mfi3: Sprechstunde des Dozenten
END:VEVENT
BEGIN:VEVENT
UID:33633038-6630-4565-b537-373331393964
DTSTAMP:20260423T152058Z
DESCRIPTION:(Lisa Heidmann)
DTSTART:20210128T090000Z
DTEND:20210128T100000Z
LOCATION:MS Teams
SUMMARY:Mfi3: Sprechstunde
END:VEVENT
BEGIN:VEVENT
UID:65313231-3536-4234-b233-626236316133
DTSTAMP:20260423T152058Z
DESCRIPTION:(Marcel Scherer)
DTSTART:20210128T130000Z
DTEND:20210128T140000Z
LOCATION:MS Teams
SUMMARY:Mfi3: Sprechstunde
END:VEVENT
BEGIN:VEVENT
UID:64666661-3038-4136-a630-316532303331
DTSTAMP:20260423T152058Z
DESCRIPTION:(Dennis Quint)
DTSTART:20210202T090000Z
DTEND:20210202T100000Z
LOCATION:MS Teams
SUMMARY:Mfi3: Sprechstunde
END:VEVENT
BEGIN:VEVENT
UID:65356437-6366-4335-b563-303963306531
DTSTAMP:20260423T152058Z
DESCRIPTION:(Lisa Karst)
DTSTART:20210202T100000Z
DTEND:20210202T110000Z
LOCATION:MS Teams
SUMMARY:Mfi3: Sprechstunde
END:VEVENT
BEGIN:VEVENT
UID:39386535-3637-4161-a364-616466303964
DTSTAMP:20260423T152058Z
DESCRIPTION:(Abbas Rezaey)
DTSTART:20210202T130000Z
DTEND:20210202T140000Z
LOCATION:MS Teams
SUMMARY:Mfi3: Sprechstunde [englisch]
END:VEVENT
BEGIN:VEVENT
UID:39613038-3336-4034-a535-393835663633
DTSTAMP:20260423T152058Z
DESCRIPTION:(Nicolas Faroß)
DTSTART:20210203T120000Z
DTEND:20210203T130000Z
LOCATION:MS Teams
SUMMARY:Mfi3: Sprechstunde
END:VEVENT
BEGIN:VEVENT
UID:30306562-3839-4262-b363-393131613166
DTSTAMP:20260423T152058Z
DESCRIPTION:(Jun.-Prof. Dr. Michael Hartz)
DTSTART:20210203T130000Z
DTEND:20210203T140000Z
LOCATION:MS Teams
SUMMARY:Mfi3: Sprechstunde des Dozenten
END:VEVENT
BEGIN:VEVENT
UID:31326230-3963-4432-b635-663334386332
DTSTAMP:20260423T152058Z
DESCRIPTION:(Lisa Heidmann)
DTSTART:20210204T090000Z
DTEND:20210204T100000Z
LOCATION:MS Teams
SUMMARY:Mfi3: Sprechstunde
END:VEVENT
BEGIN:VEVENT
UID:34353539-3039-4765-b661-383831376634
DTSTAMP:20260423T152058Z
DESCRIPTION:(Marcel Scherer)
DTSTART:20210204T130000Z
DTEND:20210204T140000Z
LOCATION:MS Teams
SUMMARY:Mfi3: Sprechstunde
END:VEVENT
BEGIN:VEVENT
UID:62643434-6331-4261-b237-653030363262
DTSTAMP:20260423T152058Z
DESCRIPTION:
DTSTART:20210210T130000Z
DTEND:20210210T140000Z
SUMMARY:Mfi3: Sprechstunde des Dozenten
END:VEVENT
BEGIN:VEVENT
UID:62383661-3930-4262-b332-623766383034
DTSTAMP:20260423T152058Z
DESCRIPTION:
DTSTART:20210217T150000Z
DTEND:20210217T160000Z
SUMMARY:Mfi3: Sprechstunde des Dozenten
END:VEVENT
BEGIN:VEVENT
UID:61616538-3130-4631-b965-356364663432
DTSTAMP:20260423T152058Z
DESCRIPTION:
DTSTART:20210218T130000Z
DTEND:20210218T140000Z
SUMMARY:Mfi3: Sprechstunde des Dozenten
END:VEVENT
END:VCALENDAR
