BEGIN:VCALENDAR
VERSION:2.0
PRODID:-//134.96.226.213//NONSGML kigkonsult.se iCalcreator 2.41.92//
CALSCALE:GREGORIAN
METHOD:PUBLISH
UID:37663266-6330-4339-a265-653539626661
X-WR-CALNAME:Mathematik für Informatiker 3 Calendar
X-WR-CALDESC:Termine der Vorlesung Mathematik für Informatiker 3
X-WR-TIMEZONE:Europe/Berlin
BEGIN:VEVENT
UID:38663435-6538-4464-b830-666230656538
DTSTAMP:20260423T170306Z
DESCRIPTION:(Dennis Quint)
DTSTART:20201117T090000Z
DTEND:20201117T100000Z
LOCATION:MS Teams
SUMMARY:Sprechstunde
END:VEVENT
BEGIN:VEVENT
UID:64303234-3032-4335-a132-333732646334
DTSTAMP:20260423T170306Z
DESCRIPTION:(Abbas Rezaey)
DTSTART:20201117T130000Z
DTEND:20201117T140000Z
LOCATION:MS Teams
SUMMARY:Sprechstunde [englisch]
END:VEVENT
BEGIN:VEVENT
UID:34366438-6233-4938-b163-396664313035
DTSTAMP:20260423T170306Z
DESCRIPTION:(Nicolas Faroß)
DTSTART:20201118T120000Z
DTEND:20201118T130000Z
LOCATION:MS Teams
SUMMARY:Sprechstunde
END:VEVENT
BEGIN:VEVENT
UID:38646665-3030-4865-a235-656532626236
DTSTAMP:20260423T170306Z
DESCRIPTION:(Jun.-Prof. Dr. Michael Hartz)
DTSTART:20201118T130000Z
DTEND:20201118T140000Z
LOCATION:MS Teams
SUMMARY:Sprechstunde des Dozenten
END:VEVENT
BEGIN:VEVENT
UID:61373632-6639-4365-b236-353465643562
DTSTAMP:20260423T170306Z
DESCRIPTION:(Marcel Scherer)
DTSTART:20201119T130000Z
DTEND:20201119T140000Z
LOCATION:MS Teams
SUMMARY:Sprechstunde
END:VEVENT
BEGIN:VEVENT
UID:31393335-6430-4437-a364-393030646535
DTSTAMP:20260423T170306Z
DESCRIPTION:(Dennis Quint)
DTSTART:20201124T090000Z
DTEND:20201124T100000Z
LOCATION:MS Teams
SUMMARY:Sprechstunde
END:VEVENT
BEGIN:VEVENT
UID:64303561-3862-4362-b837-383066346262
DTSTAMP:20260423T170306Z
DESCRIPTION:(Abbas Rezaey)
DTSTART:20201124T130000Z
DTEND:20201124T140000Z
LOCATION:MS Teams
SUMMARY:Sprechstunde [englisch]
END:VEVENT
BEGIN:VEVENT
UID:65623532-3564-4835-b961-643634386662
DTSTAMP:20260423T170306Z
DESCRIPTION:(Nicolas Faroß)
DTSTART:20201125T120000Z
DTEND:20201125T130000Z
LOCATION:MS Teams
SUMMARY:Sprechstunde
END:VEVENT
BEGIN:VEVENT
UID:35343934-6165-4437-a262-633561356437
DTSTAMP:20260423T170306Z
DESCRIPTION:(Jun.-Prof. Dr. Michael Hartz)
DTSTART:20201125T130000Z
DTEND:20201125T140000Z
LOCATION:MS Teams
SUMMARY:Sprechstunde des Dozenten
END:VEVENT
BEGIN:VEVENT
UID:66326162-6636-4265-a365-633961616535
DTSTAMP:20260423T170306Z
DESCRIPTION:(Lisa Heidmann)
DTSTART:20201126T090000Z
DTEND:20201126T100000Z
LOCATION:MS Teams
SUMMARY:Sprechstunde
END:VEVENT
BEGIN:VEVENT
UID:37396265-6464-4535-b239-333566346661
DTSTAMP:20260423T170306Z
DESCRIPTION:(Marcel Scherer)
DTSTART:20201126T130000Z
DTEND:20201126T140000Z
LOCATION:MS Teams
SUMMARY:Sprechstunde
END:VEVENT
BEGIN:VEVENT
UID:38663465-3666-4133-b466-306537643963
DTSTAMP:20260423T170306Z
DESCRIPTION:(Dennis Quint)
DTSTART:20201201T090000Z
DTEND:20201201T100000Z
LOCATION:MS Teams
SUMMARY:Sprechstunde
END:VEVENT
BEGIN:VEVENT
UID:37643965-3335-4662-b937-306365646531
DTSTAMP:20260423T170306Z
DESCRIPTION:(Lisa Karst)
DTSTART:20201201T100000Z
DTEND:20201201T110000Z
LOCATION:MS Teams
SUMMARY:Sprechstunde
END:VEVENT
BEGIN:VEVENT
UID:36396333-3036-4231-b039-346533656561
DTSTAMP:20260423T170306Z
DESCRIPTION:(Abbas Rezaey)
DTSTART:20201201T130000Z
DTEND:20201201T140000Z
LOCATION:MS Teams
SUMMARY:Sprechstunde [englisch]
END:VEVENT
BEGIN:VEVENT
UID:33383362-6364-4836-a565-346336393034
DTSTAMP:20260423T170306Z
DESCRIPTION:(Nicolas Faroß)
DTSTART:20201202T120000Z
DTEND:20201202T130000Z
LOCATION:MS Teams
SUMMARY:Sprechstunde
END:VEVENT
BEGIN:VEVENT
UID:32383333-3439-4465-b233-653265336436
DTSTAMP:20260423T170306Z
DESCRIPTION:(Jun.-Prof. Dr. Michael Hartz)
DTSTART:20201202T130000Z
DTEND:20201202T140000Z
LOCATION:MS Teams
SUMMARY:Sprechstunde des Dozenten
END:VEVENT
BEGIN:VEVENT
UID:66326639-3835-4638-a139-633035363136
DTSTAMP:20260423T170306Z
DESCRIPTION:(Lisa Heidmann)
DTSTART:20201203T090000Z
DTEND:20201203T100000Z
LOCATION:MS Teams
SUMMARY:Sprechstunde
END:VEVENT
BEGIN:VEVENT
UID:38333962-3035-4231-a532-643335336638
DTSTAMP:20260423T170306Z
DESCRIPTION:(Marcel Scherer)
DTSTART:20201203T130000Z
DTEND:20201203T140000Z
LOCATION:MS Teams
SUMMARY:Sprechstunde
END:VEVENT
BEGIN:VEVENT
UID:33643538-6232-4337-b630-393065636231
DTSTAMP:20260423T170306Z
DESCRIPTION:(Dennis Quint)
DTSTART:20201208T090000Z
DTEND:20201208T100000Z
LOCATION:MS Teams
SUMMARY:Sprechstunde
END:VEVENT
BEGIN:VEVENT
UID:62363733-3635-4631-b363-653863326131
DTSTAMP:20260423T170306Z
DESCRIPTION:(Lisa Karst)
DTSTART:20201208T100000Z
DTEND:20201208T110000Z
LOCATION:MS Teams
SUMMARY:Sprechstunde
END:VEVENT
BEGIN:VEVENT
UID:34656435-3933-4464-b134-343865303362
DTSTAMP:20260423T170306Z
DESCRIPTION:(Abbas Rezaey)
DTSTART:20201208T130000Z
DTEND:20201208T140000Z
LOCATION:MS Teams
SUMMARY:Sprechstunde [englisch]
END:VEVENT
BEGIN:VEVENT
UID:35663537-3839-4635-a335-343561306532
DTSTAMP:20260423T170306Z
DESCRIPTION:(Nicolas Faroß)
DTSTART:20201209T120000Z
DTEND:20201209T130000Z
LOCATION:MS Teams
SUMMARY:Sprechstunde
END:VEVENT
BEGIN:VEVENT
UID:37633138-6636-4237-a463-346362393637
DTSTAMP:20260423T170306Z
DESCRIPTION:(Jun.-Prof. Dr. Michael Hartz)
DTSTART:20201209T130000Z
DTEND:20201209T140000Z
LOCATION:MS Teams
SUMMARY:Sprechstunde des Dozenten
END:VEVENT
BEGIN:VEVENT
UID:62646662-6438-4163-a531-313836386233
DTSTAMP:20260423T170306Z
DESCRIPTION:(Lisa Heidmann)
DTSTART:20201210T090000Z
DTEND:20201210T100000Z
LOCATION:MS Teams
SUMMARY:Sprechstunde
END:VEVENT
BEGIN:VEVENT
UID:30656330-3134-4863-a635-336232326436
DTSTAMP:20260423T170306Z
DESCRIPTION:(Marcel Scherer)
DTSTART:20201210T130000Z
DTEND:20201210T140000Z
LOCATION:MS Teams
SUMMARY:Sprechstunde
END:VEVENT
BEGIN:VEVENT
UID:65653632-6461-4061-a666-346638666336
DTSTAMP:20260423T170306Z
DESCRIPTION:(Dennis Quint)
DTSTART:20201215T090000Z
DTEND:20201215T100000Z
LOCATION:MS Teams
SUMMARY:Sprechstunde
END:VEVENT
BEGIN:VEVENT
UID:63633734-3435-4065-a130-363161386238
DTSTAMP:20260423T170306Z
DESCRIPTION:(Lisa Karst)
DTSTART:20201215T100000Z
DTEND:20201215T110000Z
LOCATION:MS Teams
SUMMARY:Sprechstunde
END:VEVENT
BEGIN:VEVENT
UID:64636632-6639-4432-a531-383430633839
DTSTAMP:20260423T170306Z
DESCRIPTION:(Abbas Rezaey)
DTSTART:20201215T130000Z
DTEND:20201215T140000Z
LOCATION:MS Teams
SUMMARY:Sprechstunde [englisch]
END:VEVENT
BEGIN:VEVENT
UID:36306336-6262-4361-b538-353336326237
DTSTAMP:20260423T170306Z
DESCRIPTION:(Nicolas Faroß)
DTSTART:20201216T120000Z
DTEND:20201216T130000Z
LOCATION:MS Teams
SUMMARY:Sprechstunde
END:VEVENT
BEGIN:VEVENT
UID:30633135-6363-4139-a364-623562613236
DTSTAMP:20260423T170306Z
DESCRIPTION:(Jun.-Prof. Dr. Michael Hartz)
DTSTART:20201216T130000Z
DTEND:20201216T140000Z
LOCATION:MS Teams
SUMMARY:Sprechstunde des Dozenten
END:VEVENT
BEGIN:VEVENT
UID:37356562-3935-4165-a639-663634393936
DTSTAMP:20260423T170306Z
DESCRIPTION:(Lisa Heidmann)
DTSTART:20201217T090000Z
DTEND:20201217T100000Z
LOCATION:MS Teams
SUMMARY:Sprechstunde
END:VEVENT
BEGIN:VEVENT
UID:35353865-6263-4335-b434-326438316134
DTSTAMP:20260423T170306Z
DESCRIPTION:(Marcel Scherer)
DTSTART:20201217T130000Z
DTEND:20201217T140000Z
LOCATION:MS Teams
SUMMARY:Sprechstunde
END:VEVENT
BEGIN:VEVENT
UID:38633934-3436-4839-b530-663462396530
DTSTAMP:20260423T170306Z
DESCRIPTION:(Dennis Quint)
DTSTART:20210105T090000Z
DTEND:20210105T100000Z
LOCATION:MS Teams
SUMMARY:Sprechstunde
END:VEVENT
BEGIN:VEVENT
UID:32336237-6163-4337-a265-393662643832
DTSTAMP:20260423T170306Z
DESCRIPTION:(Lisa Karst)
DTSTART:20210105T100000Z
DTEND:20210105T110000Z
LOCATION:MS Teams
SUMMARY:Sprechstunde
END:VEVENT
BEGIN:VEVENT
UID:35626463-3733-4531-b135-366431356330
DTSTAMP:20260423T170306Z
DESCRIPTION:(Abbas Rezaey)
DTSTART:20210105T130000Z
DTEND:20210105T140000Z
LOCATION:MS Teams
SUMMARY:Sprechstunde [englisch]
END:VEVENT
BEGIN:VEVENT
UID:63336162-6562-4561-a564-653839383738
DTSTAMP:20260423T170306Z
DESCRIPTION:(Nicolas Faroß)
DTSTART:20210106T120000Z
DTEND:20210106T130000Z
LOCATION:MS Teams
SUMMARY:Sprechstunde
END:VEVENT
BEGIN:VEVENT
UID:32346563-3931-4036-b366-373839656338
DTSTAMP:20260423T170306Z
DESCRIPTION:(Jun.-Prof. Dr. Michael Hartz)
DTSTART:20210106T130000Z
DTEND:20210106T140000Z
LOCATION:MS Teams
SUMMARY:Sprechstunde des Dozenten
END:VEVENT
BEGIN:VEVENT
UID:34643034-6636-4734-b839-653734376132
DTSTAMP:20260423T170306Z
DESCRIPTION:(Lisa Heidmann)
DTSTART:20210107T090000Z
DTEND:20210107T100000Z
LOCATION:MS Teams
SUMMARY:Sprechstunde
END:VEVENT
BEGIN:VEVENT
UID:36393733-6138-4137-b231-646532323937
DTSTAMP:20260423T170306Z
DESCRIPTION:(Marcel Scherer)
DTSTART:20210107T130000Z
DTEND:20210107T140000Z
LOCATION:MS Teams
SUMMARY:Sprechstunde
END:VEVENT
BEGIN:VEVENT
UID:64306439-3534-4465-b438-343333636362
DTSTAMP:20260423T170306Z
DESCRIPTION:(Dennis Quint)
DTSTART:20210112T090000Z
DTEND:20210112T100000Z
LOCATION:MS Teams
SUMMARY:Sprechstunde
END:VEVENT
BEGIN:VEVENT
UID:63613934-6137-4632-b830-353332333231
DTSTAMP:20260423T170306Z
DESCRIPTION:(Lisa Karst)
DTSTART:20210112T100000Z
DTEND:20210112T110000Z
LOCATION:MS Teams
SUMMARY:Sprechstunde
END:VEVENT
BEGIN:VEVENT
UID:63303736-3833-4336-b131-373862373866
DTSTAMP:20260423T170306Z
DESCRIPTION:(Abbas Rezaey)
DTSTART:20210112T130000Z
DTEND:20210112T140000Z
LOCATION:MS Teams
SUMMARY:Sprechstunde [englisch]
END:VEVENT
BEGIN:VEVENT
UID:65386161-3239-4562-a233-653636623066
DTSTAMP:20260423T170306Z
DESCRIPTION:(Nicolas Faroß)
DTSTART:20210113T120000Z
DTEND:20210113T130000Z
LOCATION:MS Teams
SUMMARY:Sprechstunde
END:VEVENT
BEGIN:VEVENT
UID:63343932-6132-4430-a430-653366376331
DTSTAMP:20260423T170306Z
DESCRIPTION:(Jun.-Prof. Dr. Michael Hartz)
DTSTART:20210113T130000Z
DTEND:20210113T140000Z
LOCATION:MS Teams
SUMMARY:Sprechstunde des Dozenten
END:VEVENT
BEGIN:VEVENT
UID:37383732-3663-4539-b263-323664356663
DTSTAMP:20260423T170306Z
DESCRIPTION:(Lisa Heidmann)
DTSTART:20210114T090000Z
DTEND:20210114T100000Z
LOCATION:MS Teams
SUMMARY:Sprechstunde
END:VEVENT
BEGIN:VEVENT
UID:31656537-6166-4632-b039-613138356661
DTSTAMP:20260423T170306Z
DESCRIPTION:(Marcel Scherer)
DTSTART:20210114T130000Z
DTEND:20210114T140000Z
LOCATION:MS Teams
SUMMARY:Sprechstunde
END:VEVENT
BEGIN:VEVENT
UID:35336262-3132-4361-b734-393337363561
DTSTAMP:20260423T170306Z
DESCRIPTION:(Dennis Quint)
DTSTART:20210119T090000Z
DTEND:20210119T100000Z
LOCATION:MS Teams
SUMMARY:Sprechstunde
END:VEVENT
BEGIN:VEVENT
UID:66386336-6565-4361-b964-336234363431
DTSTAMP:20260423T170306Z
DESCRIPTION:(Lisa Karst)
DTSTART:20210119T100000Z
DTEND:20210119T110000Z
LOCATION:MS Teams
SUMMARY:Sprechstunde
END:VEVENT
BEGIN:VEVENT
UID:37636634-3832-4236-a631-646235383835
DTSTAMP:20260423T170306Z
DESCRIPTION:(Abbas Rezaey)
DTSTART:20210119T130000Z
DTEND:20210119T140000Z
LOCATION:MS Teams
SUMMARY:Sprechstunde [englisch]
END:VEVENT
BEGIN:VEVENT
UID:38386163-3436-4337-b939-333437623561
DTSTAMP:20260423T170306Z
DESCRIPTION:(Nicolas Faroß)
DTSTART:20210120T120000Z
DTEND:20210120T130000Z
LOCATION:MS Teams
SUMMARY:Sprechstunde
END:VEVENT
BEGIN:VEVENT
UID:35306234-3734-4461-b661-636233396430
DTSTAMP:20260423T170306Z
DESCRIPTION:(Jun.-Prof. Dr. Michael Hartz)
DTSTART:20210120T130000Z
DTEND:20210120T140000Z
LOCATION:MS Teams
SUMMARY:Sprechstunde des Dozenten
END:VEVENT
BEGIN:VEVENT
UID:32333365-6137-4765-b362-346430313130
DTSTAMP:20260423T170306Z
DESCRIPTION:(Lisa Heidmann)
DTSTART:20210121T090000Z
DTEND:20210121T100000Z
LOCATION:MS Teams
SUMMARY:Sprechstunde
END:VEVENT
BEGIN:VEVENT
UID:39623366-3031-4434-b331-643339646436
DTSTAMP:20260423T170306Z
DESCRIPTION:(Marcel Scherer)
DTSTART:20210121T130000Z
DTEND:20210121T140000Z
LOCATION:MS Teams
SUMMARY:Sprechstunde
END:VEVENT
BEGIN:VEVENT
UID:66363631-3333-4166-b734-323138633666
DTSTAMP:20260423T170306Z
DESCRIPTION:(Dennis Quint)
DTSTART:20210126T090000Z
DTEND:20210126T100000Z
LOCATION:MS Teams
SUMMARY:Sprechstunde
END:VEVENT
BEGIN:VEVENT
UID:65643832-3061-4435-a236-316633643630
DTSTAMP:20260423T170306Z
DESCRIPTION:(Lisa Karst)
DTSTART:20210126T100000Z
DTEND:20210126T110000Z
LOCATION:MS Teams
SUMMARY:Sprechstunde
END:VEVENT
BEGIN:VEVENT
UID:30636262-3031-4766-a338-343835653239
DTSTAMP:20260423T170306Z
DESCRIPTION:(Abbas Rezaey)
DTSTART:20210126T130000Z
DTEND:20210126T140000Z
LOCATION:MS Teams
SUMMARY:Sprechstunde [englisch]
END:VEVENT
BEGIN:VEVENT
UID:66343863-3234-4531-a361-626334643565
DTSTAMP:20260423T170306Z
DESCRIPTION:(Nicolas Faroß)
DTSTART:20210127T120000Z
DTEND:20210127T130000Z
LOCATION:MS Teams
SUMMARY:Sprechstunde
END:VEVENT
BEGIN:VEVENT
UID:38646333-6663-4663-b734-626263363038
DTSTAMP:20260423T170306Z
DESCRIPTION:(Jun.-Prof. Dr. Michael Hartz)
DTSTART:20210127T130000Z
DTEND:20210127T140000Z
LOCATION:MS Teams
SUMMARY:Sprechstunde des Dozenten
END:VEVENT
BEGIN:VEVENT
UID:31363664-3130-4464-b232-393330626263
DTSTAMP:20260423T170306Z
DESCRIPTION:(Lisa Heidmann)
DTSTART:20210128T090000Z
DTEND:20210128T100000Z
LOCATION:MS Teams
SUMMARY:Sprechstunde
END:VEVENT
BEGIN:VEVENT
UID:64616465-3738-4666-b534-613263643633
DTSTAMP:20260423T170306Z
DESCRIPTION:(Marcel Scherer)
DTSTART:20210128T130000Z
DTEND:20210128T140000Z
LOCATION:MS Teams
SUMMARY:Sprechstunde
END:VEVENT
BEGIN:VEVENT
UID:32366431-3730-4463-a436-643836646563
DTSTAMP:20260423T170306Z
DESCRIPTION:(Dennis Quint)
DTSTART:20210202T090000Z
DTEND:20210202T100000Z
LOCATION:MS Teams
SUMMARY:Sprechstunde
END:VEVENT
BEGIN:VEVENT
UID:62363938-3731-4562-b030-313831663536
DTSTAMP:20260423T170306Z
DESCRIPTION:(Lisa Karst)
DTSTART:20210202T100000Z
DTEND:20210202T110000Z
LOCATION:MS Teams
SUMMARY:Sprechstunde
END:VEVENT
BEGIN:VEVENT
UID:65353632-3838-4333-b563-623666323732
DTSTAMP:20260423T170306Z
DESCRIPTION:(Abbas Rezaey)
DTSTART:20210202T130000Z
DTEND:20210202T140000Z
LOCATION:MS Teams
SUMMARY:Sprechstunde [englisch]
END:VEVENT
BEGIN:VEVENT
UID:36646232-3039-4163-a362-393463366435
DTSTAMP:20260423T170306Z
DESCRIPTION:(Nicolas Faroß)
DTSTART:20210203T120000Z
DTEND:20210203T130000Z
LOCATION:MS Teams
SUMMARY:Sprechstunde
END:VEVENT
BEGIN:VEVENT
UID:35663538-6133-4132-b765-373631303965
DTSTAMP:20260423T170306Z
DESCRIPTION:(Jun.-Prof. Dr. Michael Hartz)
DTSTART:20210203T130000Z
DTEND:20210203T140000Z
LOCATION:MS Teams
SUMMARY:Sprechstunde des Dozenten
END:VEVENT
BEGIN:VEVENT
UID:65313562-3638-4438-b435-336665303137
DTSTAMP:20260423T170306Z
DESCRIPTION:(Lisa Heidmann)
DTSTART:20210204T090000Z
DTEND:20210204T100000Z
LOCATION:MS Teams
SUMMARY:Sprechstunde
END:VEVENT
BEGIN:VEVENT
UID:63626664-3264-4134-b864-343963306166
DTSTAMP:20260423T170306Z
DESCRIPTION:(Marcel Scherer)
DTSTART:20210204T130000Z
DTEND:20210204T140000Z
LOCATION:MS Teams
SUMMARY:Sprechstunde
END:VEVENT
BEGIN:VEVENT
UID:34323434-3534-4235-a364-366437363262
DTSTAMP:20260423T170306Z
DESCRIPTION:
DTSTART:20210210T130000Z
DTEND:20210210T140000Z
SUMMARY:Sprechstunde des Dozenten
END:VEVENT
BEGIN:VEVENT
UID:34643133-3838-4335-a632-623766366236
DTSTAMP:20260423T170306Z
DESCRIPTION:
DTSTART:20210217T150000Z
DTEND:20210217T160000Z
SUMMARY:Sprechstunde des Dozenten
END:VEVENT
BEGIN:VEVENT
UID:63373938-3463-4435-b562-336537303835
DTSTAMP:20260423T170306Z
DESCRIPTION:
DTSTART:20210218T130000Z
DTEND:20210218T140000Z
SUMMARY:Sprechstunde des Dozenten
END:VEVENT
END:VCALENDAR
