BEGIN:VCALENDAR
VERSION:2.0
PRODID:-//134.96.226.213//NONSGML kigkonsult.se iCalcreator 2.41.92//
CALSCALE:GREGORIAN
METHOD:PUBLISH
UID:36643236-3530-4239-b437-646531346531
X-WR-CALNAME:Mathematik für Informatiker 3 Calendar
X-WR-CALDESC:Termine der Vorlesung Mathematik für Informatiker 3
X-WR-TIMEZONE:Europe/Berlin
BEGIN:VEVENT
UID:37636261-3234-4030-b038-626664663732
DTSTAMP:20260423T170326Z
DESCRIPTION:
DTSTART:20201118T073000Z
DTEND:20201118T090000Z
LOCATION:MS Teams
SUMMARY:Mfi3: Vorlesung
END:VEVENT
BEGIN:VEVENT
UID:34366162-3364-4635-a137-353865666233
DTSTAMP:20260423T170326Z
DESCRIPTION:
DTSTART:20201120T111500Z
DTEND:20201120T124500Z
LOCATION:MS Teams
SUMMARY:Mfi3: Vorlesung
END:VEVENT
BEGIN:VEVENT
UID:33623932-6366-4435-b335-343765393362
DTSTAMP:20260423T170326Z
DESCRIPTION:
DTSTART:20201125T073000Z
DTEND:20201125T090000Z
LOCATION:MS Teams
SUMMARY:Mfi3: Vorlesung
END:VEVENT
BEGIN:VEVENT
UID:30346161-3731-4939-a166-303862336332
DTSTAMP:20260423T170326Z
DESCRIPTION:
DTSTART:20201127T111500Z
DTEND:20201127T124500Z
LOCATION:MS Teams
SUMMARY:Mfi3: Vorlesung
END:VEVENT
BEGIN:VEVENT
UID:63303366-3265-4462-b335-623263343737
DTSTAMP:20260423T170326Z
DESCRIPTION:
DTSTART:20201202T073000Z
DTEND:20201202T090000Z
LOCATION:MS Teams
SUMMARY:Mfi3: Vorlesung
END:VEVENT
BEGIN:VEVENT
UID:65323330-3663-4464-b365-316431343536
DTSTAMP:20260423T170326Z
DESCRIPTION:
DTSTART:20201204T111500Z
DTEND:20201204T124500Z
LOCATION:MS Teams
SUMMARY:Mfi3: Vorlesung
END:VEVENT
BEGIN:VEVENT
UID:66363562-3935-4562-b537-333537336165
DTSTAMP:20260423T170326Z
DESCRIPTION:
DTSTART:20201209T073000Z
DTEND:20201209T090000Z
LOCATION:MS Teams
SUMMARY:Mfi3: Vorlesung
END:VEVENT
BEGIN:VEVENT
UID:63613636-6635-4239-b733-643965356133
DTSTAMP:20260423T170326Z
DESCRIPTION:
DTSTART:20201211T111500Z
DTEND:20201211T124500Z
LOCATION:MS Teams
SUMMARY:Mfi3: Vorlesung
END:VEVENT
BEGIN:VEVENT
UID:63313565-6339-4932-b662-613730616234
DTSTAMP:20260423T170326Z
DESCRIPTION:
DTSTART:20201216T073000Z
DTEND:20201216T090000Z
LOCATION:MS Teams
SUMMARY:Mfi3: Vorlesung
END:VEVENT
BEGIN:VEVENT
UID:61333739-3039-4466-b630-336133396262
DTSTAMP:20260423T170326Z
DESCRIPTION:
DTSTART:20201218T111500Z
DTEND:20201218T124500Z
LOCATION:MS Teams
SUMMARY:Mfi3: Vorlesung
END:VEVENT
BEGIN:VEVENT
UID:64663835-3364-4733-a564-306361316261
DTSTAMP:20260423T170326Z
DESCRIPTION:
DTSTART:20210106T073000Z
DTEND:20210106T090000Z
LOCATION:MS Teams
SUMMARY:Mfi3: Vorlesung
END:VEVENT
BEGIN:VEVENT
UID:35316234-6434-4562-b963-356131613665
DTSTAMP:20260423T170326Z
DESCRIPTION:
DTSTART:20210108T111500Z
DTEND:20210108T124500Z
LOCATION:MS Teams
SUMMARY:Mfi3: Vorlesung
END:VEVENT
BEGIN:VEVENT
UID:34363465-6562-4635-a261-653839373934
DTSTAMP:20260423T170326Z
DESCRIPTION:
DTSTART:20210113T073000Z
DTEND:20210113T090000Z
LOCATION:MS Teams
SUMMARY:Mfi3: Vorlesung
END:VEVENT
BEGIN:VEVENT
UID:66643865-3738-4463-b234-653933623363
DTSTAMP:20260423T170326Z
DESCRIPTION:
DTSTART:20210115T111500Z
DTEND:20210115T124500Z
LOCATION:MS Teams
SUMMARY:Mfi3: Vorlesung
END:VEVENT
BEGIN:VEVENT
UID:61656466-3164-4237-b036-333839666633
DTSTAMP:20260423T170326Z
DESCRIPTION:
DTSTART:20210120T073000Z
DTEND:20210120T090000Z
LOCATION:MS Teams
SUMMARY:Mfi3: Vorlesung
END:VEVENT
BEGIN:VEVENT
UID:35323138-3935-4430-a339-633733633962
DTSTAMP:20260423T170326Z
DESCRIPTION:
DTSTART:20210122T111500Z
DTEND:20210122T124500Z
LOCATION:MS Teams
SUMMARY:Mfi3: Vorlesung
END:VEVENT
BEGIN:VEVENT
UID:39313639-3638-4535-b039-346232313930
DTSTAMP:20260423T170326Z
DESCRIPTION:
DTSTART:20210127T073000Z
DTEND:20210127T090000Z
LOCATION:MS Teams
SUMMARY:Mfi3: Vorlesung
END:VEVENT
BEGIN:VEVENT
UID:66623532-3538-4365-a637-353932333631
DTSTAMP:20260423T170326Z
DESCRIPTION:
DTSTART:20210129T111500Z
DTEND:20210129T124500Z
LOCATION:MS Teams
SUMMARY:Mfi3: Vorlesung
END:VEVENT
BEGIN:VEVENT
UID:64346264-3738-4133-b538-333663333030
DTSTAMP:20260423T170326Z
DESCRIPTION:
DTSTART:20210203T073000Z
DTEND:20210203T090000Z
LOCATION:MS Teams
SUMMARY:Mfi3: Vorlesung
END:VEVENT
BEGIN:VEVENT
UID:30306666-6665-4430-b234-336665353339
DTSTAMP:20260423T170326Z
DESCRIPTION:
DTSTART:20210205T111500Z
DTEND:20210205T124500Z
LOCATION:MS Teams
SUMMARY:Mfi3: Vorlesung
END:VEVENT
END:VCALENDAR
