BEGIN:VCALENDAR
VERSION:2.0
PRODID:-//134.96.226.213//NONSGML kigkonsult.se iCalcreator 2.41.92//
CALSCALE:GREGORIAN
METHOD:PUBLISH
UID:39366534-3436-4462-a437-383734393532
X-WR-CALNAME:Mathematik für Informatiker 3 Calendar
X-WR-CALDESC:Termine der Vorlesung Mathematik für Informatiker 3
X-WR-TIMEZONE:Europe/Berlin
BEGIN:VEVENT
UID:61383939-3630-4331-a464-343163356136
DTSTAMP:20260423T170327Z
DESCRIPTION:
DTSTART:20201118T073000Z
DTEND:20201118T090000Z
LOCATION:MS Teams
SUMMARY:Vorlesung
END:VEVENT
BEGIN:VEVENT
UID:64623836-3733-4435-a432-343532643338
DTSTAMP:20260423T170327Z
DESCRIPTION:
DTSTART:20201120T111500Z
DTEND:20201120T124500Z
LOCATION:MS Teams
SUMMARY:Vorlesung
END:VEVENT
BEGIN:VEVENT
UID:33366635-3734-4438-b364-663463613033
DTSTAMP:20260423T170327Z
DESCRIPTION:
DTSTART:20201125T073000Z
DTEND:20201125T090000Z
LOCATION:MS Teams
SUMMARY:Vorlesung
END:VEVENT
BEGIN:VEVENT
UID:31393066-3333-4335-b832-346564336234
DTSTAMP:20260423T170327Z
DESCRIPTION:
DTSTART:20201127T111500Z
DTEND:20201127T124500Z
LOCATION:MS Teams
SUMMARY:Vorlesung
END:VEVENT
BEGIN:VEVENT
UID:64666333-3135-4362-a535-306236393966
DTSTAMP:20260423T170327Z
DESCRIPTION:
DTSTART:20201202T073000Z
DTEND:20201202T090000Z
LOCATION:MS Teams
SUMMARY:Vorlesung
END:VEVENT
BEGIN:VEVENT
UID:61623564-3138-4535-b665-636633383165
DTSTAMP:20260423T170327Z
DESCRIPTION:
DTSTART:20201204T111500Z
DTEND:20201204T124500Z
LOCATION:MS Teams
SUMMARY:Vorlesung
END:VEVENT
BEGIN:VEVENT
UID:34663539-3432-4230-b036-336534383833
DTSTAMP:20260423T170327Z
DESCRIPTION:
DTSTART:20201209T073000Z
DTEND:20201209T090000Z
LOCATION:MS Teams
SUMMARY:Vorlesung
END:VEVENT
BEGIN:VEVENT
UID:37653139-3663-4461-b964-613766333230
DTSTAMP:20260423T170327Z
DESCRIPTION:
DTSTART:20201211T111500Z
DTEND:20201211T124500Z
LOCATION:MS Teams
SUMMARY:Vorlesung
END:VEVENT
BEGIN:VEVENT
UID:66393437-3237-4236-b130-636661326234
DTSTAMP:20260423T170327Z
DESCRIPTION:
DTSTART:20201216T073000Z
DTEND:20201216T090000Z
LOCATION:MS Teams
SUMMARY:Vorlesung
END:VEVENT
BEGIN:VEVENT
UID:30316264-6230-4466-b837-353937323565
DTSTAMP:20260423T170327Z
DESCRIPTION:
DTSTART:20201218T111500Z
DTEND:20201218T124500Z
LOCATION:MS Teams
SUMMARY:Vorlesung
END:VEVENT
BEGIN:VEVENT
UID:36343431-6236-4464-a666-666332636439
DTSTAMP:20260423T170327Z
DESCRIPTION:
DTSTART:20210106T073000Z
DTEND:20210106T090000Z
LOCATION:MS Teams
SUMMARY:Vorlesung
END:VEVENT
BEGIN:VEVENT
UID:34656535-6638-4234-a232-393361366462
DTSTAMP:20260423T170327Z
DESCRIPTION:
DTSTART:20210108T111500Z
DTEND:20210108T124500Z
LOCATION:MS Teams
SUMMARY:Vorlesung
END:VEVENT
BEGIN:VEVENT
UID:65653162-3139-4161-a431-626534613934
DTSTAMP:20260423T170327Z
DESCRIPTION:
DTSTART:20210113T073000Z
DTEND:20210113T090000Z
LOCATION:MS Teams
SUMMARY:Vorlesung
END:VEVENT
BEGIN:VEVENT
UID:39636333-3762-4463-b930-646262626636
DTSTAMP:20260423T170327Z
DESCRIPTION:
DTSTART:20210115T111500Z
DTEND:20210115T124500Z
LOCATION:MS Teams
SUMMARY:Vorlesung
END:VEVENT
BEGIN:VEVENT
UID:65303461-3863-4739-a262-623335316637
DTSTAMP:20260423T170327Z
DESCRIPTION:
DTSTART:20210120T073000Z
DTEND:20210120T090000Z
LOCATION:MS Teams
SUMMARY:Vorlesung
END:VEVENT
BEGIN:VEVENT
UID:61653561-6666-4661-b430-316237383533
DTSTAMP:20260423T170327Z
DESCRIPTION:
DTSTART:20210122T111500Z
DTEND:20210122T124500Z
LOCATION:MS Teams
SUMMARY:Vorlesung
END:VEVENT
BEGIN:VEVENT
UID:37363464-3531-4161-b232-653230326161
DTSTAMP:20260423T170327Z
DESCRIPTION:
DTSTART:20210127T073000Z
DTEND:20210127T090000Z
LOCATION:MS Teams
SUMMARY:Vorlesung
END:VEVENT
BEGIN:VEVENT
UID:62383432-3362-4635-a461-663530363236
DTSTAMP:20260423T170327Z
DESCRIPTION:
DTSTART:20210129T111500Z
DTEND:20210129T124500Z
LOCATION:MS Teams
SUMMARY:Vorlesung
END:VEVENT
BEGIN:VEVENT
UID:39636339-3038-4439-a132-333761646262
DTSTAMP:20260423T170327Z
DESCRIPTION:
DTSTART:20210203T073000Z
DTEND:20210203T090000Z
LOCATION:MS Teams
SUMMARY:Vorlesung
END:VEVENT
BEGIN:VEVENT
UID:63303662-6133-4138-b937-663964356361
DTSTAMP:20260423T170327Z
DESCRIPTION:
DTSTART:20210205T111500Z
DTEND:20210205T124500Z
LOCATION:MS Teams
SUMMARY:Vorlesung
END:VEVENT
END:VCALENDAR
