BEGIN:VCALENDAR
VERSION:2.0
PRODID:-//134.96.226.213//NONSGML kigkonsult.se iCalcreator 2.41.92//
CALSCALE:GREGORIAN
METHOD:PUBLISH
UID:32396438-3231-4133-b861-353830356535
X-WR-CALNAME:Mathematik für Informatiker*innen II / Mathematics for Compute
 r Scientists II Calendar
X-WR-CALDESC:Events of the lecture Mathematik für Informatiker*innen II / M
 athematics for Computer Scientists II
X-WR-TIMEZONE:Europe/Berlin
BEGIN:VEVENT
UID:31353134-3565-4163-a233-663735633262
DTSTAMP:20260422T144846Z
DESCRIPTION:
DTSTART;VALUE=DATE:20260410
DTEND;VALUE=DATE:20260411
SUMMARY:Mfi2: Ausgabe Blatt 1 / Release Sheet 1
END:VEVENT
BEGIN:VEVENT
UID:63363039-6266-4033-b233-373066366435
DTSTAMP:20260422T144846Z
DESCRIPTION:
DTSTART:20260417T080000Z
DTEND:20260417T080000Z
SUMMARY:Mfi2: Abgabe Blatt 1 / Submission Sheet 1
END:VEVENT
BEGIN:VEVENT
UID:38636435-3435-4037-b631-353165643161
DTSTAMP:20260422T144846Z
DESCRIPTION:
DTSTART;VALUE=DATE:20260417
DTEND;VALUE=DATE:20260418
SUMMARY:Mfi2: Ausgabe Blatt 2 / Release Sheet 2
END:VEVENT
BEGIN:VEVENT
UID:32396264-3634-4661-b935-366566653838
DTSTAMP:20260422T144846Z
DESCRIPTION:
DTSTART;VALUE=DATE:20260421
DTEND;VALUE=DATE:20260423
SUMMARY:Mfi2: Besprechung Blatt 1 / Discussion Sheet 1
END:VEVENT
BEGIN:VEVENT
UID:61393039-3163-4531-a164-363262343032
DTSTAMP:20260422T144846Z
DESCRIPTION:
DTSTART:20260424T080000Z
DTEND:20260424T080000Z
SUMMARY:Mfi2: Abgabe Blatt 2 / Submission Sheet 2
END:VEVENT
BEGIN:VEVENT
UID:37326637-3432-4463-b563-666561333430
DTSTAMP:20260422T144846Z
DESCRIPTION:
DTSTART;VALUE=DATE:20260424
DTEND;VALUE=DATE:20260425
SUMMARY:Mfi2: Ausgabe Blatt 3 / Release Sheet 3
END:VEVENT
BEGIN:VEVENT
UID:65333836-6137-4666-b332-613532323465
DTSTAMP:20260422T144846Z
DESCRIPTION:
DTSTART;VALUE=DATE:20260428
DTEND;VALUE=DATE:20260430
SUMMARY:Mfi2: Besprechung Blatt 2 / Discussion Sheet 2
END:VEVENT
BEGIN:VEVENT
UID:31646535-6362-4639-b465-386466396363
DTSTAMP:20260422T144846Z
DESCRIPTION:
DTSTART:20260501T080000Z
DTEND:20260501T080000Z
SUMMARY:Mfi2: Abgabe Blatt 3 / Submission Sheet 3
END:VEVENT
BEGIN:VEVENT
UID:63323966-3064-4534-b666-343735366432
DTSTAMP:20260422T144846Z
DESCRIPTION:
DTSTART;VALUE=DATE:20260501
DTEND;VALUE=DATE:20260502
SUMMARY:Mfi2: Ausgabe Blatt 4 / Release Sheet 4
END:VEVENT
BEGIN:VEVENT
UID:38316334-3865-4662-b230-633530656133
DTSTAMP:20260422T144846Z
DESCRIPTION:
DTSTART;VALUE=DATE:20260505
DTEND;VALUE=DATE:20260507
SUMMARY:Mfi2: Besprechung Blatt 3 / Discussion Sheet 3
END:VEVENT
BEGIN:VEVENT
UID:36666165-3166-4632-b863-303663333962
DTSTAMP:20260422T144846Z
DESCRIPTION:
DTSTART:20260508T080000Z
DTEND:20260508T080000Z
SUMMARY:Mfi2: Abgabe Blatt 4 / Submission Sheet 4
END:VEVENT
BEGIN:VEVENT
UID:65313831-6439-4433-a266-373633613364
DTSTAMP:20260422T144846Z
DESCRIPTION:
DTSTART;VALUE=DATE:20260508
DTEND;VALUE=DATE:20260509
SUMMARY:Mfi2: Ausgabe Blatt 5 / Release Sheet 5
END:VEVENT
BEGIN:VEVENT
UID:61393461-6235-4531-b464-613334336630
DTSTAMP:20260422T144846Z
DESCRIPTION:
DTSTART;VALUE=DATE:20260512
DTEND;VALUE=DATE:20260514
SUMMARY:Mfi2: Besprechung Blatt 4 / Discussion Sheet 4
END:VEVENT
BEGIN:VEVENT
UID:32666535-3336-4562-b365-613736383533
DTSTAMP:20260422T144846Z
DESCRIPTION:
DTSTART:20260515T080000Z
DTEND:20260515T080000Z
SUMMARY:Mfi2: Abgabe Blatt 5 / Submission Sheet 5
END:VEVENT
BEGIN:VEVENT
UID:37663130-3431-4166-b039-636331663139
DTSTAMP:20260422T144846Z
DESCRIPTION:
DTSTART;VALUE=DATE:20260519
DTEND;VALUE=DATE:20260521
SUMMARY:Mfi2: Besprechung Blatt 5 / Discussion Sheet 5
END:VEVENT
BEGIN:VEVENT
UID:34626364-6536-4832-a435-363635336634
DTSTAMP:20260422T144846Z
DESCRIPTION:
DTSTART;VALUE=DATE:20260605
DTEND;VALUE=DATE:20260606
SUMMARY:Mfi2: Ausgabe Blatt 6 / Release Sheet 6
END:VEVENT
BEGIN:VEVENT
UID:30653631-6434-4265-b130-363436303034
DTSTAMP:20260422T144846Z
DESCRIPTION:
DTSTART:20260612T080000Z
DTEND:20260612T080000Z
SUMMARY:Mfi2: Abgabe Blatt 6 / Submission Sheet 6
END:VEVENT
BEGIN:VEVENT
UID:33643534-3361-4464-b332-616636373964
DTSTAMP:20260422T144846Z
DESCRIPTION:
DTSTART;VALUE=DATE:20260612
DTEND;VALUE=DATE:20260613
SUMMARY:Mfi2: Ausgabe Blatt 7 / Release Sheet 7
END:VEVENT
BEGIN:VEVENT
UID:32353938-3133-4237-b461-366366326130
DTSTAMP:20260422T144846Z
DESCRIPTION:
DTSTART;VALUE=DATE:20260616
DTEND;VALUE=DATE:20260618
SUMMARY:Mfi2: Besprechung Blatt 6 / Discussion Sheet 6
END:VEVENT
BEGIN:VEVENT
UID:65656338-3263-4437-b233-643635666539
DTSTAMP:20260422T144846Z
DESCRIPTION:
DTSTART:20260619T080000Z
DTEND:20260619T080000Z
SUMMARY:Mfi2: Abgabe Blatt 7 / Submission Sheet 7
END:VEVENT
END:VCALENDAR
