BEGIN:VCALENDAR
VERSION:2.0
PRODID:-//134.96.226.213//NONSGML kigkonsult.se iCalcreator 2.41.92//
CALSCALE:GREGORIAN
METHOD:PUBLISH
UID:33373437-6465-4735-b530-343062663166
X-WR-CALNAME:Mathematik für Informatiker*innen II / Mathematics for Compute
 r Scientists II Calendar
X-WR-CALDESC:Events of the lecture Mathematik für Informatiker*innen II / M
 athematics for Computer Scientists II
X-WR-TIMEZONE:Europe/Berlin
BEGIN:VEVENT
UID:31623662-3733-4238-b465-386337313131
DTSTAMP:20260422T131610Z
DESCRIPTION:
DTSTART;VALUE=DATE:20260410
DTEND;VALUE=DATE:20260411
SUMMARY:Ausgabe Blatt 1 / Release Sheet 1
END:VEVENT
BEGIN:VEVENT
UID:30356337-3230-4863-b832-303937356330
DTSTAMP:20260422T131610Z
DESCRIPTION:
DTSTART:20260417T080000Z
DTEND:20260417T080000Z
SUMMARY:Abgabe Blatt 1 / Submission Sheet 1
END:VEVENT
BEGIN:VEVENT
UID:35626638-3637-4566-b161-376333623939
DTSTAMP:20260422T131610Z
DESCRIPTION:
DTSTART;VALUE=DATE:20260417
DTEND;VALUE=DATE:20260418
SUMMARY:Ausgabe Blatt 2 / Release Sheet 2
END:VEVENT
BEGIN:VEVENT
UID:61636265-3635-4463-b461-383535356135
DTSTAMP:20260422T131610Z
DESCRIPTION:
DTSTART;VALUE=DATE:20260421
DTEND;VALUE=DATE:20260423
SUMMARY:Besprechung Blatt 1 / Discussion Sheet 1
END:VEVENT
BEGIN:VEVENT
UID:62306663-3162-4231-b764-353035623161
DTSTAMP:20260422T131610Z
DESCRIPTION:
DTSTART:20260424T080000Z
DTEND:20260424T080000Z
SUMMARY:Abgabe Blatt 2 / Submission Sheet 2
END:VEVENT
BEGIN:VEVENT
UID:35353035-6436-4632-a435-333363316232
DTSTAMP:20260422T131610Z
DESCRIPTION:
DTSTART;VALUE=DATE:20260428
DTEND;VALUE=DATE:20260430
SUMMARY:Besprechung Blatt 2 / Discussion Sheet 2
END:VEVENT
END:VCALENDAR
