BEGIN:VCALENDAR
VERSION:2.0
PRODID:-//134.96.226.213//NONSGML kigkonsult.se iCalcreator 2.41.92//
CALSCALE:GREGORIAN
METHOD:PUBLISH
UID:38663563-3432-4436-a636-326263386365
X-WR-CALNAME:Mathematik für Informatiker*innen II / Mathematics for Compute
 r Scientists II Calendar
X-WR-CALDESC:Events of the lecture Mathematik für Informatiker*innen II / M
 athematics for Computer Scientists II
X-WR-TIMEZONE:Europe/Berlin
BEGIN:VEVENT
UID:61356238-6138-4761-b536-393831653037
DTSTAMP:20260422T131720Z
DESCRIPTION:Nähere Informationen finden Sie auf der Seite 'Übungen / Tutori
 als' im Abschnitt 'Fragestunde / Repetitorium'.\n-------------------------
 \nFurther information can be found on the page 'Übungen / Tutorials' in th
 e section 'Question time / Revision course'.
DTSTART:20260417T121500Z
DTEND:20260417T134500Z
LOCATION:Hörsaal 001\, Gebäude E1 3 / Lecture hall HS 001\, building E1 3
SUMMARY:Mfi2: Fragestunde / Question time
END:VEVENT
BEGIN:VEVENT
UID:34303964-6132-4836-a439-613764643538
DTSTAMP:20260422T131720Z
DESCRIPTION:Nähere Informationen finden Sie auf der Seite 'Übungen / Tutori
 als' im Abschnitt 'Fragestunde / Repetitorium'.\n-------------------------
 \nFurther information can be found on the page 'Übungen / Tutorials' in th
 e section 'Question time / Revision course'.
DTSTART:20260424T121500Z
DTEND:20260424T134500Z
LOCATION:Hörsaal 001\, Gebäude E1 3 / Lecture hall HS 001\, building E1 3
SUMMARY:Mfi2: Fragestunde / Question time
END:VEVENT
BEGIN:VEVENT
UID:35316461-3264-4531-a533-613030336539
DTSTAMP:20260422T131720Z
DESCRIPTION:Nähere Informationen finden Sie auf der Seite 'Übungen / Tutori
 als' im Abschnitt 'Fragestunde / Repetitorium'.\n-------------------------
 \nFurther information can be found on the page 'Übungen / Tutorials' in th
 e section 'Question time / Revision course'.
DTSTART:20260508T121500Z
DTEND:20260508T134500Z
LOCATION:Hörsaal 001\, Gebäude E1 3 / Lecture hall HS 001\, building E1 3
SUMMARY:Mfi2: Fragestunde / Question time
END:VEVENT
BEGIN:VEVENT
UID:62613830-3932-4134-b333-396461373837
DTSTAMP:20260422T131720Z
DESCRIPTION:Nähere Informationen finden Sie auf der Seite 'Übungen / Tutori
 als' im Abschnitt 'Fragestunde / Repetitorium'.\n-------------------------
 \nFurther information can be found on the page 'Übungen / Tutorials' in th
 e section 'Question time / Revision course'.
DTSTART:20260515T121500Z
DTEND:20260515T134500Z
LOCATION:Hörsaal 001\, Gebäude E1 3 / Lecture hall HS 001\, building E1 3
SUMMARY:Mfi2: Fragestunde / Question time
END:VEVENT
BEGIN:VEVENT
UID:64363965-3336-4437-a361-313438363261
DTSTAMP:20260422T131720Z
DESCRIPTION:Nähere Informationen finden Sie auf der Seite 'Übungen / Tutori
 als' im Abschnitt 'Fragestunde / Repetitorium'.\n-------------------------
 \nFurther information can be found on the page 'Übungen / Tutorials' in th
 e section 'Question time / Revision course'.
DTSTART:20260522T121500Z
DTEND:20260522T134500Z
LOCATION:Hörsaal 001\, Gebäude E1 3 / Lecture hall HS 001\, building E1 3
SUMMARY:Mfi2: Fragestunde / Question time
END:VEVENT
BEGIN:VEVENT
UID:63373766-3531-4465-b630-383061396261
DTSTAMP:20260422T131720Z
DESCRIPTION:Nähere Informationen finden Sie auf der Seite 'Übungen / Tutori
 als' im Abschnitt 'Fragestunde / Repetitorium'.\n-------------------------
 \nFurther information can be found on the page 'Übungen / Tutorials' in th
 e section 'Question time / Revision course'.
DTSTART:20260529T121500Z
DTEND:20260529T134500Z
LOCATION:Hörsaal 001\, Gebäude E1 3 / Lecture hall HS 001\, building E1 3
SUMMARY:Mfi2: Fragestunde / Question time
END:VEVENT
BEGIN:VEVENT
UID:65313836-3435-4633-b166-643432336136
DTSTAMP:20260422T131720Z
DESCRIPTION:Nähere Informationen finden Sie auf der Seite 'Übungen / Tutori
 als' im Abschnitt 'Fragestunde / Repetitorium'.\n-------------------------
 \nFurther information can be found on the page 'Übungen / Tutorials' in th
 e section 'Question time / Revision course'.
DTSTART:20260605T121500Z
DTEND:20260605T134500Z
LOCATION:Hörsaal 001\, Gebäude E1 3 / Lecture hall HS 001\, building E1 3
SUMMARY:Mfi2: Fragestunde / Question time
END:VEVENT
BEGIN:VEVENT
UID:39313234-3462-4163-b533-383736333036
DTSTAMP:20260422T131720Z
DESCRIPTION:Nähere Informationen finden Sie auf der Seite 'Übungen / Tutori
 als' im Abschnitt 'Fragestunde / Repetitorium'.\n-------------------------
 \nFurther information can be found on the page 'Übungen / Tutorials' in th
 e section 'Question time / Revision course'.
DTSTART:20260612T121500Z
DTEND:20260612T134500Z
LOCATION:Hörsaal 001\, Gebäude E1 3 / Lecture hall HS 001\, building E1 3
SUMMARY:Mfi2: Fragestunde / Question time
END:VEVENT
BEGIN:VEVENT
UID:65346231-6264-4839-b637-393265366439
DTSTAMP:20260422T131720Z
DESCRIPTION:Nähere Informationen finden Sie auf der Seite 'Übungen / Tutori
 als' im Abschnitt 'Fragestunde / Repetitorium'.\n-------------------------
 \nFurther information can be found on the page 'Übungen / Tutorials' in th
 e section 'Question time / Revision course'.
DTSTART:20260619T121500Z
DTEND:20260619T134500Z
LOCATION:Hörsaal 001\, Gebäude E1 3 / Lecture hall HS 001\, building E1 3
SUMMARY:Mfi2: Fragestunde / Question time
END:VEVENT
BEGIN:VEVENT
UID:34313562-6561-4064-b031-383832336238
DTSTAMP:20260422T131720Z
DESCRIPTION:Nähere Informationen finden Sie auf der Seite 'Übungen / Tutori
 als' im Abschnitt 'Fragestunde / Repetitorium'.\n-------------------------
 \nFurther information can be found on the page 'Übungen / Tutorials' in th
 e section 'Question time / Revision course'.
DTSTART:20260626T121500Z
DTEND:20260626T134500Z
LOCATION:Hörsaal 001\, Gebäude E1 3 / Lecture hall HS 001\, building E1 3
SUMMARY:Mfi2: Fragestunde / Question time
END:VEVENT
BEGIN:VEVENT
UID:35636636-3832-4639-b134-346135376135
DTSTAMP:20260422T131720Z
DESCRIPTION:Nähere Informationen finden Sie auf der Seite 'Übungen / Tutori
 als' im Abschnitt 'Fragestunde / Repetitorium'.\n-------------------------
 \nFurther information can be found on the page 'Übungen / Tutorials' in th
 e section 'Question time / Revision course'.
DTSTART:20260703T121500Z
DTEND:20260703T134500Z
LOCATION:Hörsaal 001\, Gebäude E1 3 / Lecture hall HS 001\, building E1 3
SUMMARY:Mfi2: Fragestunde / Question time
END:VEVENT
BEGIN:VEVENT
UID:61386466-3431-4332-a532-313833626166
DTSTAMP:20260422T131720Z
DESCRIPTION:Nähere Informationen finden Sie auf der Seite 'Übungen / Tutori
 als' im Abschnitt 'Fragestunde / Repetitorium'.\n-------------------------
 \nFurther information can be found on the page 'Übungen / Tutorials' in th
 e section 'Question time / Revision course'.
DTSTART:20260710T121500Z
DTEND:20260710T134500Z
LOCATION:Hörsaal 001\, Gebäude E1 3 / Lecture hall HS 001\, building E1 3
SUMMARY:Mfi2: Fragestunde / Question time
END:VEVENT
BEGIN:VEVENT
UID:61623734-3063-4534-b163-366331326639
DTSTAMP:20260422T131720Z
DESCRIPTION:Nähere Informationen finden Sie auf der Seite 'Übungen / Tutori
 als' im Abschnitt 'Fragestunde / Repetitorium'.\n-------------------------
 \nFurther information can be found on the page 'Übungen / Tutorials' in th
 e section 'Question time / Revision course'.
DTSTART:20260717T121500Z
DTEND:20260717T134500Z
LOCATION:Hörsaal 001\, Gebäude E1 3 / Lecture hall HS 001\, building E1 3
SUMMARY:Mfi2: Fragestunde / Question time
END:VEVENT
END:VCALENDAR
