BEGIN:VCALENDAR
VERSION:2.0
PRODID:-//134.96.226.213//NONSGML kigkonsult.se iCalcreator 2.41.92//
CALSCALE:GREGORIAN
METHOD:PUBLISH
UID:37643961-6536-4363-b530-653431366231
X-WR-CALNAME:Mathematik für Informatiker*innen II / Mathematics for Compute
 r Scientists II Calendar
X-WR-CALDESC:Events of the lecture Mathematik für Informatiker*innen II / M
 athematics for Computer Scientists II
X-WR-TIMEZONE:Europe/Berlin
BEGIN:VEVENT
UID:62393363-3264-4365-b132-383464613139
DTSTAMP:20260422T131610Z
DESCRIPTION:Nähere Informationen finden Sie auf der Seite 'Übungen / Tutori
 als' im Abschnitt 'Fragestunde / Repetitorium'.\n-------------------------
 \nFurther information can be found on the page 'Übungen / Tutorials' in th
 e section 'Question time / Revision course'.
DTSTART:20260417T121500Z
DTEND:20260417T134500Z
LOCATION:Hörsaal 001\, Gebäude E1 3 / Lecture hall HS 001\, building E1 3
SUMMARY:Fragestunde / Question time
END:VEVENT
BEGIN:VEVENT
UID:65356331-3364-4634-a462-653333373430
DTSTAMP:20260422T131610Z
DESCRIPTION:Nähere Informationen finden Sie auf der Seite 'Übungen / Tutori
 als' im Abschnitt 'Fragestunde / Repetitorium'.\n-------------------------
 \nFurther information can be found on the page 'Übungen / Tutorials' in th
 e section 'Question time / Revision course'.
DTSTART:20260424T121500Z
DTEND:20260424T134500Z
LOCATION:Hörsaal 001\, Gebäude E1 3 / Lecture hall HS 001\, building E1 3
SUMMARY:Fragestunde / Question time
END:VEVENT
BEGIN:VEVENT
UID:32333463-3931-4263-b763-386436343965
DTSTAMP:20260422T131610Z
DESCRIPTION:Nähere Informationen finden Sie auf der Seite 'Übungen / Tutori
 als' im Abschnitt 'Fragestunde / Repetitorium'.\n-------------------------
 \nFurther information can be found on the page 'Übungen / Tutorials' in th
 e section 'Question time / Revision course'.
DTSTART:20260508T121500Z
DTEND:20260508T134500Z
LOCATION:Hörsaal 001\, Gebäude E1 3 / Lecture hall HS 001\, building E1 3
SUMMARY:Fragestunde / Question time
END:VEVENT
BEGIN:VEVENT
UID:38623931-3938-4237-b061-633132623665
DTSTAMP:20260422T131610Z
DESCRIPTION:Nähere Informationen finden Sie auf der Seite 'Übungen / Tutori
 als' im Abschnitt 'Fragestunde / Repetitorium'.\n-------------------------
 \nFurther information can be found on the page 'Übungen / Tutorials' in th
 e section 'Question time / Revision course'.
DTSTART:20260515T121500Z
DTEND:20260515T134500Z
LOCATION:Hörsaal 001\, Gebäude E1 3 / Lecture hall HS 001\, building E1 3
SUMMARY:Fragestunde / Question time
END:VEVENT
BEGIN:VEVENT
UID:62653934-6662-4162-a364-653733653530
DTSTAMP:20260422T131610Z
DESCRIPTION:Nähere Informationen finden Sie auf der Seite 'Übungen / Tutori
 als' im Abschnitt 'Fragestunde / Repetitorium'.\n-------------------------
 \nFurther information can be found on the page 'Übungen / Tutorials' in th
 e section 'Question time / Revision course'.
DTSTART:20260522T121500Z
DTEND:20260522T134500Z
LOCATION:Hörsaal 001\, Gebäude E1 3 / Lecture hall HS 001\, building E1 3
SUMMARY:Fragestunde / Question time
END:VEVENT
BEGIN:VEVENT
UID:66376235-3066-4863-a634-326638323430
DTSTAMP:20260422T131610Z
DESCRIPTION:Nähere Informationen finden Sie auf der Seite 'Übungen / Tutori
 als' im Abschnitt 'Fragestunde / Repetitorium'.\n-------------------------
 \nFurther information can be found on the page 'Übungen / Tutorials' in th
 e section 'Question time / Revision course'.
DTSTART:20260529T121500Z
DTEND:20260529T134500Z
LOCATION:Hörsaal 001\, Gebäude E1 3 / Lecture hall HS 001\, building E1 3
SUMMARY:Fragestunde / Question time
END:VEVENT
BEGIN:VEVENT
UID:31363636-3339-4433-b763-366465376662
DTSTAMP:20260422T131610Z
DESCRIPTION:Nähere Informationen finden Sie auf der Seite 'Übungen / Tutori
 als' im Abschnitt 'Fragestunde / Repetitorium'.\n-------------------------
 \nFurther information can be found on the page 'Übungen / Tutorials' in th
 e section 'Question time / Revision course'.
DTSTART:20260605T121500Z
DTEND:20260605T134500Z
LOCATION:Hörsaal 001\, Gebäude E1 3 / Lecture hall HS 001\, building E1 3
SUMMARY:Fragestunde / Question time
END:VEVENT
BEGIN:VEVENT
UID:38636532-6335-4138-b637-363631636339
DTSTAMP:20260422T131610Z
DESCRIPTION:Nähere Informationen finden Sie auf der Seite 'Übungen / Tutori
 als' im Abschnitt 'Fragestunde / Repetitorium'.\n-------------------------
 \nFurther information can be found on the page 'Übungen / Tutorials' in th
 e section 'Question time / Revision course'.
DTSTART:20260612T121500Z
DTEND:20260612T134500Z
LOCATION:Hörsaal 001\, Gebäude E1 3 / Lecture hall HS 001\, building E1 3
SUMMARY:Fragestunde / Question time
END:VEVENT
BEGIN:VEVENT
UID:34323530-6163-4164-b262-373931383133
DTSTAMP:20260422T131610Z
DESCRIPTION:Nähere Informationen finden Sie auf der Seite 'Übungen / Tutori
 als' im Abschnitt 'Fragestunde / Repetitorium'.\n-------------------------
 \nFurther information can be found on the page 'Übungen / Tutorials' in th
 e section 'Question time / Revision course'.
DTSTART:20260619T121500Z
DTEND:20260619T134500Z
LOCATION:Hörsaal 001\, Gebäude E1 3 / Lecture hall HS 001\, building E1 3
SUMMARY:Fragestunde / Question time
END:VEVENT
BEGIN:VEVENT
UID:66396363-3438-4764-a265-666431663565
DTSTAMP:20260422T131610Z
DESCRIPTION:Nähere Informationen finden Sie auf der Seite 'Übungen / Tutori
 als' im Abschnitt 'Fragestunde / Repetitorium'.\n-------------------------
 \nFurther information can be found on the page 'Übungen / Tutorials' in th
 e section 'Question time / Revision course'.
DTSTART:20260626T121500Z
DTEND:20260626T134500Z
LOCATION:Hörsaal 001\, Gebäude E1 3 / Lecture hall HS 001\, building E1 3
SUMMARY:Fragestunde / Question time
END:VEVENT
BEGIN:VEVENT
UID:35346235-3439-4366-b563-623832363638
DTSTAMP:20260422T131610Z
DESCRIPTION:Nähere Informationen finden Sie auf der Seite 'Übungen / Tutori
 als' im Abschnitt 'Fragestunde / Repetitorium'.\n-------------------------
 \nFurther information can be found on the page 'Übungen / Tutorials' in th
 e section 'Question time / Revision course'.
DTSTART:20260703T121500Z
DTEND:20260703T134500Z
LOCATION:Hörsaal 001\, Gebäude E1 3 / Lecture hall HS 001\, building E1 3
SUMMARY:Fragestunde / Question time
END:VEVENT
BEGIN:VEVENT
UID:65633836-3531-4031-b138-353137343632
DTSTAMP:20260422T131610Z
DESCRIPTION:Nähere Informationen finden Sie auf der Seite 'Übungen / Tutori
 als' im Abschnitt 'Fragestunde / Repetitorium'.\n-------------------------
 \nFurther information can be found on the page 'Übungen / Tutorials' in th
 e section 'Question time / Revision course'.
DTSTART:20260710T121500Z
DTEND:20260710T134500Z
LOCATION:Hörsaal 001\, Gebäude E1 3 / Lecture hall HS 001\, building E1 3
SUMMARY:Fragestunde / Question time
END:VEVENT
BEGIN:VEVENT
UID:63613333-3030-4737-b939-636661333264
DTSTAMP:20260422T131610Z
DESCRIPTION:Nähere Informationen finden Sie auf der Seite 'Übungen / Tutori
 als' im Abschnitt 'Fragestunde / Repetitorium'.\n-------------------------
 \nFurther information can be found on the page 'Übungen / Tutorials' in th
 e section 'Question time / Revision course'.
DTSTART:20260717T121500Z
DTEND:20260717T134500Z
LOCATION:Hörsaal 001\, Gebäude E1 3 / Lecture hall HS 001\, building E1 3
SUMMARY:Fragestunde / Question time
END:VEVENT
END:VCALENDAR
