BEGIN:VCALENDAR
VERSION:2.0
PRODID:-//134.96.226.213//NONSGML kigkonsult.se iCalcreator 2.41.92//
CALSCALE:GREGORIAN
METHOD:PUBLISH
UID:66333933-3536-4033-b234-616430356130
X-WR-CALNAME:Mathematik für Informatiker*innen II / Mathematics for Compute
 r Scientists II Calendar
X-WR-CALDESC:Events of the lecture Mathematik für Informatiker*innen II / M
 athematics for Computer Scientists II
X-WR-TIMEZONE:Europe/Berlin
BEGIN:VEVENT
UID:38623364-3839-4231-b039-663435373437
DTSTAMP:20260422T131639Z
DESCRIPTION:
DTSTART;VALUE=DATE:20260403
DTEND;VALUE=DATE:20260404
SUMMARY:Mfi2: Feiertag / Public Holiday
END:VEVENT
BEGIN:VEVENT
UID:62623766-3935-4632-a132-633162646362
DTSTAMP:20260422T131639Z
DESCRIPTION:
DTSTART;VALUE=DATE:20260406
DTEND;VALUE=DATE:20260407
SUMMARY:Mfi2: Feiertag / Public Holiday
END:VEVENT
BEGIN:VEVENT
UID:64373834-3463-4434-b661-383430383432
DTSTAMP:20260422T131639Z
DESCRIPTION:
DTSTART;VALUE=DATE:20260501
DTEND;VALUE=DATE:20260502
SUMMARY:Mfi2: Feiertag / Public Holiday
END:VEVENT
BEGIN:VEVENT
UID:36353462-3665-4830-a233-303061366439
DTSTAMP:20260422T131639Z
DESCRIPTION:
DTSTART;VALUE=DATE:20260514
DTEND;VALUE=DATE:20260515
SUMMARY:Mfi2: Feiertag / Public Holiday
END:VEVENT
BEGIN:VEVENT
UID:34336462-6561-4631-b239-613963646132
DTSTAMP:20260422T131639Z
DESCRIPTION:
DTSTART;VALUE=DATE:20260525
DTEND;VALUE=DATE:20260526
SUMMARY:Mfi2: Feiertag / Public Holiday
END:VEVENT
BEGIN:VEVENT
UID:61386235-3738-4466-b733-343331633432
DTSTAMP:20260422T131639Z
DESCRIPTION:
DTSTART;VALUE=DATE:20260604
DTEND;VALUE=DATE:20260605
SUMMARY:Mfi2: Feiertag / Public Holiday
END:VEVENT
BEGIN:VEVENT
UID:36373130-6362-4732-b565-363436393838
DTSTAMP:20260422T131639Z
DESCRIPTION:
DTSTART;VALUE=DATE:20260815
DTEND;VALUE=DATE:20260816
SUMMARY:Mfi2: Feiertag / Public Holiday
END:VEVENT
END:VCALENDAR
