BEGIN:VCALENDAR
VERSION:2.0
PRODID:-//134.96.226.213//NONSGML kigkonsult.se iCalcreator 2.41.92//
CALSCALE:GREGORIAN
METHOD:PUBLISH
UID:62366236-3533-4032-b533-656432636463
X-WR-CALNAME:Mathematik für Informatiker*innen II / Mathematics for Compute
 r Scientists II Calendar
X-WR-CALDESC:Events of the lecture Mathematik für Informatiker*innen II / M
 athematics for Computer Scientists II
X-WR-TIMEZONE:Europe/Berlin
BEGIN:VEVENT
UID:30346439-3037-4234-b832-303933633738
DTSTAMP:20260422T131610Z
DESCRIPTION:
DTSTART;VALUE=DATE:20260403
DTEND;VALUE=DATE:20260404
SUMMARY:Feiertag / Public Holiday
END:VEVENT
BEGIN:VEVENT
UID:64333237-3061-4661-a465-313561623139
DTSTAMP:20260422T131610Z
DESCRIPTION:
DTSTART;VALUE=DATE:20260406
DTEND;VALUE=DATE:20260407
SUMMARY:Feiertag / Public Holiday
END:VEVENT
BEGIN:VEVENT
UID:39303633-3935-4233-a430-366661623235
DTSTAMP:20260422T131610Z
DESCRIPTION:
DTSTART;VALUE=DATE:20260501
DTEND;VALUE=DATE:20260502
SUMMARY:Feiertag / Public Holiday
END:VEVENT
BEGIN:VEVENT
UID:39343431-3963-4566-a432-353738626365
DTSTAMP:20260422T131610Z
DESCRIPTION:
DTSTART;VALUE=DATE:20260514
DTEND;VALUE=DATE:20260515
SUMMARY:Feiertag / Public Holiday
END:VEVENT
BEGIN:VEVENT
UID:62623039-6564-4138-a161-623138336134
DTSTAMP:20260422T131610Z
DESCRIPTION:
DTSTART;VALUE=DATE:20260525
DTEND;VALUE=DATE:20260526
SUMMARY:Feiertag / Public Holiday
END:VEVENT
BEGIN:VEVENT
UID:37613462-3433-4932-a131-383262343239
DTSTAMP:20260422T131610Z
DESCRIPTION:
DTSTART;VALUE=DATE:20260604
DTEND;VALUE=DATE:20260605
SUMMARY:Feiertag / Public Holiday
END:VEVENT
BEGIN:VEVENT
UID:65646135-3461-4936-a661-653934396334
DTSTAMP:20260422T131610Z
DESCRIPTION:
DTSTART;VALUE=DATE:20260815
DTEND;VALUE=DATE:20260816
SUMMARY:Feiertag / Public Holiday
END:VEVENT
END:VCALENDAR
