BEGIN:VCALENDAR
VERSION:2.0
PRODID:-//134.96.226.213//NONSGML kigkonsult.se iCalcreator 2.41.92//
CALSCALE:GREGORIAN
METHOD:PUBLISH
UID:37396466-3039-4835-a130-613733343834
X-WR-CALNAME:Mathematik für Informatiker*innen II / Mathematics for Compute
 r Scientists II Calendar
X-WR-CALDESC:Events of the lecture Mathematik für Informatiker*innen II / M
 athematics for Computer Scientists II
X-WR-TIMEZONE:Europe/Berlin
BEGIN:VEVENT
UID:31373663-6237-4837-b963-616538616431
DTSTAMP:20260422T144846Z
DESCRIPTION:
DTSTART:20260523T083000Z
DTEND:20260523T103000Z
SUMMARY:Mfi2: Zwischenklausur Haupttermin / Mid-term main exam
END:VEVENT
BEGIN:VEVENT
UID:38373139-3263-4130-a533-313231393561
DTSTAMP:20260422T144846Z
DESCRIPTION:
DTSTART:20260606T083000Z
DTEND:20260606T103000Z
SUMMARY:Mfi2: Zwischenklausur Nachtermin / Mid-term retake exam
END:VEVENT
END:VCALENDAR
