BEGIN:VCALENDAR
VERSION:2.0
PRODID:-//134.96.226.213//NONSGML kigkonsult.se iCalcreator 2.41.92//
CALSCALE:GREGORIAN
METHOD:PUBLISH
UID:32363466-6536-4934-a533-653334643833
X-WR-CALNAME:Mathematik für Informatiker*innen II / Mathematics for Compute
 r Scientists II Calendar
X-WR-CALDESC:Events of the lecture Mathematik für Informatiker*innen II / M
 athematics for Computer Scientists II
X-WR-TIMEZONE:Europe/Berlin
BEGIN:VEVENT
UID:35386536-6137-4034-b237-633462373661
DTSTAMP:20260422T131720Z
DESCRIPTION:
DTSTART:20260408T081500Z
DTEND:20260408T094500Z
SUMMARY:Mfi2: Vorlesung / Lecture
END:VEVENT
BEGIN:VEVENT
UID:31346338-6466-4932-a532-353932663434
DTSTAMP:20260422T131720Z
DESCRIPTION:
DTSTART:20260410T081500Z
DTEND:20260410T094500Z
SUMMARY:Mfi2: Vorlesung / Lecture
END:VEVENT
BEGIN:VEVENT
UID:34366439-3731-4264-b531-333935316235
DTSTAMP:20260422T131720Z
DESCRIPTION:
DTSTART:20260415T081500Z
DTEND:20260415T094500Z
SUMMARY:Mfi2: Vorlesung / Lecture
END:VEVENT
BEGIN:VEVENT
UID:61633263-3862-4665-a434-313765316662
DTSTAMP:20260422T131720Z
DESCRIPTION:
DTSTART:20260417T081500Z
DTEND:20260417T094500Z
SUMMARY:Mfi2: Vorlesung / Lecture
END:VEVENT
BEGIN:VEVENT
UID:63613631-6432-4239-a566-626364316366
DTSTAMP:20260422T131720Z
DESCRIPTION:
DTSTART:20260422T081500Z
DTEND:20260422T094500Z
SUMMARY:Mfi2: Vorlesung / Lecture
END:VEVENT
BEGIN:VEVENT
UID:62326130-6364-4433-a533-366563316238
DTSTAMP:20260422T131720Z
DESCRIPTION:
DTSTART:20260424T081500Z
DTEND:20260424T094500Z
SUMMARY:Mfi2: Vorlesung / Lecture
END:VEVENT
BEGIN:VEVENT
UID:63343138-3631-4562-a136-306438363262
DTSTAMP:20260422T131720Z
DESCRIPTION:
DTSTART:20260429T081500Z
DTEND:20260429T094500Z
SUMMARY:Mfi2: Vorlesung / Lecture
END:VEVENT
BEGIN:VEVENT
UID:39643638-3734-4165-a364-623464356563
DTSTAMP:20260422T131720Z
DESCRIPTION:
DTSTART:20260506T081500Z
DTEND:20260506T094500Z
SUMMARY:Mfi2: Vorlesung / Lecture
END:VEVENT
BEGIN:VEVENT
UID:33326138-3932-4231-b832-356437326565
DTSTAMP:20260422T131720Z
DESCRIPTION:
DTSTART:20260508T081500Z
DTEND:20260508T094500Z
SUMMARY:Mfi2: Vorlesung / Lecture
END:VEVENT
BEGIN:VEVENT
UID:35646634-3034-4665-b532-623330653136
DTSTAMP:20260422T131720Z
DESCRIPTION:
DTSTART:20260513T081500Z
DTEND:20260513T094500Z
SUMMARY:Mfi2: Vorlesung / Lecture
END:VEVENT
BEGIN:VEVENT
UID:37623732-6566-4931-b039-356431336431
DTSTAMP:20260422T131720Z
DESCRIPTION:
DTSTART:20260515T081500Z
DTEND:20260515T094500Z
SUMMARY:Mfi2: Vorlesung / Lecture
END:VEVENT
BEGIN:VEVENT
UID:33633632-6338-4932-b939-313136336233
DTSTAMP:20260422T131720Z
DESCRIPTION:
DTSTART:20260520T081500Z
DTEND:20260520T094500Z
SUMMARY:Mfi2: Vorlesung / Lecture
END:VEVENT
BEGIN:VEVENT
UID:36626365-3938-4431-b730-396363616661
DTSTAMP:20260422T131720Z
DESCRIPTION:
DTSTART:20260522T081500Z
DTEND:20260522T094500Z
SUMMARY:Mfi2: Vorlesung / Lecture
END:VEVENT
BEGIN:VEVENT
UID:35356238-6133-4965-b835-396330636635
DTSTAMP:20260422T131720Z
DESCRIPTION:
DTSTART:20260527T081500Z
DTEND:20260527T094500Z
SUMMARY:Mfi2: Vorlesung / Lecture
END:VEVENT
BEGIN:VEVENT
UID:31333662-6536-4431-b762-643530626164
DTSTAMP:20260422T131720Z
DESCRIPTION:
DTSTART:20260529T081500Z
DTEND:20260529T094500Z
SUMMARY:Mfi2: Vorlesung / Lecture
END:VEVENT
BEGIN:VEVENT
UID:39373366-6561-4464-b037-396333643338
DTSTAMP:20260422T131720Z
DESCRIPTION:
DTSTART:20260603T081500Z
DTEND:20260603T094500Z
SUMMARY:Mfi2: Vorlesung / Lecture
END:VEVENT
BEGIN:VEVENT
UID:63626566-3463-4164-b561-326463393138
DTSTAMP:20260422T131720Z
DESCRIPTION:
DTSTART:20260605T081500Z
DTEND:20260605T094500Z
SUMMARY:Mfi2: Vorlesung / Lecture
END:VEVENT
BEGIN:VEVENT
UID:61646464-6538-4131-a537-363833393637
DTSTAMP:20260422T131720Z
DESCRIPTION:
DTSTART:20260610T081500Z
DTEND:20260610T094500Z
SUMMARY:Mfi2: Vorlesung / Lecture
END:VEVENT
BEGIN:VEVENT
UID:38663430-3038-4366-b961-333664636432
DTSTAMP:20260422T131720Z
DESCRIPTION:
DTSTART:20260612T081500Z
DTEND:20260612T094500Z
SUMMARY:Mfi2: Vorlesung / Lecture
END:VEVENT
BEGIN:VEVENT
UID:35376164-3834-4532-a165-336563663332
DTSTAMP:20260422T131720Z
DESCRIPTION:
DTSTART:20260617T081500Z
DTEND:20260617T094500Z
SUMMARY:Mfi2: Vorlesung / Lecture
END:VEVENT
BEGIN:VEVENT
UID:61376637-3662-4165-a434-643561393939
DTSTAMP:20260422T131720Z
DESCRIPTION:
DTSTART:20260619T081500Z
DTEND:20260619T094500Z
SUMMARY:Mfi2: Vorlesung / Lecture
END:VEVENT
BEGIN:VEVENT
UID:61343464-6638-4265-b036-396531666436
DTSTAMP:20260422T131720Z
DESCRIPTION:
DTSTART:20260624T081500Z
DTEND:20260624T094500Z
SUMMARY:Mfi2: Vorlesung / Lecture
END:VEVENT
BEGIN:VEVENT
UID:62393666-3637-4631-a536-366261383762
DTSTAMP:20260422T131720Z
DESCRIPTION:
DTSTART:20260626T081500Z
DTEND:20260626T094500Z
SUMMARY:Mfi2: Vorlesung / Lecture
END:VEVENT
BEGIN:VEVENT
UID:32626138-3639-4931-a133-646638306263
DTSTAMP:20260422T131720Z
DESCRIPTION:
DTSTART:20260701T081500Z
DTEND:20260701T094500Z
SUMMARY:Mfi2: Vorlesung / Lecture
END:VEVENT
BEGIN:VEVENT
UID:30363337-3934-4466-b338-393462363564
DTSTAMP:20260422T131720Z
DESCRIPTION:
DTSTART:20260703T081500Z
DTEND:20260703T094500Z
SUMMARY:Mfi2: Vorlesung / Lecture
END:VEVENT
BEGIN:VEVENT
UID:64373138-3535-4262-b363-306230653962
DTSTAMP:20260422T131720Z
DESCRIPTION:
DTSTART:20260708T081500Z
DTEND:20260708T094500Z
SUMMARY:Mfi2: Vorlesung / Lecture
END:VEVENT
BEGIN:VEVENT
UID:34383266-3136-4431-b332-326533623363
DTSTAMP:20260422T131720Z
DESCRIPTION:
DTSTART:20260710T081500Z
DTEND:20260710T094500Z
SUMMARY:Mfi2: Vorlesung / Lecture
END:VEVENT
BEGIN:VEVENT
UID:34646437-3235-4234-b736-656662326366
DTSTAMP:20260422T131720Z
DESCRIPTION:
DTSTART:20260715T081500Z
DTEND:20260715T094500Z
SUMMARY:Mfi2: Vorlesung / Lecture
END:VEVENT
BEGIN:VEVENT
UID:35316462-3334-4535-a236-373261316531
DTSTAMP:20260422T131720Z
DESCRIPTION:
DTSTART:20260717T081500Z
DTEND:20260717T094500Z
SUMMARY:Mfi2: Vorlesung / Lecture
END:VEVENT
END:VCALENDAR
