BEGIN:VCALENDAR
VERSION:2.0
PRODID:-//134.96.226.213//NONSGML kigkonsult.se iCalcreator 2.41.92//
CALSCALE:GREGORIAN
METHOD:PUBLISH
UID:35303634-6337-4661-b133-396664343964
X-WR-CALNAME:Mathematik für Informatiker*innen II / Mathematics for Compute
 r Scientists II Calendar
X-WR-CALDESC:Events of the lecture Mathematik für Informatiker*innen II / M
 athematics for Computer Scientists II
X-WR-TIMEZONE:Europe/Berlin
BEGIN:VEVENT
UID:62363539-3962-4434-b332-363838623863
DTSTAMP:20260422T131639Z
DESCRIPTION:
DTSTART:20260408T081500Z
DTEND:20260408T094500Z
SUMMARY:Vorlesung / Lecture
END:VEVENT
BEGIN:VEVENT
UID:30646264-3863-4733-a563-356563636438
DTSTAMP:20260422T131639Z
DESCRIPTION:
DTSTART:20260410T081500Z
DTEND:20260410T094500Z
SUMMARY:Vorlesung / Lecture
END:VEVENT
BEGIN:VEVENT
UID:33383934-6162-4634-a533-666261363432
DTSTAMP:20260422T131639Z
DESCRIPTION:
DTSTART:20260415T081500Z
DTEND:20260415T094500Z
SUMMARY:Vorlesung / Lecture
END:VEVENT
BEGIN:VEVENT
UID:33353336-6131-4231-b938-343333646637
DTSTAMP:20260422T131639Z
DESCRIPTION:
DTSTART:20260417T081500Z
DTEND:20260417T094500Z
SUMMARY:Vorlesung / Lecture
END:VEVENT
BEGIN:VEVENT
UID:65393866-6332-4234-a232-383761373333
DTSTAMP:20260422T131639Z
DESCRIPTION:
DTSTART:20260422T081500Z
DTEND:20260422T094500Z
SUMMARY:Vorlesung / Lecture
END:VEVENT
BEGIN:VEVENT
UID:62363939-6566-4436-a635-613264343536
DTSTAMP:20260422T131639Z
DESCRIPTION:
DTSTART:20260424T081500Z
DTEND:20260424T094500Z
SUMMARY:Vorlesung / Lecture
END:VEVENT
BEGIN:VEVENT
UID:32303963-6363-4834-a234-643165363363
DTSTAMP:20260422T131639Z
DESCRIPTION:
DTSTART:20260429T081500Z
DTEND:20260429T094500Z
SUMMARY:Vorlesung / Lecture
END:VEVENT
BEGIN:VEVENT
UID:33323139-6565-4438-b136-656164623637
DTSTAMP:20260422T131639Z
DESCRIPTION:
DTSTART:20260506T081500Z
DTEND:20260506T094500Z
SUMMARY:Vorlesung / Lecture
END:VEVENT
BEGIN:VEVENT
UID:32643533-3566-4564-a133-646538363739
DTSTAMP:20260422T131639Z
DESCRIPTION:
DTSTART:20260508T081500Z
DTEND:20260508T094500Z
SUMMARY:Vorlesung / Lecture
END:VEVENT
BEGIN:VEVENT
UID:66636232-3532-4330-b430-643039383866
DTSTAMP:20260422T131639Z
DESCRIPTION:
DTSTART:20260513T081500Z
DTEND:20260513T094500Z
SUMMARY:Vorlesung / Lecture
END:VEVENT
BEGIN:VEVENT
UID:36306337-6264-4437-b562-616565306265
DTSTAMP:20260422T131639Z
DESCRIPTION:
DTSTART:20260515T081500Z
DTEND:20260515T094500Z
SUMMARY:Vorlesung / Lecture
END:VEVENT
BEGIN:VEVENT
UID:30636335-6630-4663-b666-646630663437
DTSTAMP:20260422T131639Z
DESCRIPTION:
DTSTART:20260520T081500Z
DTEND:20260520T094500Z
SUMMARY:Vorlesung / Lecture
END:VEVENT
BEGIN:VEVENT
UID:39323936-3365-4566-b464-313166326464
DTSTAMP:20260422T131639Z
DESCRIPTION:
DTSTART:20260522T081500Z
DTEND:20260522T094500Z
SUMMARY:Vorlesung / Lecture
END:VEVENT
BEGIN:VEVENT
UID:35313330-3366-4266-a238-616632656133
DTSTAMP:20260422T131639Z
DESCRIPTION:
DTSTART:20260527T081500Z
DTEND:20260527T094500Z
SUMMARY:Vorlesung / Lecture
END:VEVENT
BEGIN:VEVENT
UID:35306464-6634-4836-b132-303537366130
DTSTAMP:20260422T131639Z
DESCRIPTION:
DTSTART:20260529T081500Z
DTEND:20260529T094500Z
SUMMARY:Vorlesung / Lecture
END:VEVENT
BEGIN:VEVENT
UID:31353737-6436-4536-a138-326139356132
DTSTAMP:20260422T131639Z
DESCRIPTION:
DTSTART:20260603T081500Z
DTEND:20260603T094500Z
SUMMARY:Vorlesung / Lecture
END:VEVENT
BEGIN:VEVENT
UID:38653565-6639-4836-a663-306230366333
DTSTAMP:20260422T131639Z
DESCRIPTION:
DTSTART:20260605T081500Z
DTEND:20260605T094500Z
SUMMARY:Vorlesung / Lecture
END:VEVENT
BEGIN:VEVENT
UID:66343331-3238-4436-a339-333530383438
DTSTAMP:20260422T131639Z
DESCRIPTION:
DTSTART:20260610T081500Z
DTEND:20260610T094500Z
SUMMARY:Vorlesung / Lecture
END:VEVENT
BEGIN:VEVENT
UID:39613632-3361-4164-a265-383334343161
DTSTAMP:20260422T131639Z
DESCRIPTION:
DTSTART:20260612T081500Z
DTEND:20260612T094500Z
SUMMARY:Vorlesung / Lecture
END:VEVENT
BEGIN:VEVENT
UID:32643632-3064-4134-a235-316539336535
DTSTAMP:20260422T131639Z
DESCRIPTION:
DTSTART:20260617T081500Z
DTEND:20260617T094500Z
SUMMARY:Vorlesung / Lecture
END:VEVENT
BEGIN:VEVENT
UID:62323331-3230-4137-b835-346364313463
DTSTAMP:20260422T131639Z
DESCRIPTION:
DTSTART:20260619T081500Z
DTEND:20260619T094500Z
SUMMARY:Vorlesung / Lecture
END:VEVENT
BEGIN:VEVENT
UID:38323632-3338-4330-a336-663133316331
DTSTAMP:20260422T131639Z
DESCRIPTION:
DTSTART:20260624T081500Z
DTEND:20260624T094500Z
SUMMARY:Vorlesung / Lecture
END:VEVENT
BEGIN:VEVENT
UID:64636634-3435-4737-b162-316539376337
DTSTAMP:20260422T131639Z
DESCRIPTION:
DTSTART:20260626T081500Z
DTEND:20260626T094500Z
SUMMARY:Vorlesung / Lecture
END:VEVENT
BEGIN:VEVENT
UID:64643838-6163-4138-a661-646464666333
DTSTAMP:20260422T131639Z
DESCRIPTION:
DTSTART:20260701T081500Z
DTEND:20260701T094500Z
SUMMARY:Vorlesung / Lecture
END:VEVENT
BEGIN:VEVENT
UID:62623534-3263-4133-a635-616533333865
DTSTAMP:20260422T131639Z
DESCRIPTION:
DTSTART:20260703T081500Z
DTEND:20260703T094500Z
SUMMARY:Vorlesung / Lecture
END:VEVENT
BEGIN:VEVENT
UID:34343530-3164-4237-a533-623935366139
DTSTAMP:20260422T131639Z
DESCRIPTION:
DTSTART:20260708T081500Z
DTEND:20260708T094500Z
SUMMARY:Vorlesung / Lecture
END:VEVENT
BEGIN:VEVENT
UID:34343539-3937-4230-b963-393535653230
DTSTAMP:20260422T131639Z
DESCRIPTION:
DTSTART:20260710T081500Z
DTEND:20260710T094500Z
SUMMARY:Vorlesung / Lecture
END:VEVENT
BEGIN:VEVENT
UID:63363134-6634-4236-b038-303232356439
DTSTAMP:20260422T131639Z
DESCRIPTION:
DTSTART:20260715T081500Z
DTEND:20260715T094500Z
SUMMARY:Vorlesung / Lecture
END:VEVENT
BEGIN:VEVENT
UID:36303562-6561-4063-b539-646166373465
DTSTAMP:20260422T131639Z
DESCRIPTION:
DTSTART:20260717T081500Z
DTEND:20260717T094500Z
SUMMARY:Vorlesung / Lecture
END:VEVENT
END:VCALENDAR
