BEGIN:VCALENDAR
VERSION:2.0
PRODID:-//134.96.226.213//NONSGML kigkonsult.se iCalcreator 2.41.92//
CALSCALE:GREGORIAN
METHOD:PUBLISH
UID:65636639-3739-4539-b237-323062333531
X-WR-CALNAME:Mathematik für Informatiker*innen I / Mathematics for Computer
  Scientists I Calendar
X-WR-CALDESC:Events of the lecture Mathematik für Informatiker*innen I / Ma
 thematics for Computer Scientists I
X-WR-TIMEZONE:Europe/Berlin
BEGIN:VEVENT
UID:63303764-3665-4938-b032-663566326430
DTSTAMP:20260425T153948Z
DESCRIPTION:
DTSTART;VALUE=DATE:20251017
DTEND;VALUE=DATE:20251018
SUMMARY:Mfi1: Ausgabe Blatt 1 / Release Sheet 1
END:VEVENT
BEGIN:VEVENT
UID:63633131-6661-4162-b731-346665336563
DTSTAMP:20260425T153948Z
DESCRIPTION:
DTSTART;VALUE=DATE:20251022
DTEND;VALUE=DATE:20251025
SUMMARY:Mfi1: 'Logik und Beweise' / 'Logic and Proofs'
END:VEVENT
BEGIN:VEVENT
UID:37653466-3562-4333-b266-313438323761
DTSTAMP:20260425T153948Z
DESCRIPTION:
DTSTART:20251024T080000Z
DTEND:20251024T080000Z
SUMMARY:Mfi1: Abgabe Blatt 1 / Submission Sheet 1
END:VEVENT
BEGIN:VEVENT
UID:65633266-6236-4832-b763-313639633062
DTSTAMP:20260425T153948Z
DESCRIPTION:
DTSTART;VALUE=DATE:20251024
DTEND;VALUE=DATE:20251025
SUMMARY:Mfi1: Ausgabe Blatt 2 / Release Sheet 2
END:VEVENT
BEGIN:VEVENT
UID:37313037-3431-4738-a235-623061356262
DTSTAMP:20260425T153948Z
DESCRIPTION:
DTSTART;VALUE=DATE:20251029
DTEND;VALUE=DATE:20251101
SUMMARY:Mfi1: Besprechung Blatt 1 / Discussion Sheet 1
END:VEVENT
BEGIN:VEVENT
UID:62336332-3930-4335-b134-663539346565
DTSTAMP:20260425T153948Z
DESCRIPTION:
DTSTART:20251031T090000Z
DTEND:20251031T090000Z
SUMMARY:Mfi1: Abgabe Blatt 2 / Submission Sheet 2
END:VEVENT
BEGIN:VEVENT
UID:35633038-3939-4235-a464-346132326136
DTSTAMP:20260425T153948Z
DESCRIPTION:
DTSTART;VALUE=DATE:20251031
DTEND;VALUE=DATE:20251101
SUMMARY:Mfi1: Ausgabe Blatt 3 / Release Sheet 3
END:VEVENT
BEGIN:VEVENT
UID:34613764-6562-4563-b233-393437653566
DTSTAMP:20260425T153948Z
DESCRIPTION:
DTSTART;VALUE=DATE:20251105
DTEND;VALUE=DATE:20251108
SUMMARY:Mfi1: Besprechung Blatt 2 / Discussion Sheet 2
END:VEVENT
BEGIN:VEVENT
UID:31633832-3039-4133-b563-303237393436
DTSTAMP:20260425T153948Z
DESCRIPTION:
DTSTART:20251107T090000Z
DTEND:20251107T090000Z
SUMMARY:Mfi1: Abgabe Blatt 3 / Submission Sheet 3
END:VEVENT
BEGIN:VEVENT
UID:30316165-3461-4636-a535-626635326133
DTSTAMP:20260425T153948Z
DESCRIPTION:
DTSTART;VALUE=DATE:20251107
DTEND;VALUE=DATE:20251108
SUMMARY:Mfi1: Ausgabe Blatt 4 / Release Sheet 4
END:VEVENT
BEGIN:VEVENT
UID:65666437-6331-4165-b335-343030313935
DTSTAMP:20260425T153948Z
DESCRIPTION:
DTSTART;VALUE=DATE:20251112
DTEND;VALUE=DATE:20251115
SUMMARY:Mfi1: Besprechung Blatt 3 / Discussion Sheet 3
END:VEVENT
BEGIN:VEVENT
UID:64643765-3435-4461-a365-383935636432
DTSTAMP:20260425T153948Z
DESCRIPTION:
DTSTART:20251114T090000Z
DTEND:20251114T090000Z
SUMMARY:Mfi1: Abgabe Blatt 4 / Submission Sheet 4
END:VEVENT
BEGIN:VEVENT
UID:35666563-6361-4531-b234-386432383130
DTSTAMP:20260425T153948Z
DESCRIPTION:
DTSTART;VALUE=DATE:20251114
DTEND;VALUE=DATE:20251115
SUMMARY:Mfi1: Ausgabe Blatt 5 / Release Sheet 5
END:VEVENT
BEGIN:VEVENT
UID:38666632-3063-4534-a336-326533303935
DTSTAMP:20260425T153948Z
DESCRIPTION:
DTSTART;VALUE=DATE:20251119
DTEND;VALUE=DATE:20251122
SUMMARY:Mfi1: Besprechung Blatt 4 / Discussion Sheet 4
END:VEVENT
BEGIN:VEVENT
UID:62623266-6262-4737-b563-336261616364
DTSTAMP:20260425T153948Z
DESCRIPTION:
DTSTART:20251121T090000Z
DTEND:20251121T090000Z
SUMMARY:Mfi1: Abgabe Blatt 5 / Submission Sheet 5
END:VEVENT
BEGIN:VEVENT
UID:65393462-6536-4962-b363-316137633164
DTSTAMP:20260425T153948Z
DESCRIPTION:
DTSTART;VALUE=DATE:20251121
DTEND;VALUE=DATE:20251122
SUMMARY:Mfi1: Ausgabe Blatt 6 / Release Sheet 6
END:VEVENT
BEGIN:VEVENT
UID:39343731-3037-4531-b634-353566303137
DTSTAMP:20260425T153948Z
DESCRIPTION:
DTSTART;VALUE=DATE:20251126
DTEND;VALUE=DATE:20251129
SUMMARY:Mfi1: Besprechung Blatt 5 / Discussion Sheet 5
END:VEVENT
BEGIN:VEVENT
UID:61393362-3936-4264-b562-303531616539
DTSTAMP:20260425T153948Z
DESCRIPTION:
DTSTART:20251128T090000Z
DTEND:20251128T090000Z
SUMMARY:Mfi1: Abgabe Blatt 6 / Submission Sheet 6
END:VEVENT
BEGIN:VEVENT
UID:33643465-3832-4266-b838-376439616536
DTSTAMP:20260425T153948Z
DESCRIPTION:
DTSTART;VALUE=DATE:20251203
DTEND;VALUE=DATE:20251206
SUMMARY:Mfi1: Besprechung Blatt 6 / Discussion Sheet 6
END:VEVENT
BEGIN:VEVENT
UID:63393136-3438-4939-b662-376661383264
DTSTAMP:20260425T153948Z
DESCRIPTION:
DTSTART;VALUE=DATE:20251219
DTEND;VALUE=DATE:20251220
SUMMARY:Mfi1: Ausgabe Blatt 7 / Release Sheet 7
END:VEVENT
BEGIN:VEVENT
UID:37623839-6637-4138-b134-663135653766
DTSTAMP:20260425T153948Z
DESCRIPTION:
DTSTART:20260109T090000Z
DTEND:20260109T090000Z
SUMMARY:Mfi1: Abgabe Blatt 7 / Submission Sheet 7
END:VEVENT
BEGIN:VEVENT
UID:32323931-6264-4464-b133-333064333866
DTSTAMP:20260425T153948Z
DESCRIPTION:
DTSTART;VALUE=DATE:20260109
DTEND;VALUE=DATE:20260110
SUMMARY:Mfi1: Ausgabe Blatt 8 / Release Sheet 8
END:VEVENT
BEGIN:VEVENT
UID:31373366-6536-4165-a666-303237663065
DTSTAMP:20260425T153948Z
DESCRIPTION:
DTSTART;VALUE=DATE:20260114
DTEND;VALUE=DATE:20260117
SUMMARY:Mfi1: Besprechung Blatt 7 / Discussion Sheet 7
END:VEVENT
BEGIN:VEVENT
UID:61376433-6337-4562-b863-656536626231
DTSTAMP:20260425T153948Z
DESCRIPTION:
DTSTART:20260116T090000Z
DTEND:20260116T090000Z
SUMMARY:Mfi1: Abgabe Blatt 8 / Submission Sheet 8
END:VEVENT
BEGIN:VEVENT
UID:32636464-3938-4662-b038-346636343561
DTSTAMP:20260425T153948Z
DESCRIPTION:
DTSTART;VALUE=DATE:20260116
DTEND;VALUE=DATE:20260117
SUMMARY:Mfi1: Ausgabe Blatt 9 / Release Sheet 9
END:VEVENT
BEGIN:VEVENT
UID:31633033-3139-4435-b861-303465303632
DTSTAMP:20260425T153948Z
DESCRIPTION:
DTSTART;VALUE=DATE:20260121
DTEND;VALUE=DATE:20260124
SUMMARY:Mfi1: Besprechung Blatt 8 / Discussion Sheet 8
END:VEVENT
BEGIN:VEVENT
UID:65363363-3432-4864-b433-353134356334
DTSTAMP:20260425T153948Z
DESCRIPTION:
DTSTART:20260123T090000Z
DTEND:20260123T090000Z
SUMMARY:Mfi1: Abgabe Blatt 9 / Submission Sheet 9
END:VEVENT
BEGIN:VEVENT
UID:33313239-3762-4430-b264-616563643266
DTSTAMP:20260425T153948Z
DESCRIPTION:
DTSTART;VALUE=DATE:20260123
DTEND;VALUE=DATE:20260124
SUMMARY:Mfi1: Ausgabe Blatt 10 / Release Sheet 10
END:VEVENT
BEGIN:VEVENT
UID:36626630-6564-4137-a437-316135326231
DTSTAMP:20260425T153948Z
DESCRIPTION:
DTSTART;VALUE=DATE:20260128
DTEND;VALUE=DATE:20260131
SUMMARY:Mfi1: Besprechung Blatt 9 / Discussion Sheet 9
END:VEVENT
BEGIN:VEVENT
UID:33333061-3463-4335-a634-666462396335
DTSTAMP:20260425T153948Z
DESCRIPTION:
DTSTART:20260130T090000Z
DTEND:20260130T090000Z
SUMMARY:Mfi1: Abgabe Blatt 10 / Submission Sheet 10
END:VEVENT
BEGIN:VEVENT
UID:64333331-6463-4461-b464-343035633463
DTSTAMP:20260425T153948Z
DESCRIPTION:
DTSTART;VALUE=DATE:20260204
DTEND;VALUE=DATE:20260207
SUMMARY:Mfi1: Besprechung Blatt 10 / Discussion Sheet 10
END:VEVENT
END:VCALENDAR
