BEGIN:VCALENDAR
VERSION:2.0
PRODID:-//134.96.226.213//NONSGML kigkonsult.se iCalcreator 2.41.92//
CALSCALE:GREGORIAN
METHOD:PUBLISH
UID:36386632-3333-4632-a237-393439303166
X-WR-CALNAME:Mathematik für Informatiker*innen I / Mathematics for Computer
  Scientists I Calendar
X-WR-CALDESC:Events of the lecture Mathematik für Informatiker*innen I / Ma
 thematics for Computer Scientists I
X-WR-TIMEZONE:Europe/Berlin
BEGIN:VEVENT
UID:39306262-3766-4439-b738-316633366135
DTSTAMP:20260425T170142Z
DESCRIPTION:
DTSTART;VALUE=DATE:20251017
DTEND;VALUE=DATE:20251018
SUMMARY:Ausgabe Blatt 1 / Release Sheet 1
END:VEVENT
BEGIN:VEVENT
UID:64353937-3937-4061-a134-333062363331
DTSTAMP:20260425T170142Z
DESCRIPTION:
DTSTART;VALUE=DATE:20251022
DTEND;VALUE=DATE:20251025
SUMMARY:'Logik und Beweise' / 'Logic and Proofs'
END:VEVENT
BEGIN:VEVENT
UID:36323062-6462-4632-b638-613838656463
DTSTAMP:20260425T170142Z
DESCRIPTION:
DTSTART:20251024T080000Z
DTEND:20251024T080000Z
SUMMARY:Abgabe Blatt 1 / Submission Sheet 1
END:VEVENT
BEGIN:VEVENT
UID:65323063-6138-4636-b363-376566633361
DTSTAMP:20260425T170142Z
DESCRIPTION:
DTSTART;VALUE=DATE:20251024
DTEND;VALUE=DATE:20251025
SUMMARY:Ausgabe Blatt 2 / Release Sheet 2
END:VEVENT
BEGIN:VEVENT
UID:39383064-3137-4264-a239-376532313766
DTSTAMP:20260425T170142Z
DESCRIPTION:
DTSTART;VALUE=DATE:20251029
DTEND;VALUE=DATE:20251101
SUMMARY:Besprechung Blatt 1 / Discussion Sheet 1
END:VEVENT
BEGIN:VEVENT
UID:61633835-6563-4733-b732-383232316238
DTSTAMP:20260425T170142Z
DESCRIPTION:
DTSTART:20251031T090000Z
DTEND:20251031T090000Z
SUMMARY:Abgabe Blatt 2 / Submission Sheet 2
END:VEVENT
BEGIN:VEVENT
UID:66303130-6131-4663-a332-333339323930
DTSTAMP:20260425T170142Z
DESCRIPTION:
DTSTART;VALUE=DATE:20251031
DTEND;VALUE=DATE:20251101
SUMMARY:Ausgabe Blatt 3 / Release Sheet 3
END:VEVENT
BEGIN:VEVENT
UID:38363064-6431-4936-b033-613931383339
DTSTAMP:20260425T170142Z
DESCRIPTION:
DTSTART;VALUE=DATE:20251105
DTEND;VALUE=DATE:20251108
SUMMARY:Besprechung Blatt 2 / Discussion Sheet 2
END:VEVENT
BEGIN:VEVENT
UID:61306638-3030-4333-b961-393962316636
DTSTAMP:20260425T170142Z
DESCRIPTION:
DTSTART:20251107T090000Z
DTEND:20251107T090000Z
SUMMARY:Abgabe Blatt 3 / Submission Sheet 3
END:VEVENT
BEGIN:VEVENT
UID:30646331-6136-4537-b639-626665383361
DTSTAMP:20260425T170142Z
DESCRIPTION:
DTSTART;VALUE=DATE:20251107
DTEND;VALUE=DATE:20251108
SUMMARY:Ausgabe Blatt 4 / Release Sheet 4
END:VEVENT
BEGIN:VEVENT
UID:66323434-3165-4432-a362-366163623862
DTSTAMP:20260425T170142Z
DESCRIPTION:
DTSTART;VALUE=DATE:20251112
DTEND;VALUE=DATE:20251115
SUMMARY:Besprechung Blatt 3 / Discussion Sheet 3
END:VEVENT
BEGIN:VEVENT
UID:38363733-6630-4137-b933-626437626465
DTSTAMP:20260425T170142Z
DESCRIPTION:
DTSTART:20251114T090000Z
DTEND:20251114T090000Z
SUMMARY:Abgabe Blatt 4 / Submission Sheet 4
END:VEVENT
BEGIN:VEVENT
UID:66623935-3261-4234-a166-333163663039
DTSTAMP:20260425T170142Z
DESCRIPTION:
DTSTART;VALUE=DATE:20251114
DTEND;VALUE=DATE:20251115
SUMMARY:Ausgabe Blatt 5 / Release Sheet 5
END:VEVENT
BEGIN:VEVENT
UID:31306630-3462-4736-a534-373966353237
DTSTAMP:20260425T170142Z
DESCRIPTION:
DTSTART;VALUE=DATE:20251119
DTEND;VALUE=DATE:20251122
SUMMARY:Besprechung Blatt 4 / Discussion Sheet 4
END:VEVENT
BEGIN:VEVENT
UID:34333430-3863-4232-b436-343864656435
DTSTAMP:20260425T170142Z
DESCRIPTION:
DTSTART:20251121T090000Z
DTEND:20251121T090000Z
SUMMARY:Abgabe Blatt 5 / Submission Sheet 5
END:VEVENT
BEGIN:VEVENT
UID:38363264-3865-4431-b130-643537333733
DTSTAMP:20260425T170142Z
DESCRIPTION:
DTSTART;VALUE=DATE:20251121
DTEND;VALUE=DATE:20251122
SUMMARY:Ausgabe Blatt 6 / Release Sheet 6
END:VEVENT
BEGIN:VEVENT
UID:35363366-3438-4636-b066-383461353339
DTSTAMP:20260425T170142Z
DESCRIPTION:
DTSTART;VALUE=DATE:20251126
DTEND;VALUE=DATE:20251129
SUMMARY:Besprechung Blatt 5 / Discussion Sheet 5
END:VEVENT
BEGIN:VEVENT
UID:37633663-6637-4361-b661-333330346131
DTSTAMP:20260425T170142Z
DESCRIPTION:
DTSTART:20251128T090000Z
DTEND:20251128T090000Z
SUMMARY:Abgabe Blatt 6 / Submission Sheet 6
END:VEVENT
BEGIN:VEVENT
UID:30383264-6536-4136-a533-633766363031
DTSTAMP:20260425T170142Z
DESCRIPTION:
DTSTART;VALUE=DATE:20251203
DTEND;VALUE=DATE:20251206
SUMMARY:Besprechung Blatt 6 / Discussion Sheet 6
END:VEVENT
BEGIN:VEVENT
UID:34373166-6265-4130-a136-373532663365
DTSTAMP:20260425T170142Z
DESCRIPTION:
DTSTART;VALUE=DATE:20251219
DTEND;VALUE=DATE:20251220
SUMMARY:Ausgabe Blatt 7 / Release Sheet 7
END:VEVENT
BEGIN:VEVENT
UID:39623062-3062-4665-b435-313432386466
DTSTAMP:20260425T170142Z
DESCRIPTION:
DTSTART:20260109T090000Z
DTEND:20260109T090000Z
SUMMARY:Abgabe Blatt 7 / Submission Sheet 7
END:VEVENT
BEGIN:VEVENT
UID:61343035-3336-4336-b865-623261316561
DTSTAMP:20260425T170142Z
DESCRIPTION:
DTSTART;VALUE=DATE:20260109
DTEND;VALUE=DATE:20260110
SUMMARY:Ausgabe Blatt 8 / Release Sheet 8
END:VEVENT
BEGIN:VEVENT
UID:32363263-3761-4163-a232-353764303639
DTSTAMP:20260425T170142Z
DESCRIPTION:
DTSTART;VALUE=DATE:20260114
DTEND;VALUE=DATE:20260117
SUMMARY:Besprechung Blatt 7 / Discussion Sheet 7
END:VEVENT
BEGIN:VEVENT
UID:32373765-3836-4464-b238-656462383665
DTSTAMP:20260425T170142Z
DESCRIPTION:
DTSTART:20260116T090000Z
DTEND:20260116T090000Z
SUMMARY:Abgabe Blatt 8 / Submission Sheet 8
END:VEVENT
BEGIN:VEVENT
UID:34316634-6335-4030-a530-646230353263
DTSTAMP:20260425T170142Z
DESCRIPTION:
DTSTART;VALUE=DATE:20260116
DTEND;VALUE=DATE:20260117
SUMMARY:Ausgabe Blatt 9 / Release Sheet 9
END:VEVENT
BEGIN:VEVENT
UID:63333336-3130-4266-b939-343662353965
DTSTAMP:20260425T170142Z
DESCRIPTION:
DTSTART;VALUE=DATE:20260121
DTEND;VALUE=DATE:20260124
SUMMARY:Besprechung Blatt 8 / Discussion Sheet 8
END:VEVENT
BEGIN:VEVENT
UID:62666133-3830-4665-a635-346162383037
DTSTAMP:20260425T170142Z
DESCRIPTION:
DTSTART:20260123T090000Z
DTEND:20260123T090000Z
SUMMARY:Abgabe Blatt 9 / Submission Sheet 9
END:VEVENT
BEGIN:VEVENT
UID:36643839-6230-4832-a236-343061323036
DTSTAMP:20260425T170142Z
DESCRIPTION:
DTSTART;VALUE=DATE:20260123
DTEND;VALUE=DATE:20260124
SUMMARY:Ausgabe Blatt 10 / Release Sheet 10
END:VEVENT
BEGIN:VEVENT
UID:39386235-3561-4036-a665-363230303034
DTSTAMP:20260425T170142Z
DESCRIPTION:
DTSTART;VALUE=DATE:20260128
DTEND;VALUE=DATE:20260131
SUMMARY:Besprechung Blatt 9 / Discussion Sheet 9
END:VEVENT
BEGIN:VEVENT
UID:32633864-6633-4330-b330-323066633862
DTSTAMP:20260425T170142Z
DESCRIPTION:
DTSTART:20260130T090000Z
DTEND:20260130T090000Z
SUMMARY:Abgabe Blatt 10 / Submission Sheet 10
END:VEVENT
BEGIN:VEVENT
UID:35323861-6630-4330-b563-316565313533
DTSTAMP:20260425T170142Z
DESCRIPTION:
DTSTART;VALUE=DATE:20260204
DTEND;VALUE=DATE:20260207
SUMMARY:Besprechung Blatt 10 / Discussion Sheet 10
END:VEVENT
END:VCALENDAR
