BEGIN:VCALENDAR
VERSION:2.0
PRODID:-//134.96.226.213//NONSGML kigkonsult.se iCalcreator 2.41.92//
CALSCALE:GREGORIAN
METHOD:PUBLISH
UID:39653631-3463-4037-b763-346263373134
X-WR-CALNAME:Mathematik für Informatiker*innen I / Mathematics for Computer
  Scientists I Calendar
X-WR-CALDESC:Events of the lecture Mathematik für Informatiker*innen I / Ma
 thematics for Computer Scientists I
X-WR-TIMEZONE:Europe/Berlin
BEGIN:VEVENT
UID:63663265-6537-4539-a137-373930646136
DTSTAMP:20260425T170058Z
DESCRIPTION:Nähere Informationen finden Sie auf der Seite 'Übungen / Tutori
 als' im Abschnitt 'Fragestunde / Repetitorium'.\n-------------------------
 \nFurther information can be found on the page 'Übungen / Tutorials' in th
 e section 'Question time / Revision course'.
DTSTART:20251024T121500Z
DTEND:20251024T134500Z
LOCATION:Hörsaal III\, Gebäude E2 5 / Lecture hall III\, building E2 5
SUMMARY:Mfi1: Fragestunde / Question time
END:VEVENT
BEGIN:VEVENT
UID:39373339-3835-4439-b665-383337363936
DTSTAMP:20260425T170058Z
DESCRIPTION:Nähere Informationen finden Sie auf der Seite 'Übungen / Tutori
 als' im Abschnitt 'Fragestunde / Repetitorium'.\n-------------------------
 \nFurther information can be found on the page 'Übungen / Tutorials' in th
 e section 'Question time / Revision course'.
DTSTART:20251031T131500Z
DTEND:20251031T144500Z
LOCATION:Hörsaal III\, Gebäude E2 5 / Lecture hall III\, building E2 5
SUMMARY:Mfi1: Fragestunde / Question time
END:VEVENT
BEGIN:VEVENT
UID:32323931-3730-4633-a663-303437393063
DTSTAMP:20260425T170058Z
DESCRIPTION:Nähere Informationen finden Sie auf der Seite 'Übungen / Tutori
 als' im Abschnitt 'Fragestunde / Repetitorium'.\n-------------------------
 \nFurther information can be found on the page 'Übungen / Tutorials' in th
 e section 'Question time / Revision course'.
DTSTART:20251107T131500Z
DTEND:20251107T144500Z
LOCATION:Hörsaal III\, Gebäude E2 5 / Lecture hall III\, building E2 5
SUMMARY:Mfi1: Fragestunde / Question time
END:VEVENT
BEGIN:VEVENT
UID:33366638-3335-4735-b333-333736656361
DTSTAMP:20260425T170058Z
DESCRIPTION:Nähere Informationen finden Sie auf der Seite 'Übungen / Tutori
 als' im Abschnitt 'Fragestunde / Repetitorium'.\n-------------------------
 \nFurther information can be found on the page 'Übungen / Tutorials' in th
 e section 'Question time / Revision course'.
DTSTART:20251114T131500Z
DTEND:20251114T144500Z
LOCATION:Hörsaal III\, Gebäude E2 5 / Lecture hall III\, building E2 5
SUMMARY:Mfi1: Fragestunde / Question time
END:VEVENT
BEGIN:VEVENT
UID:31643564-6162-4462-b164-613433343731
DTSTAMP:20260425T170058Z
DESCRIPTION:Nähere Informationen finden Sie auf der Seite 'Übungen / Tutori
 als' im Abschnitt 'Fragestunde / Repetitorium'.\n-------------------------
 \nFurther information can be found on the page 'Übungen / Tutorials' in th
 e section 'Question time / Revision course'.
DTSTART:20251121T131500Z
DTEND:20251121T144500Z
LOCATION:Hörsaal III\, Gebäude E2 5 / Lecture hall III\, building E2 5
SUMMARY:Mfi1: Fragestunde / Question time
END:VEVENT
BEGIN:VEVENT
UID:36623866-3465-4132-b433-646162346565
DTSTAMP:20260425T170058Z
DESCRIPTION:Nähere Informationen finden Sie auf der Seite 'Übungen / Tutori
 als' im Abschnitt 'Fragestunde / Repetitorium'.\n-------------------------
 \nFurther information can be found on the page 'Übungen / Tutorials' in th
 e section 'Question time / Revision course'.
DTSTART:20251128T131500Z
DTEND:20251128T144500Z
LOCATION:Hörsaal III\, Gebäude E2 5 / Lecture hall III\, building E2 5
SUMMARY:Mfi1: Fragestunde / Question time
END:VEVENT
BEGIN:VEVENT
UID:32626134-6634-4535-b939-613261346539
DTSTAMP:20260425T170058Z
DESCRIPTION:Nähere Informationen finden Sie auf der Seite 'Übungen / Tutori
 als' im Abschnitt 'Fragestunde / Repetitorium'.\n-------------------------
 \nFurther information can be found on the page 'Übungen / Tutorials' in th
 e section 'Question time / Revision course'.
DTSTART:20251205T131500Z
DTEND:20251205T144500Z
LOCATION:Hörsaal III\, Gebäude E2 5 / Lecture hall III\, building E2 5
SUMMARY:Mfi1: Fragestunde / Question time
END:VEVENT
BEGIN:VEVENT
UID:34333631-3062-4163-a132-663638353461
DTSTAMP:20260425T170058Z
DESCRIPTION:
DTSTART:20251212T131500Z
DTEND:20251212T144500Z
LOCATION:Hörsaal III\, Gebäude E2 5 / Lecture hall III\, building E2 5
SUMMARY:Mfi1: Sprechstunde Prof. Groves / Question-and-answer session with 
 Prof. Groves
END:VEVENT
BEGIN:VEVENT
UID:63613565-6637-4964-b738-633734653936
DTSTAMP:20260425T170058Z
DESCRIPTION:Wenn Sie Ihre Klausur einsehen möchten\, melden Sie sich bitte 
 auf Ihrer persönlichen Statusseite für den von Ihnen gewünschten Termin ve
 rbindlich an. / In case that you want to inspect your exam\, please regist
 er bindingly on your personal status page for one of the slots at your pre
 ferred time.
DTSTART:20251219T130000Z
DTEND:20251219T143000Z
LOCATION:Hörsaal II\, Gebäude E2 5 / Lecture hall II\, building E2 5
SUMMARY:Mfi1: Einsicht Zwischenklausur Haupttermin / Inspection mid-term ma
 in exam
END:VEVENT
BEGIN:VEVENT
UID:63383430-6535-4136-a232-646566653565
DTSTAMP:20260425T170058Z
DESCRIPTION:Nähere Informationen finden Sie auf der Seite 'Übungen / Tutori
 als' im Abschnitt 'Fragestunde / Repetitorium'.\n-------------------------
 \nFurther information can be found on the page 'Übungen / Tutorials' in th
 e section 'Question time / Revision course'.
DTSTART:20260109T131500Z
DTEND:20260109T144500Z
LOCATION:Hörsaal III\, Gebäude E2 5 / Lecture hall III\, building E2 5
SUMMARY:Mfi1: Fragestunde / Question time
END:VEVENT
BEGIN:VEVENT
UID:66386137-3537-4835-a431-393534633036
DTSTAMP:20260425T170058Z
DESCRIPTION:Wenn Sie Ihre Klausur einsehen möchten\, melden Sie sich bitte 
 auf Ihrer persönlichen Statusseite für den von Ihnen gewünschten Termin ve
 rbindlich an. / In case that you want to inspect your exam\, please regist
 er bindingly on your personal status page for one of the slots at your pre
 ferred time.
DTSTART:20260116T130000Z
DTEND:20260116T150000Z
LOCATION:Hörsaal II\, Gebäude E2 5 / Lecture hall II\, building E2 5
SUMMARY:Mfi1: Einsicht Zwischenklausur Nachtermin / Inspection mid-term ret
 ake exam
END:VEVENT
BEGIN:VEVENT
UID:39363662-3632-4536-b464-303361306130
DTSTAMP:20260425T170058Z
DESCRIPTION:Nähere Informationen finden Sie auf der Seite 'Übungen / Tutori
 als' im Abschnitt 'Fragestunde / Repetitorium'.\n-------------------------
 \nFurther information can be found on the page 'Übungen / Tutorials' in th
 e section 'Question time / Revision course'.
DTSTART:20260123T131500Z
DTEND:20260123T144500Z
LOCATION:Hörsaal III\, Gebäude E2 5 / Lecture hall III\, building E2 5
SUMMARY:Mfi1: Fragestunde / Question time
END:VEVENT
BEGIN:VEVENT
UID:32653339-6366-4366-a637-663238653733
DTSTAMP:20260425T170058Z
DESCRIPTION:Nähere Informationen finden Sie auf der Seite 'Übungen / Tutori
 als' im Abschnitt 'Fragestunde / Repetitorium'.\n-------------------------
 \nFurther information can be found on the page 'Übungen / Tutorials' in th
 e section 'Question time / Revision course'.
DTSTART:20260130T131500Z
DTEND:20260130T144500Z
LOCATION:Hörsaal III\, Gebäude E2 5 / Lecture hall III\, building E2 5
SUMMARY:Mfi1: Fragestunde / Question time
END:VEVENT
BEGIN:VEVENT
UID:39343637-6138-4564-a464-346264663865
DTSTAMP:20260425T170058Z
DESCRIPTION:Nähere Informationen finden Sie auf der Seite 'Übungen / Tutori
 als' im Abschnitt 'Fragestunde / Repetitorium'.\n-------------------------
 \nFurther information can be found on the page 'Übungen / Tutorials' in th
 e section 'Question time / Revision course'.
DTSTART:20260206T131500Z
DTEND:20260206T144500Z
LOCATION:Hörsaal III\, Gebäude E2 5 / Lecture hall III\, building E2 5
SUMMARY:Mfi1: Fragestunde / Question time
END:VEVENT
BEGIN:VEVENT
UID:62666639-3432-4136-b364-656564393838
DTSTAMP:20260425T170058Z
DESCRIPTION:Wenn Sie Ihre Klausur einsehen möchten\, melden Sie sich bitte 
 auf Ihrer persönlichen Statusseite für den von Ihnen gewünschten Termin ve
 rbindlich an. / In case that you want to inspect your exam\, please regist
 er bindingly on your personal status page for one of the slots at your pre
 ferred time.
DTSTART:20260304T130000Z
DTEND:20260304T150000Z
LOCATION:Hörsaal 003\, Gebäude E1 3 / Lecture hall 003\, building E1 3
SUMMARY:Mfi1: Einsicht Abschlussklausur Haupttermin / Inspection end-term m
 ain exam
END:VEVENT
BEGIN:VEVENT
UID:38383835-6138-4762-b262-636663626432
DTSTAMP:20260425T170058Z
DESCRIPTION:Wenn Sie Ihre Klausur einsehen möchten\, melden Sie sich bitte 
 auf Ihrer persönlichen Statusseite für den von Ihnen gewünschten Termin ve
 rbindlich an. / In case that you want to inspect your exam\, please regist
 er bindingly on your personal status page for one of the slots at your pre
 ferred time.
DTSTART:20260325T130000Z
DTEND:20260325T140000Z
LOCATION:Hörsaal III\, Gebäude E2 5 / Lecture hall III\, building E2 5
SUMMARY:Mfi1: Einsicht Abschlussklausur Nachtermin / Inspection end-term re
 take exam
END:VEVENT
END:VCALENDAR
